From mboxrd@z Thu Jan 1 00:00:00 1970 Return-Path: Received: from mails.dpdk.org (mails.dpdk.org [217.70.189.124]) by inbox.dpdk.org (Postfix) with ESMTP id B310E48AB2 for ; Tue, 4 Nov 2025 18:18:50 +0100 (CET) Received: from mails.dpdk.org (localhost [127.0.0.1]) by mails.dpdk.org (Postfix) with ESMTP id A989740653; Tue, 4 Nov 2025 18:18:50 +0100 (CET) Received: from mail-qt1-f225.google.com (mail-qt1-f225.google.com [209.85.160.225]) by mails.dpdk.org (Postfix) with ESMTP id 4ACF340653 for ; Tue, 4 Nov 2025 18:18:49 +0100 (CET) Received: by mail-qt1-f225.google.com with SMTP id d75a77b69052e-4ecf03363c9so52189371cf.1 for ; Tue, 04 Nov 2025 09:18:49 -0800 (PST) DKIM-Signature: v=1; a=rsa-sha256; c=relaxed/relaxed; d=iol.unh.edu; s=unh-iol; t=1762276728; x=1762881528; darn=dpdk.org; h=references:in-reply-to:cc:to:from:subject:message-id:date:from:to :cc:subject:date:message-id:reply-to; bh=u3SRmA12A/8XBA13Uz9NcBE82aFzZSEHmTe+WHmhMtg=; b=fZ6buZWCtL7ekp955tBjHQ7IzKbDZjB2B5T7h5U1NbqZ3msQi0DcitvFGpyPmh/Ua8 57corK1cwr2iIWnK+dyvLvafY1QnJriZaD/Jn7QcR5i0QsPPYtbYE4Q1e0+xj7YUvnvF HIKvcVTQ5jrac0x11vcn9nHXO9KIOSVLuKPrg= X-Google-DKIM-Signature: v=1; a=rsa-sha256; c=relaxed/relaxed; d=1e100.net; s=20230601; t=1762276728; x=1762881528; h=references:in-reply-to:cc:to:from:subject:message-id:date :x-gm-message-state:from:to:cc:subject:date:message-id:reply-to; bh=u3SRmA12A/8XBA13Uz9NcBE82aFzZSEHmTe+WHmhMtg=; b=XMptDBhEYnmvCblXLpm5sU6edNIlIO+iY+KowM9W7EVJVM113mdK3hNyOqcV4CFdVI tYGAUFUmyNHPjQWGaMdTrLQXdheu0TK+nfFkCmVehZA9iqpn1Ni7lhRn3Brp7VfDdsTB 21vhu1EDr3pS4/Xj7mvqGhWWdUVSRJglHnV0Se7zu9gwU3ClHPWNTF00zuuX/PxpiAzV z3p6dm8wwcRv2fI5uwVGFRWsRTyCrAH0/GsMiwGxEMSAfQm2KKSEMxIL0I4eH4Yu0s94 4BMpNO9SFzav6Q1SRwjRsgvtIUUt0H+ddUWnkWTgEcANdQOfHJe7EYdehgL4y4CFoGps OwEw== X-Gm-Message-State: AOJu0YzuKuXuL68WMkd6NcXITGvmgEU1ei3WeZ9PXhCJtCpa6W0OJLTM L+DsymE7BEee7CY4mTdnqAbwKtPZT9OCGEuEHErEmILgdr+z2jLuIkG7ZcbxqGYfvjs1qH0gWVB uxB62maa9xG+QXm4FBeUNgirDDHvEGFKsst9XYkdsbaiU X-Gm-Gg: ASbGncvyjTY8beX5sU+ABnXbouHwlUZ7SVA4Jqjlp3FuKcRwtATLtjGJpPBEYWtMj5A d9D2IvjDRLdV2HTV/wy+9q2muPcGReuRAVWon118nlZR1G1jkDfugBxUA4EUMoMzf07ReJ1FVv/ GWsOyLrZ1n/Av8UinurzAX/VrtfLLAeHcpImKwg7++Jt2XkMgdDT0HOY3x0Kpu6Cf1hjmRJiD5G UVRXaHOMCh6oBnSiCu9pTAybYCwGi2tXgC2/t5N60dgATB5oy331gaIJb6RdXOFqS9YcKVI6AWx tkuBTi5Yk4RtpnHSoGqCXbkPxrq01mVjU0eqe+fGNd4YTL2jmF/OF95+hSU/p9U+WOBznmFKkv+ Onclwq6XkMro4Uwaa66/qwAweu0vcQkA= X-Google-Smtp-Source: AGHT+IHv7YqhQRajIZPQ57/RWpHmTvRW0zJWFhk2sp3OtvKOzpDs+O0hBjtSniY1cD1U3NMVQzkC/G2yGyqR X-Received: by 2002:a05:622a:4011:b0:4e8:ad19:99c3 with SMTP id d75a77b69052e-4ed7262b35dmr3852311cf.77.1762276728663; Tue, 04 Nov 2025 09:18:48 -0800 (PST) Received: from postal.iol.unh.edu (postal.iol.unh.edu. [132.177.123.84]) by smtp-relay.gmail.com with ESMTPS id 6a1803df08f44-88060e47e8bsm3283516d6.22.2025.11.04.09.18.48 (version=TLS1_2 cipher=ECDHE-ECDSA-AES128-GCM-SHA256 bits=128/128); Tue, 04 Nov 2025 09:18:48 -0800 (PST) X-Relaying-Domain: iol.unh.edu Date: Tue, 04 Nov 2025 09:18:48 -0800 (PST) Message-ID: <690a3578.050a0220.29bda6.218cSMTPIN_ADDED_MISSING@mx.google.com> Received: from [172.21.0.2] (unknown [172.18.0.240]) by postal.iol.unh.edu (Postfix) with ESMTP id 6BAEC6050A61; Tue, 4 Nov 2025 12:18:48 -0500 (EST) Subject: |SUCCESS| pw158422 [PATCH] eventdev: fix build with clang 21 From: dpdklab@iol.unh.edu To: Test Report Cc: dpdk-test-reports@iol.unh.edu, Jerin Jacob In-Reply-To: <20251104130820.2692144-1-david.marchand@redhat.com> References: <20251104130820.2692144-1-david.marchand@redhat.com> Content-Type: text/plain X-BeenThere: test-report@dpdk.org X-Mailman-Version: 2.1.29 Precedence: list List-Id: automatic DPDK test reports List-Unsubscribe: , List-Archive: List-Post: List-Help: List-Subscribe: , Errors-To: test-report-bounces@dpdk.org Test-Label: iol-compile-arm64-testing Test-Status: SUCCESS http://dpdk.org/patch/158422 _Testing PASS_ Submitter: David Marchand Date: Tuesday, November 04 2025 13:08:20 DPDK git baseline: Repo:dpdk-next-eventdev Branch: master CommitID:39b54f2dcf44ad1f91eabc7080cd5dea763607fd 158422 --> testing pass Upstream job id: Generic-DPDK-Compile-Meson#440622 Test environment and result as below: +------------------------------+--------------------+ | Environment | dpdk_meson_compile | +==============================+====================+ | Ubuntu 20.04 | PASS | +------------------------------+--------------------+ | Debian GNU/Linux 12 | PASS | +------------------------------+--------------------+ | Red Hat Enterprise Linux 9.5 | PASS | +------------------------------+--------------------+ | Fedora Linux 42 | PASS | +------------------------------+--------------------+ | Ubuntu 22.04 | PASS | +------------------------------+--------------------+ | Ubuntu 24.04 | PASS | +------------------------------+--------------------+ | CentOS Stream 9 | PASS | +------------------------------+--------------------+ | CentOS Stream 10 | PASS | +------------------------------+--------------------+ Ubuntu 20.04 Kernel: 5.15 Compiler: aarch64-linux-gnu-gcc gcc (Ubuntu 9.4.0-1ubuntu1~20.04.2) 9.4.0 Debian GNU/Linux 12 Kernel: 5.4 Compiler: gcc gcc (Debian 12.2.0-14+deb12u1) 12.2.0 Red Hat Enterprise Linux 9.5 Kernel: 5.4 Compiler: gcc gcc (GCC) 11.5.0 20240719 (Red Hat 11.5.0-2) Fedora Linux 42 Kernel: 5.4 Compiler: gcc gcc (GCC) 15.2.1 20250808 (Red Hat 15.2.1-1) Ubuntu 22.04 Kernel: 5.4 Compiler: gcc gcc (Ubuntu 11.4.0-1ubuntu1~22.04) 11.4.0 Ubuntu 24.04 Kernel: 5.4 Compiler: gcc gcc (Ubuntu 13.3.0-6ubuntu2~24.04) 13.3.0 CentOS Stream 9 Kernel: 5.4 Compiler: gcc gcc (GCC) 11.5.0 20240719 (Red Hat 11.5.0-11) CentOS Stream 10 Kernel: 5.4 Compiler: gcc gcc (GCC) 14.2.1 20250110 (Red Hat 14.2.1-8) To view detailed results, visit: https://lab.dpdk.org/results/dashboard/patchsets/34458/ UNH-IOL DPDK Community Lab To manage your email subscriptions, visit: https://lab.dpdk.org/results/dashboard/preferences/subscriptions/