From mboxrd@z Thu Jan 1 00:00:00 1970 Return-Path: Received: from mails.dpdk.org (mails.dpdk.org [217.70.189.124]) by inbox.dpdk.org (Postfix) with ESMTP id 6F09148AB2 for ; Tue, 4 Nov 2025 18:26:24 +0100 (CET) Received: from mails.dpdk.org (localhost [127.0.0.1]) by mails.dpdk.org (Postfix) with ESMTP id 6A3614028C; Tue, 4 Nov 2025 18:26:24 +0100 (CET) Received: from mail-ot1-f98.google.com (mail-ot1-f98.google.com [209.85.210.98]) by mails.dpdk.org (Postfix) with ESMTP id E1C904028C for ; Tue, 4 Nov 2025 18:26:22 +0100 (CET) Received: by mail-ot1-f98.google.com with SMTP id 46e09a7af769-7c531b9a45bso1500140a34.0 for ; Tue, 04 Nov 2025 09:26:22 -0800 (PST) DKIM-Signature: v=1; a=rsa-sha256; c=relaxed/relaxed; d=iol.unh.edu; s=unh-iol; t=1762277182; x=1762881982; darn=dpdk.org; h=references:in-reply-to:cc:to:from:subject:message-id:date:from:to :cc:subject:date:message-id:reply-to; bh=ca898tcuY9VGkJ308MrtH/I+OT1jU0ZKt6TtVLD5ReQ=; b=MNFRzyixLax+hMj45yV3bxCJM42ou0QJORmod016l/nA4sIk1imw77nNKRNTVS2toj ByuPoW5Mu8AcIhxRY5e1o1CbSQRZ16XPx/bLvekIy1x8mVJd2HkqXDh2/hwtZhmpTwZy 9AGf2Eb+wL8evQhWk4S00wMXPpVCAdK8bJs/c= X-Google-DKIM-Signature: v=1; a=rsa-sha256; c=relaxed/relaxed; d=1e100.net; s=20230601; t=1762277182; x=1762881982; h=references:in-reply-to:cc:to:from:subject:message-id:date :x-gm-message-state:from:to:cc:subject:date:message-id:reply-to; bh=ca898tcuY9VGkJ308MrtH/I+OT1jU0ZKt6TtVLD5ReQ=; b=dU4yggiwOw07asyObYV9bW6FyDDKwysXIP21jBaSspF6xJH3fu02z6hPk3RwewH5QP t1HtcRS8PJx8vZmDoW02nrjzmjVDtqqld5BK27pZ99Dw07u4BaUtZkO7ZAsJG/3rqvTm ru6QsjjHBQDt1qC/m97JUwT2iQgGQYTP2FE00TQ81DXqak7Qcg2GQdbq7HQC+E0/d0Y9 ruHsqcxIvukYH+VyvfhuNJKkGC7Vh/hHjxkj6puXqBiDUuHrrCot+IgWp1y7t7aXaQF2 ZXn5pxSYQItzpjzZfBlP8wbdJOpV0Sf9rmDZc7Rf5gDTS1Uy2RWccyxUOvG/mnQGhdFY 8iJA== X-Gm-Message-State: AOJu0YxEN7/r8a4EVm8QndtTZ8jEjYe5Pa+tcTaY+XXspo9GkXt9EzS8 bCT6IBIgP8hS06+yyMUQv7XAvStCrbuiJpydEddQMN41E+lgYFF2XhGd2FSOvJ6gIvg59B2vDiJ Chalzud5PMCXB2X9Wc2OIRed9bg/y9PTsUNNV/ewCsWNhN9Neq0CwbxttyOUQ X-Gm-Gg: ASbGnct+9uXugxl/T+3VULrC6a/c6Zj3UNwy91cc+FfaKoaMc5H5RUk/+oClUqUv/Px MuGlmUTr7qEJ8wq5/zfbwDaZIxSqVpP44Q7dRCeh1ujiBW3lsJeucu91Uu1vyJUDUHCtj45TJqd Means/aJa00NX+p7ngTXJwPoITFlqyJJGNmbk3oZFJh20ZTm56lO7llcyD0aog0KClh2dQedCxX ZytgG4QHwVkyk4qysIiBw1a3Mb8EH5lg7jkFAg6VnCTLQ754jw3OuF9988t3w5VBSKNtNCyACMZ EvSqfKZTdEonhZXqXP1376ccFFn6cWantr4ntg24Z/SjOUvx9usuX21a2rTcAJWrhy5jm2QBhoG kkpMmrfzt X-Google-Smtp-Source: AGHT+IHLaUbYmy/jC/TAXljHmiTJRxXLlBupXCOXBaRWz0L95kJ5UUvpzQo/vfHNCCqfbPslqKpjyRdaehw6 X-Received: by 2002:a05:6830:7302:b0:7c5:3e5f:ee83 with SMTP id 46e09a7af769-7c6d142cf20mr224559a34.19.1762277182115; Tue, 04 Nov 2025 09:26:22 -0800 (PST) Received: from postal.iol.unh.edu (postal.iol.unh.edu. [2606:4100:3880:1234::84]) by smtp-relay.gmail.com with ESMTPS id 46e09a7af769-7c6c24d7148sm262445a34.4.2025.11.04.09.26.22 (version=TLS1_2 cipher=ECDHE-ECDSA-AES128-GCM-SHA256 bits=128/128); Tue, 04 Nov 2025 09:26:22 -0800 (PST) X-Relaying-Domain: iol.unh.edu Date: Tue, 04 Nov 2025 09:26:22 -0800 (PST) Message-ID: <690a373e.050a0220.953ba.eb02SMTPIN_ADDED_MISSING@mx.google.com> Received: from [172.21.0.2] (unknown [172.18.0.240]) by postal.iol.unh.edu (Postfix) with ESMTP id 9F039604D420; Tue, 4 Nov 2025 12:26:21 -0500 (EST) Subject: |SUCCESS| pw158424-158428 [PATCH] [v4,5/5] bpf: replace use of VLA From: dpdklab@iol.unh.edu To: Test Report Cc: dpdk-test-reports@iol.unh.edu In-Reply-To: <20251104160843.304044-6-stephen@networkplumber.org> References: <20251104160843.304044-6-stephen@networkplumber.org> Content-Type: text/plain X-BeenThere: test-report@dpdk.org X-Mailman-Version: 2.1.29 Precedence: list List-Id: automatic DPDK test reports List-Unsubscribe: , List-Archive: List-Post: List-Help: List-Subscribe: , Errors-To: test-report-bounces@dpdk.org Test-Label: iol-unit-amd64-testing Test-Status: SUCCESS http://dpdk.org/patch/158428 _Testing PASS_ Submitter: Stephen Hemminger Date: Tuesday, November 04 2025 16:07:30 DPDK git baseline: Repo:dpdk Branch: master CommitID:1bdf2b3c27880f1d90df46a89d5643f20587a973 158424-158428 --> testing pass Upstream job id: Generic-VM-Unit-Test-DPDK#32285 Test environment and result as below: +-------------------------------+----------------+ | Environment | dpdk_unit_test | +===============================+================+ | CentOS Stream 9 | PASS | +-------------------------------+----------------+ | CentOS Stream 10 | PASS | +-------------------------------+----------------+ | Fedora Linux 41 | PASS | +-------------------------------+----------------+ | Fedora Linux 40 | PASS | +-------------------------------+----------------+ | Debian GNU/Linux 12 | PASS | +-------------------------------+----------------+ | Fedora Linux 42 | PASS | +-------------------------------+----------------+ | Red Hat Enterprise Linux 8.10 | PASS | +-------------------------------+----------------+ | Red Hat Enterprise Linux 9.5 | PASS | +-------------------------------+----------------+ | Ubuntu 20.04 | PASS | +-------------------------------+----------------+ | Ubuntu 22.04 | PASS | +-------------------------------+----------------+ | Ubuntu 24.04 | PASS | +-------------------------------+----------------+ | Windows Server 2022 | PASS | +-------------------------------+----------------+ CentOS Stream 9 Kernel: 5.15 Compiler: gcc gcc (GCC) 11.5.0 20240719 (Red Hat 11.5.0-11) CentOS Stream 10 Kernel: 5.15 Compiler: gcc gcc (GCC) 14.2.1 20250110 (Red Hat 14.2.1-8) Fedora Linux 41 Kernel: 5.15 Compiler: clang gcc (GCC) 14.3.1 20250523 (Red Hat 14.3.1-1) Fedora Linux 40 Kernel: 5.15 Compiler: gcc gcc (GCC) 14.2.1 20240912 (Red Hat 14.2.1-3) Debian GNU/Linux 12 Kernel: 5.15 Compiler: gcc gcc (Debian 12.2.0-14+deb12u1) 12.2.0 Fedora Linux 42 Kernel: 5.15 Compiler: gcc gcc (GCC) 15.2.1 20250808 (Red Hat 15.2.1-1) Red Hat Enterprise Linux 8.10 Kernel: 5.15 Compiler: gcc gcc (GCC) 8.5.0 20210514 (Red Hat 8.5.0-22) Red Hat Enterprise Linux 9.5 Kernel: 5.15 Compiler: gcc gcc (GCC) 11.5.0 20240719 (Red Hat 11.5.0-2) Ubuntu 20.04 Kernel: 5.15 Compiler: gcc gcc (Ubuntu 9.4.0-1ubuntu1~20.04.2) 9.4.0 Ubuntu 22.04 Kernel: 5.15 Compiler: gcc gcc (Ubuntu 11.4.0-1ubuntu1~22.04) 11.4.0 Ubuntu 24.04 Kernel: 5.15 Compiler: gcc gcc (Ubuntu 13.3.0-6ubuntu2~24.04) 13.3.0 Windows Server 2022 Kernel: 10.0.20348.2031 Compiler: clang 15.0.7, gcc 14.1.0 (MinGW), and MSVC VS 19.39.33521 To view detailed results, visit: https://lab.dpdk.org/results/dashboard/patchsets/34461/ UNH-IOL DPDK Community Lab To manage your email subscriptions, visit: https://lab.dpdk.org/results/dashboard/preferences/subscriptions/