From mboxrd@z Thu Jan 1 00:00:00 1970 Return-Path: Received: from mails.dpdk.org (mails.dpdk.org [217.70.189.124]) by inbox.dpdk.org (Postfix) with ESMTP id 996D348AB2 for ; Tue, 4 Nov 2025 18:33:49 +0100 (CET) Received: from mails.dpdk.org (localhost [127.0.0.1]) by mails.dpdk.org (Postfix) with ESMTP id 78A35402DD; Tue, 4 Nov 2025 18:33:49 +0100 (CET) Received: from mail-yx1-f100.google.com (mail-yx1-f100.google.com [74.125.224.100]) by mails.dpdk.org (Postfix) with ESMTP id 2E4B9402DD for ; Tue, 4 Nov 2025 18:33:48 +0100 (CET) Received: by mail-yx1-f100.google.com with SMTP id 956f58d0204a3-63fca769163so875270d50.2 for ; Tue, 04 Nov 2025 09:33:48 -0800 (PST) DKIM-Signature: v=1; a=rsa-sha256; c=relaxed/relaxed; d=iol.unh.edu; s=unh-iol; t=1762277627; x=1762882427; darn=dpdk.org; h=references:in-reply-to:cc:to:from:subject:message-id:date:from:to :cc:subject:date:message-id:reply-to; bh=RLZ9VjCWODp1T0yjTPoJMnWeKmEVxvmuFZ4s22bMY6A=; b=PD8vGk0704rRSlcrlZY4VmQ2QXfsCYPl9hgmld6gRqKYiuoLtnWTdHs6JwB2Goi3xl QIqkyW1EMxIuejeq/lZMfPjk4OXkr5RiOosb3z8KGn1nprn++8Fr37gGCW9LU14bJRQ+ in403jnNv2niK9hfKvFHp1hKkUeNT/HGMvBUs= X-Google-DKIM-Signature: v=1; a=rsa-sha256; c=relaxed/relaxed; d=1e100.net; s=20230601; t=1762277627; x=1762882427; h=references:in-reply-to:cc:to:from:subject:message-id:date :x-gm-message-state:from:to:cc:subject:date:message-id:reply-to; bh=RLZ9VjCWODp1T0yjTPoJMnWeKmEVxvmuFZ4s22bMY6A=; b=gZCPH1i7LgfkJ+jx/+pMzWJXT5s85z3FYQWFRHCnMlOFs29A0l0U0yl7B8oNCcprAV WSDGuaWm0TIFZ8eRNVf4qIenyCOfMdwCDPCZbmlMhchDxpHcfu7tYW6iI/A0Nf3PInYa YZywP8g4adZEW/z1exKUraTFzefqXKh1qvOOiPA2iz2quXhO3lIhRbZxGsRhw4xuRI0v l2R1HDGKU/AydO+zCwscy66RzvDGI5P3KC5poWl1iUbWo/H2FmQ9WSSIaO0TFvZoM5vF jNkBHVwEa4+MHuIY72k8WfT6LG2CQub/DcSzCrR6M4aMTAAgIgHorcW5o2NAlwZ2v4aW 0DWA== X-Gm-Message-State: AOJu0Yw7k8+lAFrDR5aFcL6nUlhQL0l55Dxtwf+orsoZhFNHZ4Hvx9j8 /LjCzd0UJVqPLH9MQOl9PKjt+w5CzuqrhPEtwF2KZNtSgxxoYsfLGt3yrDeiYrY9cFY/REiEFHb /dewOLfQYg48+nXiuQCUs4/FIFVNQIyTNKlSjT4FByrPB X-Gm-Gg: ASbGncsJ1UqoCd9qYk8W2jTutOZFklarEq2YmTZgfoSQcDuseedzYp+Th7fj8K+96vD OkO3+FTQb+F9b+xgITAoCQ+IdtSVE5PTcT4CATxHZG6hDOSjtLUfpmO8+vTd7mCSaKaHB7Cjr8O 2uTRW6Rz9KgU2SyfL1DtsrR0bytZOKBwOwLsoLwdJ/nysgizYNl6JpPFlLTU1y1vVNfAgU8iynf LLhKsjdjdGtjT3+BwT1B0bSYjbBl3u8PaK9SuvBg5gJR+I2pcG7bCxtpi4bzUZZK2kdAs7HGCZE JJfAWqp0ApX7+eWCeyOYxXSi45eSwnUw7l+u11bdvB0DtarXS1ZwAHoPTxX5YzwDVSSc0wCp3KH iKP27fyeAz7tPcnO2Dttn9LqqvDREKz4= X-Google-Smtp-Source: AGHT+IGELzRwXbdrY+flWd1lQZiYe214iCU1SJLV6IcTKp5LLNJEd3udymlcaxczJoa8bAvx3CA4vE6zm4Pc X-Received: by 2002:a05:690e:158d:20b0:633:a260:14a1 with SMTP id 956f58d0204a3-63fd34cd1fcmr236862d50.18.1762277627302; Tue, 04 Nov 2025 09:33:47 -0800 (PST) Received: from postal.iol.unh.edu (postal.iol.unh.edu. [132.177.123.84]) by smtp-relay.gmail.com with ESMTPS id 956f58d0204a3-63fc949abbbsm172381d50.7.2025.11.04.09.33.47 (version=TLS1_2 cipher=ECDHE-ECDSA-AES128-GCM-SHA256 bits=128/128); Tue, 04 Nov 2025 09:33:47 -0800 (PST) X-Relaying-Domain: iol.unh.edu Date: Tue, 04 Nov 2025 09:33:47 -0800 (PST) Message-ID: <690a38fb.050a0220.2a73ad.9770SMTPIN_ADDED_MISSING@mx.google.com> Received: from [172.21.0.2] (unknown [172.18.0.240]) by postal.iol.unh.edu (Postfix) with ESMTP id E58CC60003E8; Tue, 4 Nov 2025 12:33:46 -0500 (EST) Subject: |SUCCESS| pw158424-158428 [PATCH] [v4,5/5] bpf: replace use of VLA From: dpdklab@iol.unh.edu To: Test Report Cc: dpdk-test-reports@iol.unh.edu In-Reply-To: <20251104160843.304044-6-stephen@networkplumber.org> References: <20251104160843.304044-6-stephen@networkplumber.org> Content-Type: text/plain X-BeenThere: test-report@dpdk.org X-Mailman-Version: 2.1.29 Precedence: list List-Id: automatic DPDK test reports List-Unsubscribe: , List-Archive: List-Post: List-Help: List-Subscribe: , Errors-To: test-report-bounces@dpdk.org Test-Label: iol-unit-amd64-testing Test-Status: SUCCESS http://dpdk.org/patch/158428 _Testing PASS_ Submitter: Stephen Hemminger Date: Tuesday, November 04 2025 16:07:30 DPDK git baseline: Repo:dpdk Branch: master CommitID:1bdf2b3c27880f1d90df46a89d5643f20587a973 158424-158428 --> testing pass Upstream job id: Generic-VM-Unit-Test-DPDK#32286 Test environment and result as below: +-------------------------------+----------------+ | Environment | dpdk_unit_test | +===============================+================+ | CentOS Stream 9 | PASS | +-------------------------------+----------------+ | CentOS Stream 10 | PASS | +-------------------------------+----------------+ | Fedora Linux 41 | PASS | +-------------------------------+----------------+ | Fedora Linux 40 | PASS | +-------------------------------+----------------+ | Debian GNU/Linux 12 | PASS | +-------------------------------+----------------+ | Fedora Linux 42 | PASS | +-------------------------------+----------------+ | Red Hat Enterprise Linux 8.10 | PASS | +-------------------------------+----------------+ | Red Hat Enterprise Linux 9.5 | PASS | +-------------------------------+----------------+ | Ubuntu 20.04 | PASS | +-------------------------------+----------------+ | Ubuntu 22.04 | PASS | +-------------------------------+----------------+ | Ubuntu 24.04 | PASS | +-------------------------------+----------------+ | Windows Server 2022 | PASS | +-------------------------------+----------------+ CentOS Stream 9 Kernel: 5.15 Compiler: gcc gcc (GCC) 11.5.0 20240719 (Red Hat 11.5.0-11) CentOS Stream 10 Kernel: 5.15 Compiler: gcc gcc (GCC) 14.2.1 20250110 (Red Hat 14.2.1-8) Fedora Linux 41 Kernel: 5.15 Compiler: clang gcc (GCC) 14.3.1 20250523 (Red Hat 14.3.1-1) Fedora Linux 40 Kernel: 5.15 Compiler: gcc gcc (GCC) 14.2.1 20240912 (Red Hat 14.2.1-3) Debian GNU/Linux 12 Kernel: 5.15 Compiler: gcc gcc (Debian 12.2.0-14+deb12u1) 12.2.0 Fedora Linux 42 Kernel: 5.15 Compiler: gcc gcc (GCC) 15.2.1 20250808 (Red Hat 15.2.1-1) Red Hat Enterprise Linux 8.10 Kernel: 5.15 Compiler: gcc gcc (GCC) 8.5.0 20210514 (Red Hat 8.5.0-22) Red Hat Enterprise Linux 9.5 Kernel: 5.15 Compiler: gcc gcc (GCC) 11.5.0 20240719 (Red Hat 11.5.0-2) Ubuntu 20.04 Kernel: 5.15 Compiler: gcc gcc (Ubuntu 9.4.0-1ubuntu1~20.04.2) 9.4.0 Ubuntu 22.04 Kernel: 5.15 Compiler: gcc gcc (Ubuntu 11.4.0-1ubuntu1~22.04) 11.4.0 Ubuntu 24.04 Kernel: 5.15 Compiler: gcc gcc (Ubuntu 13.3.0-6ubuntu2~24.04) 13.3.0 Windows Server 2022 Kernel: 10.0.20348.2031 Compiler: clang 15.0.7, gcc 14.1.0 (MinGW), and MSVC VS 19.39.33521 To view detailed results, visit: https://lab.dpdk.org/results/dashboard/patchsets/34461/ UNH-IOL DPDK Community Lab To manage your email subscriptions, visit: https://lab.dpdk.org/results/dashboard/preferences/subscriptions/