From mboxrd@z Thu Jan 1 00:00:00 1970 Return-Path: Received: from mails.dpdk.org (mails.dpdk.org [217.70.189.124]) by inbox.dpdk.org (Postfix) with ESMTP id 2ECD948AB2 for ; Tue, 4 Nov 2025 18:41:29 +0100 (CET) Received: from mails.dpdk.org (localhost [127.0.0.1]) by mails.dpdk.org (Postfix) with ESMTP id 2209C4065B; Tue, 4 Nov 2025 18:41:29 +0100 (CET) Received: from mail-qv1-f97.google.com (mail-qv1-f97.google.com [209.85.219.97]) by mails.dpdk.org (Postfix) with ESMTP id 4A93D4060B for ; Tue, 4 Nov 2025 18:41:27 +0100 (CET) Received: by mail-qv1-f97.google.com with SMTP id 6a1803df08f44-88056cab4eeso16797496d6.2 for ; Tue, 04 Nov 2025 09:41:27 -0800 (PST) DKIM-Signature: v=1; a=rsa-sha256; c=relaxed/relaxed; d=iol.unh.edu; s=unh-iol; t=1762278086; x=1762882886; darn=dpdk.org; h=references:in-reply-to:cc:to:from:subject:message-id:date:from:to :cc:subject:date:message-id:reply-to; bh=gIIHfLLBrL1P6ns/ki/XyLWBdfxBahlsBKhBsUghvD4=; b=gXtifMkeyNPGq450+GfucY2vNJx8UfDiNeHFtxBdLL5YvLg2+pEzfJ/p/LLZA0DKs+ FTjUA85wKGilXFcCY66MCepCWYy0kdlWwT9uWSHSWCrA6u0o8flKaEKDV2lZC58ewhPn CsUO+y7SSQfQAWrtNRtli1gA8ygjXXKXHjuZ8= X-Google-DKIM-Signature: v=1; a=rsa-sha256; c=relaxed/relaxed; d=1e100.net; s=20230601; t=1762278086; x=1762882886; h=references:in-reply-to:cc:to:from:subject:message-id:date :x-gm-message-state:from:to:cc:subject:date:message-id:reply-to; bh=gIIHfLLBrL1P6ns/ki/XyLWBdfxBahlsBKhBsUghvD4=; b=wfdEQ2maCOFfkWD5lUqtCsfJKv7mr0pdLuk5qmujKN/fGj5kSUxzd2Do2v8+1uUCkK 5yR5eZaUs1xj+Ft8sZ5lfsR9QDsnrCibflv72CiBxqWhJwtDSjVuc9gNPoIqMcrIyeS9 kbVvTHZeJpvY3D7odXYkctIXpSck1n4IGXAS6pkcCBYhDnQEFN9NlsU/LHuagYxce3Bs ddUWivBZU+wzZ5+/vyYTwoALhFHV/iFIyOALyFLDQ3+8qVvZVB/eYvjSa+F9z+nmW3XN R5hU94McWVnusfNY5rUcbFaknXIoHi4y6DhXGIRZPN0ZdKo9GZye+InkkQz7nBSWre69 fEsw== X-Gm-Message-State: AOJu0YywRwTYhL9SlNnoxeBvPLzDYbnZXmI1yYRnt5E8l+53jmDnP0Jb wYZstqpwduqbIdg1ipqLsKyRlFoJKpjcbDWHxlK8xCCNhYEEVkjCBhFQksJGKSrsSwvcaE1uMmt 6dUZQ6n3VJ6w/mt1rd1jFlQRCkhVgPPQ0osf6Up2i9A6j901AqqP3aVlGBPMI X-Gm-Gg: ASbGncsFiSsxU07SfOwDpIUAN388DRV5cVWz+SYQRlQ69wMS8CnvjR7MG+RSG0OrzjG xWARhyv1xXnOMycCeiDLAguDY7cXPJHjgNWNz2s5o8AW0hBXSNl36AsxhAbQ8k6J+doGxtCEN3q JNgUWBGKN7aCHr2eJVoyjuPrTPcJ8RRRu8DY6ecm4XHkyJtknhNlU2754/rQPTmtfyZU5jcSjHA OOE0pw9PUTZfF5LeMqXUoAGrbZEIpONNGArtL1VksA6z275JppAEZ8LyzBXtscBrWB3jeha26g6 3/p4MN5GuKzoNvfa6JX4qCVksxt0GXZgu74FJqfA1FoiYfsF/WlCddi7CgGBLZUSu6go6WKRnSF vVldgFUsO X-Google-Smtp-Source: AGHT+IHIBr7e9OjrbcVOsi/WxSs51GBuxrAFoiEaOIDxnvoMPLgoslIXPGf1aS6E1u7OUXUp4pnwEf8hh6K9 X-Received: by 2002:ad4:5946:0:b0:880:2254:36a2 with SMTP id 6a1803df08f44-880711a8addmr6098886d6.64.1762278086592; Tue, 04 Nov 2025 09:41:26 -0800 (PST) Received: from postal.iol.unh.edu (postal.iol.unh.edu. [2606:4100:3880:1234::84]) by smtp-relay.gmail.com with ESMTPS id 6a1803df08f44-88060da8ac9sm3132096d6.5.2025.11.04.09.41.26 (version=TLS1_2 cipher=ECDHE-ECDSA-AES128-GCM-SHA256 bits=128/128); Tue, 04 Nov 2025 09:41:26 -0800 (PST) X-Relaying-Domain: iol.unh.edu Date: Tue, 04 Nov 2025 09:41:26 -0800 (PST) Message-ID: <690a3ac6.d40a0220.224d63.12e9SMTPIN_ADDED_MISSING@mx.google.com> Received: from [172.21.0.2] (unknown [172.18.0.240]) by postal.iol.unh.edu (Postfix) with ESMTP id 46BF96051830; Tue, 4 Nov 2025 12:41:26 -0500 (EST) Subject: |SUCCESS| pw158421 [PATCH] rawdev: fix build with clang 21 From: dpdklab@iol.unh.edu To: Test Report Cc: dpdk-test-reports@iol.unh.edu In-Reply-To: <20251104130808.2692053-1-david.marchand@redhat.com> References: <20251104130808.2692053-1-david.marchand@redhat.com> Content-Type: text/plain X-BeenThere: test-report@dpdk.org X-Mailman-Version: 2.1.29 Precedence: list List-Id: automatic DPDK test reports List-Unsubscribe: , List-Archive: List-Post: List-Help: List-Subscribe: , Errors-To: test-report-bounces@dpdk.org Test-Label: iol-compile-arm64-testing Test-Status: SUCCESS http://dpdk.org/patch/158421 _Testing PASS_ Submitter: David Marchand Date: Tuesday, November 04 2025 13:08:08 DPDK git baseline: Repo:dpdk Branch: master CommitID:1bdf2b3c27880f1d90df46a89d5643f20587a973 158421 --> testing pass Upstream job id: Generic-DPDK-Compile-Meson#440649 Test environment and result as below: +------------------------------+--------------------+ | Environment | dpdk_meson_compile | +==============================+====================+ | Ubuntu 20.04 | PASS | +------------------------------+--------------------+ | Red Hat Enterprise Linux 9.5 | PASS | +------------------------------+--------------------+ | Debian GNU/Linux 12 | PASS | +------------------------------+--------------------+ | Fedora Linux 42 | PASS | +------------------------------+--------------------+ | Ubuntu 22.04 | PASS | +------------------------------+--------------------+ | Ubuntu 24.04 | PASS | +------------------------------+--------------------+ | CentOS Stream 9 | PASS | +------------------------------+--------------------+ | CentOS Stream 10 | PASS | +------------------------------+--------------------+ Ubuntu 20.04 Kernel: 5.15 Compiler: aarch64-linux-gnu-gcc gcc (Ubuntu 9.4.0-1ubuntu1~20.04.2) 9.4.0 Red Hat Enterprise Linux 9.5 Kernel: 5.4 Compiler: gcc gcc (GCC) 11.5.0 20240719 (Red Hat 11.5.0-2) Debian GNU/Linux 12 Kernel: 5.4 Compiler: gcc gcc (Debian 12.2.0-14+deb12u1) 12.2.0 Fedora Linux 42 Kernel: 5.4 Compiler: clang gcc (GCC) 15.2.1 20250808 (Red Hat 15.2.1-1) Ubuntu 22.04 Kernel: 5.4 Compiler: gcc gcc (Ubuntu 11.4.0-1ubuntu1~22.04) 11.4.0 Ubuntu 24.04 Kernel: 5.4 Compiler: gcc gcc (Ubuntu 13.3.0-6ubuntu2~24.04) 13.3.0 CentOS Stream 9 Kernel: 5.4 Compiler: gcc gcc (GCC) 11.5.0 20240719 (Red Hat 11.5.0-11) CentOS Stream 10 Kernel: 5.4 Compiler: gcc gcc (GCC) 14.2.1 20250110 (Red Hat 14.2.1-8) To view detailed results, visit: https://lab.dpdk.org/results/dashboard/patchsets/34459/ UNH-IOL DPDK Community Lab To manage your email subscriptions, visit: https://lab.dpdk.org/results/dashboard/preferences/subscriptions/