From mboxrd@z Thu Jan 1 00:00:00 1970 Return-Path: Received: from mails.dpdk.org (mails.dpdk.org [217.70.189.124]) by inbox.dpdk.org (Postfix) with ESMTP id 029C448AB2 for ; Tue, 4 Nov 2025 19:59:13 +0100 (CET) Received: from mails.dpdk.org (localhost [127.0.0.1]) by mails.dpdk.org (Postfix) with ESMTP id D9C6C40269; Tue, 4 Nov 2025 19:59:13 +0100 (CET) Received: from mail-qv1-f100.google.com (mail-qv1-f100.google.com [209.85.219.100]) by mails.dpdk.org (Postfix) with ESMTP id 459D140269 for ; Tue, 4 Nov 2025 19:59:13 +0100 (CET) Received: by mail-qv1-f100.google.com with SMTP id 6a1803df08f44-8804f1bd6a7so26052986d6.2 for ; Tue, 04 Nov 2025 10:59:13 -0800 (PST) DKIM-Signature: v=1; a=rsa-sha256; c=relaxed/relaxed; d=iol.unh.edu; s=unh-iol; t=1762282752; x=1762887552; darn=dpdk.org; h=references:in-reply-to:cc:to:from:subject:message-id:date:from:to :cc:subject:date:message-id:reply-to; bh=/Sy7mLWoxBOm8ak4qawEeh+7lLTmMd3Tx/A/h9ggHg4=; b=ecpM2/PXxBoa8KyyN+SA8toyMUWnUTRfpDJvp2YUDmA6XOP2jGl4WXvulQXuKoCRsJ PQe9i91HGMkq1F3YNYenqt28XmENTuKzLUH4s3TqedaLdFi+LMGdqXE6e6+NLTlNFR6U 0F4Mu4aa5BEcaggTLgUw3tUwt1hupurg5RyEQ= X-Google-DKIM-Signature: v=1; a=rsa-sha256; c=relaxed/relaxed; d=1e100.net; s=20230601; t=1762282752; x=1762887552; h=references:in-reply-to:cc:to:from:subject:message-id:date :x-gm-message-state:from:to:cc:subject:date:message-id:reply-to; bh=/Sy7mLWoxBOm8ak4qawEeh+7lLTmMd3Tx/A/h9ggHg4=; b=BDRO691Ld2g1Rf120x34mzI9DAFXAB+7mqs8+0BuA4k2r44/YEQdeUuSgGx5K3gZbv HVxk84RNv7gVfavkiTnn1/tkIWFl/iF8cBfFyA4nRqMr1gbAPTmp8/P0opH5bVoJNWWm yRbZkhzVIVBO1HFJVgsifs5kIy2hzsms3YJ68Cd92vZKZY5F4ecea8pRcsgcznPz5ZHn q5lHWEYXU8xF53iDb1ffUbLs660XtvQGpP5xje26Y0FGfWVjIvIkQaZhF40feROddgnZ EYF5hfLr8XN3a09jimkt4eUn71q+0Z83EAZjaHLOT3OyI9rw1/XSZ/3boPm9Lz3IwSew h1Pw== X-Gm-Message-State: AOJu0YyHOeMMKHpJM/6onxbjjcMU0kUiUmTwpZZgRyUgXsPkTFWEP0Nn 1bv+863UtdcsxF9UoANoefL30Hb398Jl9JSJwsvvolh/OIr2RTGqvACQABEKDX31PS03p0kemTY cuXqXm0C3z3ApYqeslM02j983Aiab/DJWMeHvDcNgWWFW X-Gm-Gg: ASbGncsXk/w4WYcjAoJcTNpHaq+tLkYDgKBVZ2MCHF9X4ZXC+I9BCGwSFIXkkIVvXWt D4i+DDG9MJVNd+qSX7Jmy/YZRrsGE/gxYFR1yRUJoQLZnTkqG0MuMcUZNoNEJWE8QWgL+JuFKzw 5dVNc1XhzBVuBHdg55/FQ0VyvyhNtSH+ArZlAef/qorhaJ1MJNM9/wvnX8EnmzkrFLP1HH9TeIP 0yr6URo93IYQHy1CawyKMpxvhsQmuzB6Mq5vnWgHzJ1ALeldV7uvCy5GORdoQ5Q+Z9ks2ITxZYc w1I1KvolufpxLLEm7RQ6YJpMHfcevqAUcdtFbCvj7ObMNShp/sdZSks8VvwSsP3r9c8x8F/5yks tKdtWmCjyit1LYObgMwGh59AmO+dPTgw= X-Google-Smtp-Source: AGHT+IG7BggCz1CDsXwp4A43Db9HtrsREfYxCPp/Ir0gPVKqTdinGB78f/EBNY+EHDKyr+d8RM5kzmjB5ipk X-Received: by 2002:a05:6214:240c:b0:87c:651:da29 with SMTP id 6a1803df08f44-880711b533emr9629906d6.35.1762282752634; Tue, 04 Nov 2025 10:59:12 -0800 (PST) Received: from postal.iol.unh.edu (postal.iol.unh.edu. [132.177.123.84]) by smtp-relay.gmail.com with ESMTPS id 6a1803df08f44-88060da8ab3sm3428526d6.3.2025.11.04.10.59.12 (version=TLS1_2 cipher=ECDHE-ECDSA-AES128-GCM-SHA256 bits=128/128); Tue, 04 Nov 2025 10:59:12 -0800 (PST) X-Relaying-Domain: iol.unh.edu Date: Tue, 04 Nov 2025 10:59:12 -0800 (PST) Message-ID: <690a4d00.050a0220.28cf2b.2b4cSMTPIN_ADDED_MISSING@mx.google.com> Received: from [172.21.0.2] (unknown [172.18.0.240]) by postal.iol.unh.edu (Postfix) with ESMTP id 5AA74604D420; Tue, 4 Nov 2025 13:59:12 -0500 (EST) Subject: |SUCCESS| pw158423 [PATCH] [v2] net/ixgbe: add E610 NIC speed suppor From: dpdklab@iol.unh.edu To: Test Report Cc: dpdk-test-reports@iol.unh.edu, Bruce Richardson In-Reply-To: <20251104150113.729184-1-shaiq.wani@intel.com> References: <20251104150113.729184-1-shaiq.wani@intel.com> Content-Type: text/plain X-BeenThere: test-report@dpdk.org X-Mailman-Version: 2.1.29 Precedence: list List-Id: automatic DPDK test reports List-Unsubscribe: , List-Archive: List-Post: List-Help: List-Subscribe: , Errors-To: test-report-bounces@dpdk.org Test-Label: iol-compile-arm64-testing Test-Status: SUCCESS http://dpdk.org/patch/158423 _Testing PASS_ Submitter: Shaiq Wani Date: Tuesday, November 04 2025 15:01:13 DPDK git baseline: Repo:dpdk-next-net-intel Branch: master CommitID:8e643757cffa481f010280c86e15d8a4a820e639 158423 --> testing pass Upstream job id: Generic-DPDK-Compile-Meson#440676 Test environment and result as below: +------------------------------+--------------------+ | Environment | dpdk_meson_compile | +==============================+====================+ | Ubuntu 20.04 | PASS | +------------------------------+--------------------+ | Red Hat Enterprise Linux 9.5 | PASS | +------------------------------+--------------------+ | Debian GNU/Linux 12 | PASS | +------------------------------+--------------------+ | Ubuntu 22.04 | PASS | +------------------------------+--------------------+ | Fedora Linux 42 | PASS | +------------------------------+--------------------+ | Ubuntu 24.04 | PASS | +------------------------------+--------------------+ | CentOS Stream 9 | PASS | +------------------------------+--------------------+ | CentOS Stream 10 | PASS | +------------------------------+--------------------+ Ubuntu 20.04 Kernel: 5.15 Compiler: aarch64-linux-gnu-gcc gcc (Ubuntu 9.4.0-1ubuntu1~20.04.2) 9.4.0 Red Hat Enterprise Linux 9.5 Kernel: 5.4 Compiler: gcc gcc (GCC) 11.5.0 20240719 (Red Hat 11.5.0-2) Debian GNU/Linux 12 Kernel: 5.4 Compiler: gcc gcc (Debian 12.2.0-14+deb12u1) 12.2.0 Ubuntu 22.04 Kernel: 5.4 Compiler: gcc gcc (Ubuntu 11.4.0-1ubuntu1~22.04) 11.4.0 Fedora Linux 42 Kernel: 5.4 Compiler: gcc gcc (GCC) 15.2.1 20250808 (Red Hat 15.2.1-1) Ubuntu 24.04 Kernel: 5.4 Compiler: gcc gcc (Ubuntu 13.3.0-6ubuntu2~24.04) 13.3.0 CentOS Stream 9 Kernel: 5.4 Compiler: gcc gcc (GCC) 11.5.0 20240719 (Red Hat 11.5.0-11) CentOS Stream 10 Kernel: 5.4 Compiler: gcc gcc (GCC) 14.2.1 20250110 (Red Hat 14.2.1-8) To view detailed results, visit: https://lab.dpdk.org/results/dashboard/patchsets/34460/ UNH-IOL DPDK Community Lab To manage your email subscriptions, visit: https://lab.dpdk.org/results/dashboard/preferences/subscriptions/