From mboxrd@z Thu Jan 1 00:00:00 1970 Return-Path: Received: from mails.dpdk.org (mails.dpdk.org [217.70.189.124]) by inbox.dpdk.org (Postfix) with ESMTP id D973548AB3 for ; Tue, 4 Nov 2025 20:08:52 +0100 (CET) Received: from mails.dpdk.org (localhost [127.0.0.1]) by mails.dpdk.org (Postfix) with ESMTP id D410540269; Tue, 4 Nov 2025 20:08:52 +0100 (CET) Received: from mail-il1-f228.google.com (mail-il1-f228.google.com [209.85.166.228]) by mails.dpdk.org (Postfix) with ESMTP id B7C1F40269 for ; Tue, 4 Nov 2025 20:08:51 +0100 (CET) Received: by mail-il1-f228.google.com with SMTP id e9e14a558f8ab-4330ef18daeso16899755ab.3 for ; Tue, 04 Nov 2025 11:08:51 -0800 (PST) DKIM-Signature: v=1; a=rsa-sha256; c=relaxed/relaxed; d=iol.unh.edu; s=unh-iol; t=1762283331; x=1762888131; darn=dpdk.org; h=references:in-reply-to:cc:to:from:subject:message-id:date:from:to :cc:subject:date:message-id:reply-to; bh=lJQUWvQnxd61pZq9oUgrbcleN3BzYGCx/9Om1MB3UfA=; b=P1rhK5jY1mWhMdUH8mmKKMx2xHwhBZfPXnoJt6bj89PQGzNKngSZecqBsEiPnGAPMT ZHV9vdEdlC/xvH0MPM6TONKllKq0rIVieDTInkvXaqJpPjEtS5UoD2NfLojIIgvfW3RT fFV5LX2CW+nkI+u/Nc8wNm4MeLr91u+hIYodo= X-Google-DKIM-Signature: v=1; a=rsa-sha256; c=relaxed/relaxed; d=1e100.net; s=20230601; t=1762283331; x=1762888131; h=references:in-reply-to:cc:to:from:subject:message-id:date :x-gm-message-state:from:to:cc:subject:date:message-id:reply-to; bh=lJQUWvQnxd61pZq9oUgrbcleN3BzYGCx/9Om1MB3UfA=; b=gqAen50PcPU7miut9v1GjnT6SRI/wh7hAJxrsNWAeAzMLBAve1fvNS3MxWjCDKG0+T HtmKFX5Y3QD8JjM1loF9Cs3vtLYGuNgJiSuLuD6w/Qdm/sCPaS9Mh9HvwvHxeAY0WB55 7X0IPJQjNR9FUtf5kuM+Sbp2qIRVASCu0tmJjtwfjtNw2DeBL16EtuZ0W5ob2xjDx0xo trmY/ygMaJvPnroJCQGkVVjjpxjavbGhiN9eXph0eA7MWZwhlNvlLMiN3aDIjYfpsGOK 4rHw0Hbk0FWXKp4Tlb6nyBC2q8H9qMSzzx5ce1HYMTVtkd5S40L3Cej6SCL7rqEbxmkE pQ3w== X-Gm-Message-State: AOJu0YxKKHa/bg7ulCqHD/mQoEXt27nXnHCtmqPrvG2Xc5w36eehFqxG DwnxY5abWjzRFsogMS6Sj879WaebbCXTugOKrMDeMbq9nzEFVfR1mtJ80vGNdjVjJELm/b3aq8f VQgCJBWTYQniVafSMG3fEQRq7Kujj87Enn9jLGx7BW9qbyFLBWoW7TzdqIum3 X-Gm-Gg: ASbGncsRVqlmAZK3qHOCzdQdQtWFBYFKRgKqPcfwjgPBEzHfyaZ/PGAPPdEehBmm8m6 eL19uXG7B7aDGpRTdF/+j8rWfIPgJU7V/wHOYpqJmfbz/9dfWP4pC5Szq9PpSBADNOH+OiitrbY 1zaP+/9FEd/Ju+dELr4o+SgDxu7G64wOyPRMQENOUjVjX5vu+qPB+mkFlroPnvVJ6wJeDVHYAqj B4yU3vIUUmi4z8G6mJ7r36PhWeqvOw3rGlE4d7NWGwBWkcr7UdPJVuxOy1ix6YkIqyRD15WnLk1 G7hP5B/DshjbQo2UgKF18lCz4sb/fbcBZzfSFpoJT+GGskmoo1oPJs455/pw9ke/JUbkkQ7+UhE s/WiaWjFj X-Google-Smtp-Source: AGHT+IEk7qBL54I5jDmE4D2bYFFAAry6/NX+Yz26ZA7LpNbxtUaAcgazf6nCxTj/UlII1Ac55CO8jEud10Ww X-Received: by 2002:a05:6e02:1a8e:b0:430:ad98:981f with SMTP id e9e14a558f8ab-433407a309dmr5765805ab.4.1762283331037; Tue, 04 Nov 2025 11:08:51 -0800 (PST) Received: from postal.iol.unh.edu (postal.iol.unh.edu. [2606:4100:3880:1234::84]) by smtp-relay.gmail.com with ESMTPS id e9e14a558f8ab-43335a8ed1asm3242575ab.6.2025.11.04.11.08.50 (version=TLS1_2 cipher=ECDHE-ECDSA-AES128-GCM-SHA256 bits=128/128); Tue, 04 Nov 2025 11:08:51 -0800 (PST) X-Relaying-Domain: iol.unh.edu Date: Tue, 04 Nov 2025 11:08:51 -0800 (PST) Message-ID: <690a4f43.050a0220.28f50b.22ddSMTPIN_ADDED_MISSING@mx.google.com> Received: from [172.21.0.3] (unknown [172.18.0.240]) by postal.iol.unh.edu (Postfix) with ESMTP id 664CD604D420; Tue, 4 Nov 2025 14:08:50 -0500 (EST) Subject: |SUCCESS| pw158434-158441 [PATCH] [v6,8/8] doc: update documentation From: dpdklab@iol.unh.edu To: Test Report Cc: dpdk-test-reports@iol.unh.edu In-Reply-To: <20251104180927.403355-9-stephen@networkplumber.org> References: <20251104180927.403355-9-stephen@networkplumber.org> Content-Type: text/plain X-BeenThere: test-report@dpdk.org X-Mailman-Version: 2.1.29 Precedence: list List-Id: automatic DPDK test reports List-Unsubscribe: , List-Archive: List-Post: List-Help: List-Subscribe: , Errors-To: test-report-bounces@dpdk.org Test-Label: iol-unit-amd64-testing Test-Status: SUCCESS http://dpdk.org/patch/158441 _Testing PASS_ Submitter: Stephen Hemminger Date: Tuesday, November 04 2025 18:07:12 DPDK git baseline: Repo:dpdk Branch: master CommitID:1bdf2b3c27880f1d90df46a89d5643f20587a973 158434-158441 --> testing pass Upstream job id: Generic-Unit-Test-DPDK#388577 Test environment and result as below: +-------------------------------+----------------+ | Environment | dpdk_unit_test | +===============================+================+ | CentOS Stream 9 | PASS | +-------------------------------+----------------+ | CentOS Stream 10 | PASS | +-------------------------------+----------------+ | Debian GNU/Linux 12 | PASS | +-------------------------------+----------------+ | Fedora Linux 40 | PASS | +-------------------------------+----------------+ | Fedora Linux 41 | PASS | +-------------------------------+----------------+ | Fedora Linux 42 | PASS | +-------------------------------+----------------+ | Red Hat Enterprise Linux 8.10 | PASS | +-------------------------------+----------------+ | Ubuntu 22.04 | PASS | +-------------------------------+----------------+ | Red Hat Enterprise Linux 9.5 | PASS | +-------------------------------+----------------+ | Ubuntu 20.04 | PASS | +-------------------------------+----------------+ | Ubuntu 24.04 | PASS | +-------------------------------+----------------+ CentOS Stream 9 Kernel: 5.15 Compiler: gcc gcc (GCC) 11.5.0 20240719 (Red Hat 11.5.0-11) CentOS Stream 10 Kernel: 5.15 Compiler: gcc gcc (GCC) 14.2.1 20250110 (Red Hat 14.2.1-8) Debian GNU/Linux 12 Kernel: 5.15 Compiler: gcc gcc (Debian 12.2.0-14+deb12u1) 12.2.0 Fedora Linux 40 Kernel: 5.15 Compiler: clang gcc (GCC) 14.2.1 20240912 (Red Hat 14.2.1-3) Fedora Linux 41 Kernel: 5.15 Compiler: gcc gcc (GCC) 14.3.1 20250523 (Red Hat 14.3.1-1) Fedora Linux 42 Kernel: 5.15 Compiler: gcc gcc (GCC) 15.2.1 20250808 (Red Hat 15.2.1-1) Red Hat Enterprise Linux 8.10 Kernel: 5.15 Compiler: gcc gcc (GCC) 8.5.0 20210514 (Red Hat 8.5.0-22) Ubuntu 22.04 Kernel: 5.15 Compiler: gcc gcc (Ubuntu 11.4.0-1ubuntu1~22.04) 11.4.0 Red Hat Enterprise Linux 9.5 Kernel: 5.15 Compiler: gcc gcc (GCC) 11.5.0 20240719 (Red Hat 11.5.0-2) Ubuntu 20.04 Kernel: 5.15 Compiler: gcc gcc (Ubuntu 9.4.0-1ubuntu1~20.04.2) 9.4.0 Ubuntu 24.04 Kernel: 5.15 Compiler: gcc gcc (Ubuntu 13.3.0-6ubuntu2~24.04) 13.3.0 To view detailed results, visit: https://lab.dpdk.org/results/dashboard/patchsets/34463/ UNH-IOL DPDK Community Lab To manage your email subscriptions, visit: https://lab.dpdk.org/results/dashboard/preferences/subscriptions/