From mboxrd@z Thu Jan 1 00:00:00 1970 Return-Path: Received: from mails.dpdk.org (mails.dpdk.org [217.70.189.124]) by inbox.dpdk.org (Postfix) with ESMTP id 4513D48AB3 for ; Tue, 4 Nov 2025 20:11:06 +0100 (CET) Received: from mails.dpdk.org (localhost [127.0.0.1]) by mails.dpdk.org (Postfix) with ESMTP id 2759640269; Tue, 4 Nov 2025 20:11:06 +0100 (CET) Received: from mail-pl1-f225.google.com (mail-pl1-f225.google.com [209.85.214.225]) by mails.dpdk.org (Postfix) with ESMTP id E08D840269 for ; Tue, 4 Nov 2025 20:11:04 +0100 (CET) Received: by mail-pl1-f225.google.com with SMTP id d9443c01a7336-2957850c63bso1510895ad.0 for ; Tue, 04 Nov 2025 11:11:04 -0800 (PST) DKIM-Signature: v=1; a=rsa-sha256; c=relaxed/relaxed; d=iol.unh.edu; s=unh-iol; t=1762283464; x=1762888264; darn=dpdk.org; h=references:in-reply-to:cc:to:from:subject:message-id:date:from:to :cc:subject:date:message-id:reply-to; bh=N8bgd2WpX2D0wcTOOxg/rhDieoDeuW+DvRXl18CDXyA=; b=BqOMFkX/jSdcDtLAJtzjsSDyi1A8ELOLGf2lQfYrOO4N9aHB3jOa3FzzO0s20nLb6H d5PEyPIDUQl+E2brA+RtCSjsrfHDcXufCgGTTwYFqGGmesA26NTG8QBvO05Q9OGLLcwx Y2hxthv6P1sJPUuW/BWAYpISABMm8moKJFkDI= X-Google-DKIM-Signature: v=1; a=rsa-sha256; c=relaxed/relaxed; d=1e100.net; s=20230601; t=1762283464; x=1762888264; h=references:in-reply-to:cc:to:from:subject:message-id:date :x-gm-message-state:from:to:cc:subject:date:message-id:reply-to; bh=N8bgd2WpX2D0wcTOOxg/rhDieoDeuW+DvRXl18CDXyA=; b=TNmE0tcvIjaqbXGVs3F2Y47Vos61wC+HKtc3Vf9bxxBwdR/YSEq8OKdU7CFPkLDGsD FpOcZOIVs3kd8MHyVTOaI+vOlw6ncDe+pqaciwMZwPU4Np0TBrBzTTcd0US14F1noOYH GIOItq4CcF93Kz+81Wbf0ZFdOVsGhZoM6OBr5zHXfhp5xVIrAMbBrVwe2xth24Jefd03 e/Z4pithIlJnNRccMYy4qNbwFaETaIUajpoFbFyUutwOIoKdEbFHqocdmpxpzgi8hEf6 NNdYXliwbzpzls0q2APSXvF16KxmLBBj2M5G4nc2l1vQFnaLNRBY2BdO/QyzPWO5ULBc FFeA== X-Gm-Message-State: AOJu0YwBIVk9nli6oPFLS5jg+oE2Ow7ttBJp+70GVxu6hN8rk/DhaVWj kpXd++Rm7NKwxDixbJ9EkntcQMDzx1gnc8v4lvvTWsnLbsemFYzXgMpQrZ+97tMgz+MPqwvk3Lv +zKprQ9zb5BDcXhBgKUB7GG9MwuPe+9eQVTHFV4pzKpql X-Gm-Gg: ASbGncuyzH3iipUdDRoJ71Q3CToPKLTkALtJ5NWdm+KL/8vL3CuJDrMIBRhQ0gfZb2k PMGTmifb0TF2KmRflwQLfmNHJ1Zg5NKMUoFc+cfBKP0QjeumrEeZkNjb/8yH4/k9n0+i7IqU0FX P1wGx/LlhsGOxvsmwkOieXDS2Dh+wU9hRf7qGoRMqgkXzxdZfzXXx8C6GMe8PBsdZHss2bXcU0g 6B0wc4ItYJBtwBGgyxJOHh1z9AqwxWbiDYmoP5PRjfbJSGc28kGOqGlr/lt2/Qn3kqh0Tt0Zs3z zNVh6IdZJZfTU0vENbyhcdeiF06lCqAfXpd2jLBoOvr2+VbhPreeIUtnS+Ss4TRLQ5hgPU+jAdC MCAvQAHtQctyMsOHo1nD7UBSYmJTuhaI= X-Google-Smtp-Source: AGHT+IFswbEM9sCAbcwWQ2dgxh16uaypt96aC8EAAjkokryGtB8Itqd+Jh4cny/6qUKv+J5SAE6Wf4uQBTas X-Received: by 2002:a17:902:e88b:b0:282:2c52:508e with SMTP id d9443c01a7336-2962ad25f9amr8506515ad.8.1762283464019; Tue, 04 Nov 2025 11:11:04 -0800 (PST) Received: from postal.iol.unh.edu (postal.iol.unh.edu. [132.177.123.84]) by smtp-relay.gmail.com with ESMTPS id d9443c01a7336-29601a3e55bsm3269705ad.48.2025.11.04.11.11.03 (version=TLS1_2 cipher=ECDHE-ECDSA-AES128-GCM-SHA256 bits=128/128); Tue, 04 Nov 2025 11:11:04 -0800 (PST) X-Relaying-Domain: iol.unh.edu Date: Tue, 04 Nov 2025 11:11:04 -0800 (PST) Message-ID: <690a4fc8.170a0220.2d2bf8.3e78SMTPIN_ADDED_MISSING@mx.google.com> Received: from [172.21.0.2] (unknown [172.18.0.240]) by postal.iol.unh.edu (Postfix) with ESMTP id 37531604D420; Tue, 4 Nov 2025 14:11:03 -0500 (EST) Subject: |SUCCESS| pw158429-158433 [PATCH] [5/5] net/mlx5: support count and From: dpdklab@iol.unh.edu To: Test Report Cc: dpdk-test-reports@iol.unh.edu In-Reply-To: <20251104174612.1341962-6-dsosnowski@nvidia.com> References: <20251104174612.1341962-6-dsosnowski@nvidia.com> Content-Type: text/plain X-BeenThere: test-report@dpdk.org X-Mailman-Version: 2.1.29 Precedence: list List-Id: automatic DPDK test reports List-Unsubscribe: , List-Archive: List-Post: List-Help: List-Subscribe: , Errors-To: test-report-bounces@dpdk.org Test-Label: iol-compile-amd64-testing Test-Status: SUCCESS http://dpdk.org/patch/158433 _Testing PASS_ Submitter: Dariusz Sosnowski Date: Tuesday, November 04 2025 17:46:12 DPDK git baseline: Repo:dpdk-next-net-mlx Branch: master CommitID:f1c1f82f2421be9ac2f46b4ec2a616ca28da4ca7 158429-158433 --> testing pass Upstream job id: Windows-Compile-DPDK-Native#32114 Test environment and result as below: +-------------------------------+--------------------+------------------+-------------------------+-------------------+----------------------+ | Environment | dpdk_meson_compile | dpdk_compile_ovs | dpdk_llvm_clang_compile | dpdk_msvc_compile | dpdk_mingw64_compile | +===============================+====================+==================+=========================+===================+======================+ | CentOS Stream 9 | PASS | SKIPPED | SKIPPED | SKIPPED | SKIPPED | +-------------------------------+--------------------+------------------+-------------------------+-------------------+----------------------+ | CentOS Stream 10 | PASS | SKIPPED | SKIPPED | SKIPPED | SKIPPED | +-------------------------------+--------------------+------------------+-------------------------+-------------------+----------------------+ | Debian GNU/Linux 12 | PASS | SKIPPED | SKIPPED | SKIPPED | SKIPPED | +-------------------------------+--------------------+------------------+-------------------------+-------------------+----------------------+ | Fedora Linux 42 | PASS | PASS | SKIPPED | SKIPPED | SKIPPED | +-------------------------------+--------------------+------------------+-------------------------+-------------------+----------------------+ | Ubuntu 20.04 | PASS | SKIPPED | SKIPPED | SKIPPED | SKIPPED | +-------------------------------+--------------------+------------------+-------------------------+-------------------+----------------------+ | openSUSE Leap 15.6 | PASS | SKIPPED | SKIPPED | SKIPPED | SKIPPED | +-------------------------------+--------------------+------------------+-------------------------+-------------------+----------------------+ | FreeBSD 14.2 | PASS | SKIPPED | SKIPPED | SKIPPED | SKIPPED | +-------------------------------+--------------------+------------------+-------------------------+-------------------+----------------------+ | Red Hat Enterprise Linux 8.10 | PASS | SKIPPED | SKIPPED | SKIPPED | SKIPPED | +-------------------------------+--------------------+------------------+-------------------------+-------------------+----------------------+ | Red Hat Enterprise Linux 9.5 | PASS | SKIPPED | SKIPPED | SKIPPED | SKIPPED | +-------------------------------+--------------------+------------------+-------------------------+-------------------+----------------------+ | Ubuntu 24.04 | PASS | PASS | SKIPPED | SKIPPED | SKIPPED | +-------------------------------+--------------------+------------------+-------------------------+-------------------+----------------------+ | Ubuntu 22.04 | PASS | SKIPPED | SKIPPED | SKIPPED | SKIPPED | +-------------------------------+--------------------+------------------+-------------------------+-------------------+----------------------+ | Alpine Linux 3.22.0 | PASS | SKIPPED | SKIPPED | SKIPPED | SKIPPED | +-------------------------------+--------------------+------------------+-------------------------+-------------------+----------------------+ | Windows Server 2022 | SKIPPED | SKIPPED | PASS | PASS | PASS | +-------------------------------+--------------------+------------------+-------------------------+-------------------+----------------------+ CentOS Stream 9 Kernel: 5.15 Compiler: gcc gcc (GCC) 11.5.0 20240719 (Red Hat 11.5.0-11) CentOS Stream 10 Kernel: 5.15 Compiler: gcc gcc (GCC) 14.2.1 20250110 (Red Hat 14.2.1-8) Debian GNU/Linux 12 Kernel: 5.15 Compiler: gcc gcc (Debian 12.2.0-14+deb12u1) 12.2.0 Fedora Linux 42 Kernel: 5.15 Compiler: gcc gcc (GCC) 15.2.1 20250808 (Red Hat 15.2.1-1) Ubuntu 20.04 Kernel: 4.19 Compiler: gcc gcc (Ubuntu 9.4.0-1ubuntu1~20.04.2) 9.4.0 openSUSE Leap 15.6 Kernel: 5.15 Compiler: gcc gcc (SUSE Linux) 7.5.0 FreeBSD 14.2 Kernel: 14.2-RELEASE Compiler: clang 18.1.6 Red Hat Enterprise Linux 8.10 Kernel: 5.15 Compiler: gcc gcc (GCC) 8.5.0 20210514 (Red Hat 8.5.0-22) Red Hat Enterprise Linux 9.5 Kernel: 5.15 Compiler: gcc gcc (GCC) 11.5.0 20240719 (Red Hat 11.5.0-2) Ubuntu 24.04 Kernel: 5.15 Compiler: gcc gcc (Ubuntu 13.3.0-6ubuntu2~24.04) 13.3.0 Ubuntu 22.04 Kernel: 5.15 Compiler: gcc gcc (Ubuntu 11.4.0-1ubuntu1~22.04) 11.4.0 Alpine Linux 3.22.0 Kernel: 5.15 Compiler: gcc gcc (Alpine 14.2.0) 14.2.0 Windows Server 2022 Kernel: 10.0.20348.2031 Compiler: clang 15.0.7, gcc 14.1.0 (MinGW), and MSVC VS 19.39.33521 To view detailed results, visit: https://lab.dpdk.org/results/dashboard/patchsets/34462/ UNH-IOL DPDK Community Lab To manage your email subscriptions, visit: https://lab.dpdk.org/results/dashboard/preferences/subscriptions/