From mboxrd@z Thu Jan 1 00:00:00 1970 Return-Path: Received: from mails.dpdk.org (mails.dpdk.org [217.70.189.124]) by inbox.dpdk.org (Postfix) with ESMTP id 8A36148AB3 for ; Tue, 4 Nov 2025 20:24:53 +0100 (CET) Received: from mails.dpdk.org (localhost [127.0.0.1]) by mails.dpdk.org (Postfix) with ESMTP id 651BD40269; Tue, 4 Nov 2025 20:24:53 +0100 (CET) Received: from mail-yw1-f228.google.com (mail-yw1-f228.google.com [209.85.128.228]) by mails.dpdk.org (Postfix) with ESMTP id D9CAF40269 for ; Tue, 4 Nov 2025 20:24:51 +0100 (CET) Received: by mail-yw1-f228.google.com with SMTP id 00721157ae682-71d71bcac45so64938237b3.0 for ; Tue, 04 Nov 2025 11:24:51 -0800 (PST) DKIM-Signature: v=1; a=rsa-sha256; c=relaxed/relaxed; d=iol.unh.edu; s=unh-iol; t=1762284291; x=1762889091; darn=dpdk.org; h=references:in-reply-to:cc:to:from:subject:message-id:date:from:to :cc:subject:date:message-id:reply-to; bh=ju84LlakrmV3+E9j/PVpZ1QsPLNh1Tb32vxnoZr3j8A=; b=HIVtgLd3TmimRd9yu1rihXkalVCRUqAovmBEeoHRsjHFt4IpnYuAG7qIabMTPO8KYV vAn5AaBF/6QVTJ3oTIFtqS9ykrPH5RLJbqbN1h3nXU8tqcwy5QaBvCkWc1snxJ1zUvZm CigtpNxuYpYgI75rtf9EkXyYH4al8DiJFQIkQ= X-Google-DKIM-Signature: v=1; a=rsa-sha256; c=relaxed/relaxed; d=1e100.net; s=20230601; t=1762284291; x=1762889091; h=references:in-reply-to:cc:to:from:subject:message-id:date :x-gm-message-state:from:to:cc:subject:date:message-id:reply-to; bh=ju84LlakrmV3+E9j/PVpZ1QsPLNh1Tb32vxnoZr3j8A=; b=qn1+IP4E9lfJtK5c3KuPkoBd8xuSgYOdddE+f/5a3YgX5b3yc7njO1Z5P2D3p3VCFQ KKTpqTHa/b36waZLeW/cDJhfs0mqNiFXeTRB76x6jHSlQEvA8lyPacen9k2lX8ibVpYy sGbqbLsJD9aVEB4On7mW2XkRpkUHB6OUvJEmruR5MX5NA+lzcH99o8JTzMfAWPN8/gRm 235n52Brr42XwI4XU9OJ/vfA5CEX3TaAEvuqkBc0hRhNxZG6jsJYqIcyVjMgeXmmqzNv Tkk6YI1b3UW/3qvZmF5+aLrObTYCVNLCETSmhJwKJkzosyLM6A7ocKJi6Y/z3PRO1SZG By3g== X-Gm-Message-State: AOJu0YxzchxORz+zhgv/PNe3YZX41KzipnhBQBfgcN8acsoQW1A3sKKA tygQZg+cnB53SGU3cjfygypUy2PTyOtZUpU38IFYNF7H9Jtut8s4LrA0D2IMvV+YJBDFUCxfai8 a8Y4bB4SjqfH6edoKj9p2iXfLA988nDoz+v0fjnuYGx9o X-Gm-Gg: ASbGncsaaFqO04xu9ZFKLlA7b4RwUd646+7CZkTkzpvP7/9FBO81bLfNq5HJHEBaRwB sLonUFgO0WnEKQdnfVbIm5dmkJuKqng+c9l3p6ZfWzryPvzj+SZFQDmpW+BMYK+yb3cZV5Azdgj NA5TmMcoSV2JkGmrIAk/ARBl6fM5HlxABNW7c2TsEUd724QrdSN/D8kjfElDQIHJac7z4cHA5Ac QeuiLvOUrYJ5U0tgtVYY42nVArJR9cUouWP/tiNuGhcNHef9w6Tnfw6Xk5QUEtwEJhZ66ewWXV8 QERDBX18vjeu6ZkUxpJ3SE1/adDghKXzSd/Wlbc7FhvNWbxN+/3fbj5xWBRGXrvvbn9yGT6TcnR 9lyCgtBBmfpuJbl7awIEIhDPaMzun/uE= X-Google-Smtp-Source: AGHT+IEZqs+yyG1jpeBDbjBVEFGBH7QIUW6GZ/z69uIBLLBlwb4tY49c2AmRnh1qxFMdsGKK3LwVUeBn/EKq X-Received: by 2002:a05:690c:7444:b0:786:70d6:96b8 with SMTP id 00721157ae682-786a41a7750mr6910887b3.43.1762284291140; Tue, 04 Nov 2025 11:24:51 -0800 (PST) Received: from postal.iol.unh.edu (postal.iol.unh.edu. [132.177.123.84]) by smtp-relay.gmail.com with ESMTPS id 00721157ae682-78691ef0349sm2079907b3.28.2025.11.04.11.24.51 (version=TLS1_2 cipher=ECDHE-ECDSA-AES128-GCM-SHA256 bits=128/128); Tue, 04 Nov 2025 11:24:51 -0800 (PST) X-Relaying-Domain: iol.unh.edu Date: Tue, 04 Nov 2025 11:24:51 -0800 (PST) Message-ID: <690a5303.050a0220.30af45.b7b1SMTPIN_ADDED_MISSING@mx.google.com> Received: from [172.21.0.2] (unknown [172.18.0.240]) by postal.iol.unh.edu (Postfix) with ESMTP id C9ACB604D420; Tue, 4 Nov 2025 14:24:50 -0500 (EST) Subject: |SUCCESS| pw158419 [PATCH] [v2] mbuf: dump Tx offload metadata From: dpdklab@iol.unh.edu To: Test Report Cc: dpdk-test-reports@iol.unh.edu In-Reply-To: <20251104100214.1818660-1-david.marchand@redhat.com> References: <20251104100214.1818660-1-david.marchand@redhat.com> Content-Type: text/plain X-BeenThere: test-report@dpdk.org X-Mailman-Version: 2.1.29 Precedence: list List-Id: automatic DPDK test reports List-Unsubscribe: , List-Archive: List-Post: List-Help: List-Subscribe: , Errors-To: test-report-bounces@dpdk.org Test-Label: iol-unit-arm64-testing Test-Status: SUCCESS http://dpdk.org/patch/158419 _Testing PASS_ Submitter: David Marchand Date: Tuesday, November 04 2025 10:02:14 DPDK git baseline: Repo:dpdk Branch: master CommitID:8c4861d00aabcf54ef9d6f1df2a4cfb37c06f6c2 158419 --> testing pass Upstream job id: Generic-Unit-Test-DPDK#388359 Test environment and result as below: +------------------------------+----------------+---------------------------+--------------+------------------------------+ | Environment | dpdk_unit_test | cryptodev_sw_zuc_autotest | lpm_autotest | cryptodev_sw_snow3g_autotest | +==============================+================+===========================+==============+==============================+ | Fedora Linux 41 | PASS | SKIPPED | SKIPPED | SKIPPED | +------------------------------+----------------+---------------------------+--------------+------------------------------+ | Ubuntu 22.04 | PASS | SKIPPED | SKIPPED | SKIPPED | +------------------------------+----------------+---------------------------+--------------+------------------------------+ | CentOS Stream 9 | PASS | SKIPPED | SKIPPED | SKIPPED | +------------------------------+----------------+---------------------------+--------------+------------------------------+ | CentOS Stream 10 | PASS | SKIPPED | SKIPPED | SKIPPED | +------------------------------+----------------+---------------------------+--------------+------------------------------+ | Ubuntu 20.04 | PASS | SKIPPED | PASS | SKIPPED | +------------------------------+----------------+---------------------------+--------------+------------------------------+ | Ubuntu 24.04 | PASS | SKIPPED | SKIPPED | SKIPPED | +------------------------------+----------------+---------------------------+--------------+------------------------------+ | Fedora Linux 42 | PASS | SKIPPED | SKIPPED | SKIPPED | +------------------------------+----------------+---------------------------+--------------+------------------------------+ | Fedora Linux 40 | PASS | SKIPPED | SKIPPED | SKIPPED | +------------------------------+----------------+---------------------------+--------------+------------------------------+ | Debian GNU/Linux 12 | PASS | SKIPPED | SKIPPED | SKIPPED | +------------------------------+----------------+---------------------------+--------------+------------------------------+ | Red Hat Enterprise Linux 9.5 | PASS | SKIPPED | SKIPPED | SKIPPED | +------------------------------+----------------+---------------------------+--------------+------------------------------+ | Debian 12 (arm) | SKIPPED | PASS | SKIPPED | PASS | +------------------------------+----------------+---------------------------+--------------+------------------------------+ Fedora Linux 41 Kernel: 5.4 Compiler: gcc gcc (GCC) 14.3.1 20250523 (Red Hat 14.3.1-1) Ubuntu 22.04 Kernel: 5.15 Compiler: gcc gcc (Ubuntu 11.4.0-1ubuntu1~22.04.2) 11.4.0 CentOS Stream 9 Kernel: 5.4 Compiler: gcc gcc (GCC) 11.5.0 20240719 (Red Hat 11.5.0-11) CentOS Stream 10 Kernel: 5.4 Compiler: gcc gcc (GCC) 14.2.1 20250110 (Red Hat 14.2.1-8) Ubuntu 20.04 Kernel: 5.4 Compiler: gcc gcc (Ubuntu 9.4.0-1ubuntu1~20.04.2) 9.4.0 Ubuntu 24.04 Kernel: 5.4 Compiler: gcc gcc (Ubuntu 13.3.0-6ubuntu2~24.04) 13.3.0 Fedora Linux 42 Kernel: 5.4 Compiler: gcc gcc (GCC) 15.2.1 20250808 (Red Hat 15.2.1-1) Fedora Linux 40 Kernel: 5.4 Compiler: clang gcc (GCC) 14.2.1 20240912 (Red Hat 14.2.1-3) Debian GNU/Linux 12 Kernel: 5.4 Compiler: gcc gcc (Debian 12.2.0-14+deb12u1) 12.2.0 Red Hat Enterprise Linux 9.5 Kernel: 5.4 Compiler: gcc gcc (GCC) 11.5.0 20240719 (Red Hat 11.5.0-2) Debian 12 (arm) Kernel: Depends on container host Compiler: gcc (Debian 12.2.0-14) 12.2.0 To view detailed results, visit: https://lab.dpdk.org/results/dashboard/patchsets/34456/ UNH-IOL DPDK Community Lab To manage your email subscriptions, visit: https://lab.dpdk.org/results/dashboard/preferences/subscriptions/