From mboxrd@z Thu Jan 1 00:00:00 1970 Return-Path: Received: from mails.dpdk.org (mails.dpdk.org [217.70.189.124]) by inbox.dpdk.org (Postfix) with ESMTP id 3F77B48AB3 for ; Tue, 4 Nov 2025 20:33:02 +0100 (CET) Received: from mails.dpdk.org (localhost [127.0.0.1]) by mails.dpdk.org (Postfix) with ESMTP id 1844940269; Tue, 4 Nov 2025 20:33:02 +0100 (CET) Received: from mail-oa1-f99.google.com (mail-oa1-f99.google.com [209.85.160.99]) by mails.dpdk.org (Postfix) with ESMTP id 6A93140269 for ; Tue, 4 Nov 2025 20:33:00 +0100 (CET) Received: by mail-oa1-f99.google.com with SMTP id 586e51a60fabf-3d70c5bb455so2065837fac.1 for ; Tue, 04 Nov 2025 11:33:00 -0800 (PST) DKIM-Signature: v=1; a=rsa-sha256; c=relaxed/relaxed; d=iol.unh.edu; s=unh-iol; t=1762284779; x=1762889579; darn=dpdk.org; h=references:in-reply-to:cc:to:from:subject:message-id:date:from:to :cc:subject:date:message-id:reply-to; bh=T/a5yFFkpBn+6I3f2lE+r4uMhDTBJZORH+SU/9TLqeI=; b=f1RC36zwEkvh9R0G2lI9rynbL3MSLjPxJX7m/5BYnz0ZbXrajf2MPlg8q0b3/Kf1d9 FwJHfa9njoL4tp4KLMjodBW/PIip7HgGZ3R+gQtBXyIA3Lw/VfHzxF64C2Lg7CuHucVp NI0JqzMKm5UxQkYjz7ilgzVZIpVHGwh5KhWaE= X-Google-DKIM-Signature: v=1; a=rsa-sha256; c=relaxed/relaxed; d=1e100.net; s=20230601; t=1762284779; x=1762889579; h=references:in-reply-to:cc:to:from:subject:message-id:date :x-gm-message-state:from:to:cc:subject:date:message-id:reply-to; bh=T/a5yFFkpBn+6I3f2lE+r4uMhDTBJZORH+SU/9TLqeI=; b=EBqV1quocEsFFyHE6Rg+sbCtFMpB5CQfIrtT98AHMpzdCgFtgYw+mkGBeUuh/r1V/R 2R5nXaIOTQTikII8LItj0JjMkIUTyzL0LC9oWUozP3KRzqh20gKtisGln5xdL9ZoP9X3 l/rHTHtuRg4T2+M08GKmhH4li5szaLpdxgnYstor8E2WxI1qAlVWTq71ny9xD5H4NFAV jD8nrB4ttq7ImzzOPOUqai8tZJD8r5jGm+3evyrTiYtRUBkRY3oCAFHTShOuk2XBmRZN mGJntjy46Dz4vqeez4QEZLsijUC0cUYAiowtdN5oqwzH4iHXUtaf07sLokISy/bL4F/G NbzQ== X-Gm-Message-State: AOJu0YyJexORFX/g8mZoAlMJPsxdKZbjkOfWnNK7f5/xo7jxAPJ4CFJG W7VVg9ylrwgQ7xOclKUJOaFpfjCaZ67V3mi0JPzt2jJKvxeYiek/jVxc494kjNLA21iJ8ZUfyNo LCWPve6zXar449tK+4bRAVUPXvZR0IJJJ2dQVKs4MGxPz X-Gm-Gg: ASbGnctv47pcXEx+PLdZdlEhqPsnsmn4SP0PBn4f1LEp40MaDVtUAE9lscZEvuMQfOM x6LF2fDAVGOyBJfTYeEFrZYQ6YiNSpPSDEtzrH36CR/0v8OVyqHYvWWPRGO57zgid1pfxQiy/Or 7KFHo7JePxaz8K7B/6t6q4PbKdgu9gpuu/5004bjxKEUsKg5+SHL2KbcXHg0zddZLIFCp67LCcC HWRR5WdABjObX0OiFoK5zusPengeKO6uljhVeDSpf6Q/lhjTdzZ9sPhd4GFIFAhcjID+kIu+pSN 7gWsrOO6iAPR/zNqxEx7npIrm3+bv8wEHUtSJD4IHXkyOM+PdrHhdjMum6qth42zIanLCpwLVxX oFQu4/yPYciaj4SLvXlsg4OcLR1//CSg= X-Google-Smtp-Source: AGHT+IGA66ib9HEH8tewv7KZdtppI9EvonP1CE9qR55S1P7iywxcSi+tYpzBs+qXhbKDrnflHTCc2BiNUQL4 X-Received: by 2002:a05:6870:d36c:b0:395:9e1b:b0da with SMTP id 586e51a60fabf-3e19b94517dmr255013fac.49.1762284779606; Tue, 04 Nov 2025 11:32:59 -0800 (PST) Received: from postal.iol.unh.edu (postal.iol.unh.edu. [132.177.123.84]) by smtp-relay.gmail.com with ESMTPS id 586e51a60fabf-3dff4804d3fsm348896fac.2.2025.11.04.11.32.59 (version=TLS1_2 cipher=ECDHE-ECDSA-AES128-GCM-SHA256 bits=128/128); Tue, 04 Nov 2025 11:32:59 -0800 (PST) X-Relaying-Domain: iol.unh.edu Date: Tue, 04 Nov 2025 11:32:59 -0800 (PST) Message-ID: <690a54eb.050a0220.32edfe.352dSMTPIN_ADDED_MISSING@mx.google.com> Received: from [172.21.0.2] (unknown [172.18.0.240]) by postal.iol.unh.edu (Postfix) with ESMTP id 11EF6604D420; Tue, 4 Nov 2025 14:32:59 -0500 (EST) Subject: |SUCCESS| pw158429-158433 [PATCH] [5/5] net/mlx5: support count and From: dpdklab@iol.unh.edu To: Test Report Cc: dpdk-test-reports@iol.unh.edu In-Reply-To: <20251104174612.1341962-6-dsosnowski@nvidia.com> References: <20251104174612.1341962-6-dsosnowski@nvidia.com> Content-Type: text/plain X-BeenThere: test-report@dpdk.org X-Mailman-Version: 2.1.29 Precedence: list List-Id: automatic DPDK test reports List-Unsubscribe: , List-Archive: List-Post: List-Help: List-Subscribe: , Errors-To: test-report-bounces@dpdk.org Test-Label: iol-unit-amd64-testing Test-Status: SUCCESS http://dpdk.org/patch/158433 _Testing PASS_ Submitter: Dariusz Sosnowski Date: Tuesday, November 04 2025 17:46:12 DPDK git baseline: Repo:dpdk-next-net-mlx Branch: master CommitID:f1c1f82f2421be9ac2f46b4ec2a616ca28da4ca7 158429-158433 --> testing pass Upstream job id: Generic-VM-Unit-Test-DPDK#32288 Test environment and result as below: +-------------------------------+----------------+ | Environment | dpdk_unit_test | +===============================+================+ | CentOS Stream 10 | PASS | +-------------------------------+----------------+ | Debian GNU/Linux 12 | PASS | +-------------------------------+----------------+ | CentOS Stream 9 | PASS | +-------------------------------+----------------+ | Fedora Linux 40 | PASS | +-------------------------------+----------------+ | Fedora Linux 41 | PASS | +-------------------------------+----------------+ | Fedora Linux 42 | PASS | +-------------------------------+----------------+ | Red Hat Enterprise Linux 9.5 | PASS | +-------------------------------+----------------+ | Red Hat Enterprise Linux 8.10 | PASS | +-------------------------------+----------------+ | Ubuntu 20.04 | PASS | +-------------------------------+----------------+ | Windows Server 2022 | PASS | +-------------------------------+----------------+ | Ubuntu 22.04 | PASS | +-------------------------------+----------------+ | Ubuntu 24.04 | PASS | +-------------------------------+----------------+ CentOS Stream 10 Kernel: 5.15 Compiler: gcc gcc (GCC) 14.2.1 20250110 (Red Hat 14.2.1-8) Debian GNU/Linux 12 Kernel: 5.15 Compiler: gcc gcc (Debian 12.2.0-14+deb12u1) 12.2.0 CentOS Stream 9 Kernel: 5.15 Compiler: gcc gcc (GCC) 11.5.0 20240719 (Red Hat 11.5.0-11) Fedora Linux 40 Kernel: 5.15 Compiler: clang gcc (GCC) 14.2.1 20240912 (Red Hat 14.2.1-3) Fedora Linux 41 Kernel: 5.15 Compiler: gcc gcc (GCC) 14.3.1 20250523 (Red Hat 14.3.1-1) Fedora Linux 42 Kernel: 5.15 Compiler: clang gcc (GCC) 15.2.1 20250808 (Red Hat 15.2.1-1) Red Hat Enterprise Linux 9.5 Kernel: 5.15 Compiler: gcc gcc (GCC) 11.5.0 20240719 (Red Hat 11.5.0-2) Red Hat Enterprise Linux 8.10 Kernel: 5.15 Compiler: gcc gcc (GCC) 8.5.0 20210514 (Red Hat 8.5.0-22) Ubuntu 20.04 Kernel: 5.15 Compiler: gcc gcc (Ubuntu 9.4.0-1ubuntu1~20.04.2) 9.4.0 Windows Server 2022 Kernel: 10.0.20348.2031 Compiler: clang 15.0.7, gcc 14.1.0 (MinGW), and MSVC VS 19.39.33521 Ubuntu 22.04 Kernel: 5.15 Compiler: gcc gcc (Ubuntu 11.4.0-1ubuntu1~22.04) 11.4.0 Ubuntu 24.04 Kernel: 5.15 Compiler: gcc gcc (Ubuntu 13.3.0-6ubuntu2~24.04) 13.3.0 To view detailed results, visit: https://lab.dpdk.org/results/dashboard/patchsets/34462/ UNH-IOL DPDK Community Lab To manage your email subscriptions, visit: https://lab.dpdk.org/results/dashboard/preferences/subscriptions/