From mboxrd@z Thu Jan 1 00:00:00 1970 Return-Path: Received: from mails.dpdk.org (mails.dpdk.org [217.70.189.124]) by inbox.dpdk.org (Postfix) with ESMTP id E730F48AB3 for ; Tue, 4 Nov 2025 20:52:22 +0100 (CET) Received: from mails.dpdk.org (localhost [127.0.0.1]) by mails.dpdk.org (Postfix) with ESMTP id D1C0A40269; Tue, 4 Nov 2025 20:52:22 +0100 (CET) Received: from mail-yx1-f98.google.com (mail-yx1-f98.google.com [74.125.224.98]) by mails.dpdk.org (Postfix) with ESMTP id 6985140269 for ; Tue, 4 Nov 2025 20:52:21 +0100 (CET) Received: by mail-yx1-f98.google.com with SMTP id 956f58d0204a3-63fd0bf1f4aso619283d50.3 for ; Tue, 04 Nov 2025 11:52:21 -0800 (PST) DKIM-Signature: v=1; a=rsa-sha256; c=relaxed/relaxed; d=iol.unh.edu; s=unh-iol; t=1762285940; x=1762890740; darn=dpdk.org; h=references:in-reply-to:cc:to:from:subject:message-id:date:from:to :cc:subject:date:message-id:reply-to; bh=VW8WODxQlV5LuKQJiMpHRye4lK16D5ga9qzpjS2X2+4=; b=WUsjAw035VmGWDXtZQpE+WSX1U3vPRCO/21BA1mmIfPBVkN+gLYZMpwsB79u49EDzR pTwq8OmY0nykjfklbINmlKym/dpIyUENoUnZOuquqVdwlirtt6y7oP1pDOL1V75GazRY BM5elnSoUnUAUeZTm2dzp2YK4xXWoEWWKnefg= X-Google-DKIM-Signature: v=1; a=rsa-sha256; c=relaxed/relaxed; d=1e100.net; s=20230601; t=1762285940; x=1762890740; h=references:in-reply-to:cc:to:from:subject:message-id:date :x-gm-message-state:from:to:cc:subject:date:message-id:reply-to; bh=VW8WODxQlV5LuKQJiMpHRye4lK16D5ga9qzpjS2X2+4=; b=nHX7+JKFby3QAmZcBl/XQ5wQhyN7gTWzqwpvi8/bBymzZ26PrpjpMItxn3mAFFNjTL BRcWmt1lRUJrOVfPaVpaLDUwFRwG8fGH9ut3mEGZLMGSOh6ayt1e0+rrv++1mWgTzJhn Zboy8A3YNBzdrMX6i4U6iYa8mAvRAmbluMbzwfjEsmZ2q1hfYZ814g/7GbhcH/OhIeGS InHXUi7UQknoHhm3KQaH2wKVkF8ohLxdYtUY+BIcOpjEyVC7saDZ5Ae+LjGYUK9zu6YJ zATn6619cDi6vbWBvBZcV7yq9A2Jcr380hgGj7KQ61fwYs2jKUWCca/v5JYLcP3hwAuA PRfQ== X-Gm-Message-State: AOJu0YzbfJ7j1YPECu9gbAwZrrooqlH+42xtkamz1bGgTm/jrL5NNDxx gmtjbXPwg+vgXyNArxfWJg+9R09CH8Ks9Wvfo2GpbKvnEZWaimqnEHkslJ8hqx7X4mLmqpSDMJq dj9ucFKja8sgGI2c7TZL7ALxxBfWkNAEcWMPdaantied4 X-Gm-Gg: ASbGncuYuyBy/lzRVaGG5gl1Y4exo/ZyRl00JdrPGF7gh01bR2fYqUSyyuNby9PVOKm X9D1bmybu2Q6M/dmRJhIqdbiiXdj1I86HCU/RKSi1daiwHg8FG1XuIRF+DXATiBELHRCAbU+HQ9 7UVMEyB/w7T5Q1//6q3gw+/oL6q97j3qF7CQwCNbkMx7y5n4MqamfxOeLlPh0bhjyjzmRW+9rb1 sU5xGSh8y/z2Rm/UMG3nkcDEax8lxV4KQ/SV8ZylxYQfdg+WJgM7xoOoiKa+z9qTxsPo+TfH2sK dYumq4WPWdTUSypjRRKvc82cM5+p7XZ3qqCiD29SKe9pV2cp5VEmdmZBYdNGFh1eyYFB9f0/LSg UL4MH0hB4fHjCs7moJz+pLZLsI+wfKQc= X-Google-Smtp-Source: AGHT+IEO9+WHNDaMwPKYAVW1xaCYXzPwN0ROplfMN/GXypO+AwkItfXHN5ObaqIsbYAEiuPaFilFoJbX+jCz X-Received: by 2002:a05:690e:250f:20b0:63f:9b00:70cf with SMTP id 956f58d0204a3-63fd34bdb30mr630077d50.16.1762285940691; Tue, 04 Nov 2025 11:52:20 -0800 (PST) Received: from postal.iol.unh.edu (postal.iol.unh.edu. [132.177.123.84]) by smtp-relay.gmail.com with ESMTPS id 956f58d0204a3-63fc945e73csm208498d50.6.2025.11.04.11.52.20 (version=TLS1_2 cipher=ECDHE-ECDSA-AES128-GCM-SHA256 bits=128/128); Tue, 04 Nov 2025 11:52:20 -0800 (PST) X-Relaying-Domain: iol.unh.edu Date: Tue, 04 Nov 2025 11:52:20 -0800 (PST) Message-ID: <690a5974.530a0220.174aef.b6aeSMTPIN_ADDED_MISSING@mx.google.com> Received: from [172.21.0.2] (unknown [172.18.0.240]) by postal.iol.unh.edu (Postfix) with ESMTP id 5C58E6050A61; Tue, 4 Nov 2025 14:52:20 -0500 (EST) Subject: |SUCCESS| pw158424-158428 [PATCH] [v4,5/5] bpf: replace use of VLA From: dpdklab@iol.unh.edu To: Test Report Cc: dpdk-test-reports@iol.unh.edu In-Reply-To: <20251104160843.304044-6-stephen@networkplumber.org> References: <20251104160843.304044-6-stephen@networkplumber.org> Content-Type: text/plain X-BeenThere: test-report@dpdk.org X-Mailman-Version: 2.1.29 Precedence: list List-Id: automatic DPDK test reports List-Unsubscribe: , List-Archive: List-Post: List-Help: List-Subscribe: , Errors-To: test-report-bounces@dpdk.org Test-Label: iol-compile-arm64-testing Test-Status: SUCCESS http://dpdk.org/patch/158428 _Testing PASS_ Submitter: Stephen Hemminger Date: Tuesday, November 04 2025 16:07:30 DPDK git baseline: Repo:dpdk Branch: master CommitID:1bdf2b3c27880f1d90df46a89d5643f20587a973 158424-158428 --> testing pass Upstream job id: Generic-DPDK-Compile-Meson#440699 Test environment and result as below: +------------------------------+--------------------+ | Environment | dpdk_meson_compile | +==============================+====================+ | Red Hat Enterprise Linux 9.5 | PASS | +------------------------------+--------------------+ | Ubuntu 20.04 | PASS | +------------------------------+--------------------+ | Debian GNU/Linux 12 | PASS | +------------------------------+--------------------+ | Fedora Linux 42 | PASS | +------------------------------+--------------------+ | Ubuntu 24.04 | PASS | +------------------------------+--------------------+ | CentOS Stream 9 | PASS | +------------------------------+--------------------+ | CentOS Stream 10 | PASS | +------------------------------+--------------------+ | Ubuntu 22.04 | PASS | +------------------------------+--------------------+ Red Hat Enterprise Linux 9.5 Kernel: 5.4 Compiler: gcc gcc (GCC) 11.5.0 20240719 (Red Hat 11.5.0-2) Ubuntu 20.04 Kernel: 5.15 Compiler: aarch64-linux-gnu-gcc gcc (Ubuntu 9.4.0-1ubuntu1~20.04.2) 9.4.0 Debian GNU/Linux 12 Kernel: 5.4 Compiler: gcc gcc (Debian 12.2.0-14+deb12u1) 12.2.0 Fedora Linux 42 Kernel: 5.4 Compiler: clang gcc (GCC) 15.2.1 20250808 (Red Hat 15.2.1-1) Ubuntu 24.04 Kernel: 5.4 Compiler: gcc gcc (Ubuntu 13.3.0-6ubuntu2~24.04) 13.3.0 CentOS Stream 9 Kernel: 5.4 Compiler: gcc gcc (GCC) 11.5.0 20240719 (Red Hat 11.5.0-11) CentOS Stream 10 Kernel: 5.4 Compiler: gcc gcc (GCC) 14.2.1 20250110 (Red Hat 14.2.1-8) Ubuntu 22.04 Kernel: 5.4 Compiler: gcc gcc (Ubuntu 11.4.0-1ubuntu1~22.04) 11.4.0 To view detailed results, visit: https://lab.dpdk.org/results/dashboard/patchsets/34461/ UNH-IOL DPDK Community Lab To manage your email subscriptions, visit: https://lab.dpdk.org/results/dashboard/preferences/subscriptions/