From mboxrd@z Thu Jan 1 00:00:00 1970 Return-Path: Received: from mails.dpdk.org (mails.dpdk.org [217.70.189.124]) by inbox.dpdk.org (Postfix) with ESMTP id 339B148AB3 for ; Tue, 4 Nov 2025 20:54:31 +0100 (CET) Received: from mails.dpdk.org (localhost [127.0.0.1]) by mails.dpdk.org (Postfix) with ESMTP id 14F6740269; Tue, 4 Nov 2025 20:54:31 +0100 (CET) Received: from mail-qv1-f100.google.com (mail-qv1-f100.google.com [209.85.219.100]) by mails.dpdk.org (Postfix) with ESMTP id 7980E40269 for ; Tue, 4 Nov 2025 20:54:29 +0100 (CET) Received: by mail-qv1-f100.google.com with SMTP id 6a1803df08f44-87bb66dd224so60186316d6.3 for ; Tue, 04 Nov 2025 11:54:29 -0800 (PST) DKIM-Signature: v=1; a=rsa-sha256; c=relaxed/relaxed; d=iol.unh.edu; s=unh-iol; t=1762286069; x=1762890869; darn=dpdk.org; h=references:in-reply-to:cc:to:from:subject:message-id:date:from:to :cc:subject:date:message-id:reply-to; bh=O1x011AD7d+LL+yRuxqeVA0NHPjJItPtENV57dFAGK4=; b=Yaulq0Q8WeQRi81WvWmGZ+CHK+6aUUYYbaZqa0hy1d8oENHdk7bFvWoF4RX1bJzeuF pNg/quUNwSLFalE/nAdcleXgacX8QmltJSWypyIfmXBjvTXe7+YZ2w2r1rktQcdmpL99 1h9/CKPlk6JhtyO5VQ6TSeZbwlUNoAX8KeTUM= X-Google-DKIM-Signature: v=1; a=rsa-sha256; c=relaxed/relaxed; d=1e100.net; s=20230601; t=1762286069; x=1762890869; h=references:in-reply-to:cc:to:from:subject:message-id:date :x-gm-message-state:from:to:cc:subject:date:message-id:reply-to; bh=O1x011AD7d+LL+yRuxqeVA0NHPjJItPtENV57dFAGK4=; b=LXBpparm4n+nfNmF4RXX+R5iaHJ/krYAZUtS+ZVF6kJG46rOWHVZKMEoynv6ubJrCI /6nIkZy2wShwZbqWc63GubsXGlDe0kXqk1crc6xbjTYL9gVkeu6C+9RE9RHePX5ObHhY AAEtyepmnZOIKUA3goKHnPrqldk4PwcrjcwttXNPjCNjRNLoL3Ko4gCa7WGNuB0iz12A XU1OADtkk45+cv8QSTC/4yDzmgCiIqy2TNdgE9eghQ+639Oe1re3uQvVMbei6kQeSP17 hIqJ+Nbsg1Zjl5K/aPsTZ0K2kr6OpIx5PEtTgCZcGG5EQkjZt7XAwFpFSxorFHOS2us/ RCNg== X-Gm-Message-State: AOJu0YwAjj3B/IGbEorLCAvOci/9w5vOtE7jaZrIBsm4gSbH7YfRBL0+ uC5T2z4B+YMrBJ1mwxTtqqg1Zz3XCtyLlU+59efq7abx8L32YnHYmNyN2a3TLZW37vSQoyqAVn6 6RkCxyWtgjllTFcclW5daHAtOaSVP4JKjx5Qr2xunOXEMLWLBcEXNKeLZOtVJ X-Gm-Gg: ASbGncvW4Aufog8TQ+8LpcAsq6nSkhrXtngWQ+WTCkJd/0Yj8Gwh/w2l+6zgDtuSkuR oszfkirqCnsT3KHtcuZKf/Zno/iygehCOJ8Q4T8o8LiWu9IWHqiin+KTdJIN2WZ5lrll4tqByFF iazliMomJuYi4Gq8mGAexuW00aRL7YPrO+ivbvduZv4sFSve6NjCgmbTNP0puf1IO2nezZaYUnT vpjhaTdKxHJ2lvWvrXYyFvsw+emUZwZkb4AtDnILbbNotFKrYFv6CRukQ+zHepJkt2keB4QRjwG puJ9qit3Seo/H2o0UgXbnqDSUDibOibf3r7l+VAiucMAAXun4d6yrnr3mWmSTa/jFED/DMGaQRl z8UIBebjd X-Google-Smtp-Source: AGHT+IFyw9geCHm29uOHftWt7VcTVr3SchL9AY1Np3AH7iVloOEmKgAnSBI9o75n/6TS9lVR6v1F28XQ1+5N X-Received: by 2002:a05:6214:629:b0:87c:2c76:62a2 with SMTP id 6a1803df08f44-880711a2986mr11469706d6.64.1762286068798; Tue, 04 Nov 2025 11:54:28 -0800 (PST) Received: from postal.iol.unh.edu (postal.iol.unh.edu. [2606:4100:3880:1234::84]) by smtp-relay.gmail.com with ESMTPS id 6a1803df08f44-88060e6b603sm3321356d6.31.2025.11.04.11.54.28 (version=TLS1_2 cipher=ECDHE-ECDSA-AES128-GCM-SHA256 bits=128/128); Tue, 04 Nov 2025 11:54:28 -0800 (PST) X-Relaying-Domain: iol.unh.edu Date: Tue, 04 Nov 2025 11:54:28 -0800 (PST) Message-ID: <690a59f4.050a0220.297d3.1f83SMTPIN_ADDED_MISSING@mx.google.com> Received: from [172.21.0.3] (unknown [172.18.0.240]) by postal.iol.unh.edu (Postfix) with ESMTP id 733586050A61; Tue, 4 Nov 2025 14:54:28 -0500 (EST) Subject: |SUCCESS| pw158434-158441 [PATCH] [v6,8/8] doc: update documentation From: dpdklab@iol.unh.edu To: Test Report Cc: dpdk-test-reports@iol.unh.edu In-Reply-To: <20251104180927.403355-9-stephen@networkplumber.org> References: <20251104180927.403355-9-stephen@networkplumber.org> Content-Type: text/plain X-BeenThere: test-report@dpdk.org X-Mailman-Version: 2.1.29 Precedence: list List-Id: automatic DPDK test reports List-Unsubscribe: , List-Archive: List-Post: List-Help: List-Subscribe: , Errors-To: test-report-bounces@dpdk.org Test-Label: iol-compile-amd64-testing Test-Status: SUCCESS http://dpdk.org/patch/158441 _Testing PASS_ Submitter: Stephen Hemminger Date: Tuesday, November 04 2025 18:07:12 DPDK git baseline: Repo:dpdk Branch: master CommitID:1bdf2b3c27880f1d90df46a89d5643f20587a973 158434-158441 --> testing pass Upstream job id: Windows-Compile-DPDK-Native#32115 Test environment and result as below: +-------------------------------+--------------------+------------------+-------------------+-------------------------+ | Environment | dpdk_meson_compile | dpdk_compile_ovs | dpdk_msvc_compile | dpdk_llvm_clang_compile | +===============================+====================+==================+===================+=========================+ | CentOS Stream 10 | PASS | SKIPPED | SKIPPED | SKIPPED | +-------------------------------+--------------------+------------------+-------------------+-------------------------+ | CentOS Stream 9 | PASS | SKIPPED | SKIPPED | SKIPPED | +-------------------------------+--------------------+------------------+-------------------+-------------------------+ | Debian GNU/Linux 12 | PASS | SKIPPED | SKIPPED | SKIPPED | +-------------------------------+--------------------+------------------+-------------------+-------------------------+ | Ubuntu 20.04 | PASS | SKIPPED | SKIPPED | SKIPPED | +-------------------------------+--------------------+------------------+-------------------+-------------------------+ | Fedora Linux 42 | PASS | PASS | SKIPPED | SKIPPED | +-------------------------------+--------------------+------------------+-------------------+-------------------------+ | FreeBSD 14.2 | PASS | SKIPPED | SKIPPED | SKIPPED | +-------------------------------+--------------------+------------------+-------------------+-------------------------+ | Red Hat Enterprise Linux 8.10 | PASS | SKIPPED | SKIPPED | SKIPPED | +-------------------------------+--------------------+------------------+-------------------+-------------------------+ | openSUSE Leap 15.6 | PASS | SKIPPED | SKIPPED | SKIPPED | +-------------------------------+--------------------+------------------+-------------------+-------------------------+ | Ubuntu 24.04 | PASS | PASS | SKIPPED | SKIPPED | +-------------------------------+--------------------+------------------+-------------------+-------------------------+ | Ubuntu 22.04 | PASS | SKIPPED | SKIPPED | SKIPPED | +-------------------------------+--------------------+------------------+-------------------+-------------------------+ | Red Hat Enterprise Linux 9.5 | PASS | SKIPPED | SKIPPED | SKIPPED | +-------------------------------+--------------------+------------------+-------------------+-------------------------+ | Alpine Linux 3.22.0 | PASS | SKIPPED | SKIPPED | SKIPPED | +-------------------------------+--------------------+------------------+-------------------+-------------------------+ | Windows Server 2022 | SKIPPED | SKIPPED | PASS | PASS | +-------------------------------+--------------------+------------------+-------------------+-------------------------+ CentOS Stream 10 Kernel: 5.15 Compiler: gcc gcc (GCC) 14.2.1 20250110 (Red Hat 14.2.1-8) CentOS Stream 9 Kernel: 5.15 Compiler: gcc gcc (GCC) 11.5.0 20240719 (Red Hat 11.5.0-11) Debian GNU/Linux 12 Kernel: 5.15 Compiler: gcc gcc (Debian 12.2.0-14+deb12u1) 12.2.0 Ubuntu 20.04 Kernel: 4.19 Compiler: gcc gcc (Ubuntu 9.4.0-1ubuntu1~20.04.2) 9.4.0 Fedora Linux 42 Kernel: 5.15 Compiler: clang gcc (GCC) 15.2.1 20250808 (Red Hat 15.2.1-1) FreeBSD 14.2 Kernel: 14.2-RELEASE Compiler: clang 18.1.6 Red Hat Enterprise Linux 8.10 Kernel: 5.15 Compiler: gcc gcc (GCC) 8.5.0 20210514 (Red Hat 8.5.0-22) openSUSE Leap 15.6 Kernel: 5.15 Compiler: gcc gcc (SUSE Linux) 7.5.0 Ubuntu 24.04 Kernel: 5.15 Compiler: gcc gcc (Ubuntu 13.3.0-6ubuntu2~24.04) 13.3.0 Ubuntu 22.04 Kernel: 5.15 Compiler: gcc gcc (Ubuntu 11.4.0-1ubuntu1~22.04) 11.4.0 Red Hat Enterprise Linux 9.5 Kernel: 5.15 Compiler: gcc gcc (GCC) 11.5.0 20240719 (Red Hat 11.5.0-2) Alpine Linux 3.22.0 Kernel: 5.15 Compiler: gcc gcc (Alpine 14.2.0) 14.2.0 Windows Server 2022 Kernel: 10.0.20348.2031 Compiler: clang 15.0.7, gcc 14.1.0 (MinGW), and MSVC VS 19.39.33521 To view detailed results, visit: https://lab.dpdk.org/results/dashboard/patchsets/34463/ UNH-IOL DPDK Community Lab To manage your email subscriptions, visit: https://lab.dpdk.org/results/dashboard/preferences/subscriptions/