From mboxrd@z Thu Jan 1 00:00:00 1970 Return-Path: Received: from mails.dpdk.org (mails.dpdk.org [217.70.189.124]) by inbox.dpdk.org (Postfix) with ESMTP id C77FF48AB3 for ; Tue, 4 Nov 2025 21:02:10 +0100 (CET) Received: from mails.dpdk.org (localhost [127.0.0.1]) by mails.dpdk.org (Postfix) with ESMTP id B41C440269; Tue, 4 Nov 2025 21:02:10 +0100 (CET) Received: from mail-io1-f99.google.com (mail-io1-f99.google.com [209.85.166.99]) by mails.dpdk.org (Postfix) with ESMTP id 0064D40269 for ; Tue, 4 Nov 2025 21:02:08 +0100 (CET) Received: by mail-io1-f99.google.com with SMTP id ca18e2360f4ac-940d25b807bso242147039f.1 for ; Tue, 04 Nov 2025 12:02:08 -0800 (PST) DKIM-Signature: v=1; a=rsa-sha256; c=relaxed/relaxed; d=iol.unh.edu; s=unh-iol; t=1762286528; x=1762891328; darn=dpdk.org; h=references:in-reply-to:cc:to:from:subject:message-id:date:from:to :cc:subject:date:message-id:reply-to; bh=aRj+YDQogR3ymseVL65H0ApOCSc8kj82uOD9pePUmXo=; b=ayUY1rq92FYDdDnVBdrUXsWCEW+u7AUrLGVSDBwpmQKOAT84j1LjrdrWfZUJa9hurK fm9D/xqYqOZDbpraDMg+VOmLurI1O3Zlj7mPbjw7KQCg+TioVupj1Q49e+6wpIoSEpAw a/Yt0liwlNJGtWDkAlMWbuTUnqeqZyyrSz+qA= X-Google-DKIM-Signature: v=1; a=rsa-sha256; c=relaxed/relaxed; d=1e100.net; s=20230601; t=1762286528; x=1762891328; h=references:in-reply-to:cc:to:from:subject:message-id:date :x-gm-message-state:from:to:cc:subject:date:message-id:reply-to; bh=aRj+YDQogR3ymseVL65H0ApOCSc8kj82uOD9pePUmXo=; b=iCU2OJ8G4YL2GkIkEveW3edRRSenPIp2DpXoonURHm38Acxn11vbls+WmnBuyOoYPo pHqZ0InKtUT6IVzENI18EW8Ufu8iKJwOGyZTmdAmG00UsTzjoeQ0FYDY6MKHAEK6DOhC P8pMYNwvs+QB3rLHO8EG+nZDIDl4Khc3v8UCUC/v7BviIkrwLIFIqa25cXIuEYy2XJ5n XhIEVDQUUwDjZg+B+VChc2pyJ2rkdoBk6J7vThPWZ7yeVyUNNxzhcYhQAk9iBH9YCTLY eEJVZVUXCSn/DuT0Yl75lJn84kEzdZ2ywlVGdf2M48WfyK/D4deVlpKVFo9wNwUcwWFC qfkA== X-Gm-Message-State: AOJu0YwutkTIce9j5aCsfsR2PfMDzwMw9KwgqDCYlw1Zv12mHSa6gbvJ BFsYUSq4kxeoXXgrYHIRvKCZx4jN77pKdpXlP2tabgiPu2Sl5DY6tkL14kjeVj7Et7bG/4P44Bp TUaqCtN+zyKJ8DmXSswxMcyw0cWu6xASuyRMxEAtis7hsbMmksUywWmjdJfLQ X-Gm-Gg: ASbGncv6hHkQV0bPQcrVgTeplGcInO0MOvyFpiK+4MbahaQNfsw0J46Zv47OQFPgBa9 xBIh0SUXeB0BUEQa27Zr4e4h5n53tdp9/YIafLKx2pauCzLjwVMc1Opr2ytA1AGvc29h0kk/ecL dOq8bS2JGf9CfM2xvxuxQrOs3J7OfNq42Cc1yZ7w+CLm8p4VepVBF+KxN8zhh6vdVu061dm31uX tgmvzOhLOOw5KpIslZE33JH5k+4SmW1oN53mC+zB8HlcAg2huJNky3KWJ+IYVr+ytSXqvFCDYFT PZFGLSLp5kSg9/GjkWHd7BhXWnsMBYeqi+oad4HyvMbIGRgrfmagBZJFxYfDARG//dUR8dYcgyQ HbZ6j4YFU X-Google-Smtp-Source: AGHT+IFHghKe28plDH6jst8aFL8WcBr8urKgl5Xg9/5Qlh+MkLP4VGsowhAzTPWb//cIXXDAzfRpb79+gtmy X-Received: by 2002:a05:6e02:2404:b0:433:34b5:37a1 with SMTP id e9e14a558f8ab-433407bfbf8mr9175555ab.16.1762286528119; Tue, 04 Nov 2025 12:02:08 -0800 (PST) Received: from postal.iol.unh.edu (postal.iol.unh.edu. [2606:4100:3880:1234::84]) by smtp-relay.gmail.com with ESMTPS id 8926c6da1cb9f-5b72258bba8sm513351173.8.2025.11.04.12.02.08 (version=TLS1_2 cipher=ECDHE-ECDSA-AES128-GCM-SHA256 bits=128/128); Tue, 04 Nov 2025 12:02:08 -0800 (PST) X-Relaying-Domain: iol.unh.edu Date: Tue, 04 Nov 2025 12:02:08 -0800 (PST) Message-ID: <690a5bc0.050a0220.59394.c124SMTPIN_ADDED_MISSING@mx.google.com> Received: from [172.21.0.2] (unknown [172.18.0.240]) by postal.iol.unh.edu (Postfix) with ESMTP id C0090604D420; Tue, 4 Nov 2025 15:02:07 -0500 (EST) Subject: |SUCCESS| pw158434-158441 [PATCH] [v6,8/8] doc: update documentation From: dpdklab@iol.unh.edu To: Test Report Cc: dpdk-test-reports@iol.unh.edu In-Reply-To: <20251104180927.403355-9-stephen@networkplumber.org> References: <20251104180927.403355-9-stephen@networkplumber.org> Content-Type: text/plain X-BeenThere: test-report@dpdk.org X-Mailman-Version: 2.1.29 Precedence: list List-Id: automatic DPDK test reports List-Unsubscribe: , List-Archive: List-Post: List-Help: List-Subscribe: , Errors-To: test-report-bounces@dpdk.org Test-Label: iol-unit-amd64-testing Test-Status: SUCCESS http://dpdk.org/patch/158441 _Testing PASS_ Submitter: Stephen Hemminger Date: Tuesday, November 04 2025 18:07:12 DPDK git baseline: Repo:dpdk Branch: master CommitID:1bdf2b3c27880f1d90df46a89d5643f20587a973 158434-158441 --> testing pass Upstream job id: Generic-VM-Unit-Test-DPDK#32289 Test environment and result as below: +-------------------------------+----------------+ | Environment | dpdk_unit_test | +===============================+================+ | CentOS Stream 9 | PASS | +-------------------------------+----------------+ | CentOS Stream 10 | PASS | +-------------------------------+----------------+ | Debian GNU/Linux 12 | PASS | +-------------------------------+----------------+ | Fedora Linux 40 | PASS | +-------------------------------+----------------+ | Fedora Linux 41 | PASS | +-------------------------------+----------------+ | Fedora Linux 42 | PASS | +-------------------------------+----------------+ | Red Hat Enterprise Linux 8.10 | PASS | +-------------------------------+----------------+ | Ubuntu 22.04 | PASS | +-------------------------------+----------------+ | Red Hat Enterprise Linux 9.5 | PASS | +-------------------------------+----------------+ | Ubuntu 20.04 | PASS | +-------------------------------+----------------+ | Ubuntu 24.04 | PASS | +-------------------------------+----------------+ | Windows Server 2022 | PASS | +-------------------------------+----------------+ CentOS Stream 9 Kernel: 5.15 Compiler: gcc gcc (GCC) 11.5.0 20240719 (Red Hat 11.5.0-11) CentOS Stream 10 Kernel: 5.15 Compiler: gcc gcc (GCC) 14.2.1 20250110 (Red Hat 14.2.1-8) Debian GNU/Linux 12 Kernel: 5.15 Compiler: gcc gcc (Debian 12.2.0-14+deb12u1) 12.2.0 Fedora Linux 40 Kernel: 5.15 Compiler: clang gcc (GCC) 14.2.1 20240912 (Red Hat 14.2.1-3) Fedora Linux 41 Kernel: 5.15 Compiler: gcc gcc (GCC) 14.3.1 20250523 (Red Hat 14.3.1-1) Fedora Linux 42 Kernel: 5.15 Compiler: gcc gcc (GCC) 15.2.1 20250808 (Red Hat 15.2.1-1) Red Hat Enterprise Linux 8.10 Kernel: 5.15 Compiler: gcc gcc (GCC) 8.5.0 20210514 (Red Hat 8.5.0-22) Ubuntu 22.04 Kernel: 5.15 Compiler: gcc gcc (Ubuntu 11.4.0-1ubuntu1~22.04) 11.4.0 Red Hat Enterprise Linux 9.5 Kernel: 5.15 Compiler: gcc gcc (GCC) 11.5.0 20240719 (Red Hat 11.5.0-2) Ubuntu 20.04 Kernel: 5.15 Compiler: gcc gcc (Ubuntu 9.4.0-1ubuntu1~20.04.2) 9.4.0 Ubuntu 24.04 Kernel: 5.15 Compiler: gcc gcc (Ubuntu 13.3.0-6ubuntu2~24.04) 13.3.0 Windows Server 2022 Kernel: 10.0.20348.2031 Compiler: clang 15.0.7, gcc 14.1.0 (MinGW), and MSVC VS 19.39.33521 To view detailed results, visit: https://lab.dpdk.org/results/dashboard/patchsets/34463/ UNH-IOL DPDK Community Lab To manage your email subscriptions, visit: https://lab.dpdk.org/results/dashboard/preferences/subscriptions/