From mboxrd@z Thu Jan 1 00:00:00 1970 Return-Path: Received: from mails.dpdk.org (mails.dpdk.org [217.70.189.124]) by inbox.dpdk.org (Postfix) with ESMTP id 1ED2548AB3 for ; Tue, 4 Nov 2025 21:04:40 +0100 (CET) Received: from mails.dpdk.org (localhost [127.0.0.1]) by mails.dpdk.org (Postfix) with ESMTP id 04E7540269; Tue, 4 Nov 2025 21:04:40 +0100 (CET) Received: from mail-vs1-f100.google.com (mail-vs1-f100.google.com [209.85.217.100]) by mails.dpdk.org (Postfix) with ESMTP id D794D40269 for ; Tue, 4 Nov 2025 21:04:38 +0100 (CET) Received: by mail-vs1-f100.google.com with SMTP id ada2fe7eead31-5d96756a292so160754137.0 for ; Tue, 04 Nov 2025 12:04:38 -0800 (PST) DKIM-Signature: v=1; a=rsa-sha256; c=relaxed/relaxed; d=iol.unh.edu; s=unh-iol; t=1762286678; x=1762891478; darn=dpdk.org; h=references:in-reply-to:cc:to:from:subject:message-id:date:from:to :cc:subject:date:message-id:reply-to; bh=qRC7ueLtYqZMB1N/SXq5XLm7//WYLbTrbJINUqQqszo=; b=I7bh1zTcvmvOViD7ZElwY8vo4NcBlHxY38R4gro5MbHEs5zdKII42n2xIC6e4tSPVJ IenprulYZwhTUVawO9uvW8TDgb6xkwuRQC5kBWIt+pXTKAKSqensiUZy2wsrEs989zN+ hBCvrdc99FMhWB0TZNONNdWaAL7cYYu2T+tcs= X-Google-DKIM-Signature: v=1; a=rsa-sha256; c=relaxed/relaxed; d=1e100.net; s=20230601; t=1762286678; x=1762891478; h=references:in-reply-to:cc:to:from:subject:message-id:date :x-gm-message-state:from:to:cc:subject:date:message-id:reply-to; bh=qRC7ueLtYqZMB1N/SXq5XLm7//WYLbTrbJINUqQqszo=; b=PJ+DBjEvvYbmS4KHB4C53tgQ5ESdM20Cqip5+MkndKfhj2kdl6T+h8GjEGWQyeiv7Q 8ldhe7I8+f0mrjr6Fm/bAHBXhPEEvf1Z6iyBfne4vAlSitJ7VcN8gUwOhYPfxn/XgocQ 89v9vv6dkP3wEnGEuERnZ+Mw9/+D2watQlnnp4GjS2KjI0VpcQRAkV2Ii6cxav8iBYus eaWTat2sn+RzS6D5PniRxEH6Y+9Gv8vJDkidcj+t2eI8Bbk4a0cqbOVPR96Lfwit9Nia KR7BcsELsvnYxQrWTXFpI37iF8mIkWnQRWFq2p53gOiCdV8Kf74/sYnftfCwo83TALRq sMtw== X-Gm-Message-State: AOJu0YwAShToP4j0nK8Yo6LfFB63Xssrt8AwtOiY3T0Jv/Xq+aSCFRVM eZXo/QkQLYkm2w6mKI05OAfDJIoKdRqeecn3cdDWIQc4P8bsKOi7arCv3h0YSd7BRzdT7x9dZWL Ht1GJMIXWPLhjqANDo+MYrTwDkFdTqh83XlBWGD4pU4o6 X-Gm-Gg: ASbGncvCixR5Rdfhf9GBf2Y2NxkML8yiECSUtXz/i0p2BTxZVRTkQeo60sycvRQamqY so4xBbETYzbGrvJKKzr6ZrkW1F2ap7JCXDlCZn/4wGL2TbmGcxESNpJLsU4rDO5KeFoDkjKApht UomA4URBoB0XW9RluXHGiRhCdeiLgcjQG2VoQbLYXeg8QPXBX/O5jz39hxbXFik8hsx7KQfuy5I VaRxopK07POusQb+WZ53TuM9+++TdY5+CkU9h2ZzlDqRLLzDlbTy13Ox8EDwURc8e7D9vmuyOAR XCQzNJRGNY8UzpatMItXZnA0m5f0oagj0x5n0ebknPNSE0aZaI7zv3YHoEiPkq5pxmjPSzSj+Ep UNhqP1TWx1Fn99v/GbIbNIg2GwWJBFDg= X-Google-Smtp-Source: AGHT+IFloIRSVo9MQnpWl7ZWsg+h1Xe/2cZ0aucVlenL/bEYyi8lFBpdy8cl7nO8z84UDWVpkaY66jwfgbjr X-Received: by 2002:a05:6102:1445:10b0:5db:f8c7:5aae with SMTP id ada2fe7eead31-5dbf8c75f17mr1365756137.17.1762286678116; Tue, 04 Nov 2025 12:04:38 -0800 (PST) Received: from postal.iol.unh.edu (postal.iol.unh.edu. [132.177.123.84]) by smtp-relay.gmail.com with ESMTPS id a1e0cc1a2514c-935428faa9bsm50989241.7.2025.11.04.12.04.38 (version=TLS1_2 cipher=ECDHE-ECDSA-AES128-GCM-SHA256 bits=128/128); Tue, 04 Nov 2025 12:04:38 -0800 (PST) X-Relaying-Domain: iol.unh.edu Date: Tue, 04 Nov 2025 12:04:38 -0800 (PST) Message-ID: <690a5c56.050a0220.18a43.2910SMTPIN_ADDED_MISSING@mx.google.com> Received: from [172.21.0.2] (unknown [172.18.0.240]) by postal.iol.unh.edu (Postfix) with ESMTP id BEC5E604D420; Tue, 4 Nov 2025 15:04:37 -0500 (EST) Subject: |SUCCESS| pw158434-158441 [PATCH] [v6,8/8] doc: update documentation From: dpdklab@iol.unh.edu To: Test Report Cc: dpdk-test-reports@iol.unh.edu In-Reply-To: <20251104180927.403355-9-stephen@networkplumber.org> References: <20251104180927.403355-9-stephen@networkplumber.org> Content-Type: text/plain X-BeenThere: test-report@dpdk.org X-Mailman-Version: 2.1.29 Precedence: list List-Id: automatic DPDK test reports List-Unsubscribe: , List-Archive: List-Post: List-Help: List-Subscribe: , Errors-To: test-report-bounces@dpdk.org Test-Label: iol-compile-amd64-testing Test-Status: SUCCESS http://dpdk.org/patch/158441 _Testing PASS_ Submitter: Stephen Hemminger Date: Tuesday, November 04 2025 18:07:12 DPDK git baseline: Repo:dpdk Branch: master CommitID:1bdf2b3c27880f1d90df46a89d5643f20587a973 158434-158441 --> testing pass Upstream job id: Windows-Compile-DPDK-Native#32116 Test environment and result as below: +-------------------------------+--------------------+------------------+-------------------+-------------------------+----------------------+ | Environment | dpdk_meson_compile | dpdk_compile_ovs | dpdk_msvc_compile | dpdk_llvm_clang_compile | dpdk_mingw64_compile | +===============================+====================+==================+===================+=========================+======================+ | CentOS Stream 10 | PASS | SKIPPED | SKIPPED | SKIPPED | SKIPPED | +-------------------------------+--------------------+------------------+-------------------+-------------------------+----------------------+ | CentOS Stream 9 | PASS | SKIPPED | SKIPPED | SKIPPED | SKIPPED | +-------------------------------+--------------------+------------------+-------------------+-------------------------+----------------------+ | Debian GNU/Linux 12 | PASS | SKIPPED | SKIPPED | SKIPPED | SKIPPED | +-------------------------------+--------------------+------------------+-------------------+-------------------------+----------------------+ | Ubuntu 20.04 | PASS | SKIPPED | SKIPPED | SKIPPED | SKIPPED | +-------------------------------+--------------------+------------------+-------------------+-------------------------+----------------------+ | Fedora Linux 42 | PASS | PASS | SKIPPED | SKIPPED | SKIPPED | +-------------------------------+--------------------+------------------+-------------------+-------------------------+----------------------+ | FreeBSD 14.2 | PASS | SKIPPED | SKIPPED | SKIPPED | SKIPPED | +-------------------------------+--------------------+------------------+-------------------+-------------------------+----------------------+ | Red Hat Enterprise Linux 8.10 | PASS | SKIPPED | SKIPPED | SKIPPED | SKIPPED | +-------------------------------+--------------------+------------------+-------------------+-------------------------+----------------------+ | openSUSE Leap 15.6 | PASS | SKIPPED | SKIPPED | SKIPPED | SKIPPED | +-------------------------------+--------------------+------------------+-------------------+-------------------------+----------------------+ | Ubuntu 24.04 | PASS | PASS | SKIPPED | SKIPPED | SKIPPED | +-------------------------------+--------------------+------------------+-------------------+-------------------------+----------------------+ | Ubuntu 22.04 | PASS | SKIPPED | SKIPPED | SKIPPED | SKIPPED | +-------------------------------+--------------------+------------------+-------------------+-------------------------+----------------------+ | Red Hat Enterprise Linux 9.5 | PASS | SKIPPED | SKIPPED | SKIPPED | SKIPPED | +-------------------------------+--------------------+------------------+-------------------+-------------------------+----------------------+ | Alpine Linux 3.22.0 | PASS | SKIPPED | SKIPPED | SKIPPED | SKIPPED | +-------------------------------+--------------------+------------------+-------------------+-------------------------+----------------------+ | Windows Server 2022 | SKIPPED | SKIPPED | PASS | PASS | PASS | +-------------------------------+--------------------+------------------+-------------------+-------------------------+----------------------+ CentOS Stream 10 Kernel: 5.15 Compiler: gcc gcc (GCC) 14.2.1 20250110 (Red Hat 14.2.1-8) CentOS Stream 9 Kernel: 5.15 Compiler: gcc gcc (GCC) 11.5.0 20240719 (Red Hat 11.5.0-11) Debian GNU/Linux 12 Kernel: 5.15 Compiler: gcc gcc (Debian 12.2.0-14+deb12u1) 12.2.0 Ubuntu 20.04 Kernel: 4.19 Compiler: gcc gcc (Ubuntu 9.4.0-1ubuntu1~20.04.2) 9.4.0 Fedora Linux 42 Kernel: 5.15 Compiler: clang gcc (GCC) 15.2.1 20250808 (Red Hat 15.2.1-1) FreeBSD 14.2 Kernel: 14.2-RELEASE Compiler: clang 18.1.6 Red Hat Enterprise Linux 8.10 Kernel: 5.15 Compiler: gcc gcc (GCC) 8.5.0 20210514 (Red Hat 8.5.0-22) openSUSE Leap 15.6 Kernel: 5.15 Compiler: gcc gcc (SUSE Linux) 7.5.0 Ubuntu 24.04 Kernel: 5.15 Compiler: gcc gcc (Ubuntu 13.3.0-6ubuntu2~24.04) 13.3.0 Ubuntu 22.04 Kernel: 5.15 Compiler: gcc gcc (Ubuntu 11.4.0-1ubuntu1~22.04) 11.4.0 Red Hat Enterprise Linux 9.5 Kernel: 5.15 Compiler: gcc gcc (GCC) 11.5.0 20240719 (Red Hat 11.5.0-2) Alpine Linux 3.22.0 Kernel: 5.15 Compiler: gcc gcc (Alpine 14.2.0) 14.2.0 Windows Server 2022 Kernel: 10.0.20348.2031 Compiler: clang 15.0.7, gcc 14.1.0 (MinGW), and MSVC VS 19.39.33521 To view detailed results, visit: https://lab.dpdk.org/results/dashboard/patchsets/34463/ UNH-IOL DPDK Community Lab To manage your email subscriptions, visit: https://lab.dpdk.org/results/dashboard/preferences/subscriptions/