From mboxrd@z Thu Jan 1 00:00:00 1970 Return-Path: Received: from mails.dpdk.org (mails.dpdk.org [217.70.189.124]) by inbox.dpdk.org (Postfix) with ESMTP id 9D43048AB3 for ; Tue, 4 Nov 2025 21:13:08 +0100 (CET) Received: from mails.dpdk.org (localhost [127.0.0.1]) by mails.dpdk.org (Postfix) with ESMTP id 6C65B40269; Tue, 4 Nov 2025 21:13:08 +0100 (CET) Received: from mail-qv1-f98.google.com (mail-qv1-f98.google.com [209.85.219.98]) by mails.dpdk.org (Postfix) with ESMTP id 45FBF40269 for ; Tue, 4 Nov 2025 21:13:07 +0100 (CET) Received: by mail-qv1-f98.google.com with SMTP id 6a1803df08f44-8802b66c811so58107966d6.1 for ; Tue, 04 Nov 2025 12:13:07 -0800 (PST) DKIM-Signature: v=1; a=rsa-sha256; c=relaxed/relaxed; d=iol.unh.edu; s=unh-iol; t=1762287186; x=1762891986; darn=dpdk.org; h=references:in-reply-to:cc:to:from:subject:message-id:date:from:to :cc:subject:date:message-id:reply-to; bh=5SsmMPRRwPKm9ub34y/jV2L/oqFHgfzvWQni8nOOwNw=; b=ilEklHVNerrTHLlH36GcgvbGNMLQD0VjCQcIVh8BkOC27XCEJcO4lUGlAJPuK75r15 85Bpg7E2hhcPE2cOYSeYha2UH3SaOhr9038Sw3Kz0hLxxpxlHuXayRX8y8QLEIdZHSAf 6k9WPHOKuJb9c9xLTckFCj2kpixRqA3CLfpIw= X-Google-DKIM-Signature: v=1; a=rsa-sha256; c=relaxed/relaxed; d=1e100.net; s=20230601; t=1762287186; x=1762891986; h=references:in-reply-to:cc:to:from:subject:message-id:date :x-gm-message-state:from:to:cc:subject:date:message-id:reply-to; bh=5SsmMPRRwPKm9ub34y/jV2L/oqFHgfzvWQni8nOOwNw=; b=OX4Dthw10kh9cTWKhqAsmTOVMxgEv4YjponoDFQHsbYIo/S99clmnTq2iaepJPOrVS g+a5gr9bDB+MO5jYd0ZVK81pca9PAVGS2L2r9X3RKOLyu50uxXmalfw1XDJzjMx/t+9X d0TsuVnjBqk2lkC0lCiSyoONL25jcfxN5rXiE7uPCyj7b9OMxp0dm7t0ly4mh/GjER8t P2GQZ27K221N2DJGU3FKLqaw+3g2MLSbTZ5vyPC+OGuBv19HNoU/QXlA5gogA6mcg4sD fAhUX5E5rGCstQ90JK+xHglxUTAr2N62nSRhEv8QkDFThmn3TNYmwEh8y4Y9lTdFmHcg kzyA== X-Gm-Message-State: AOJu0Yzfja/RR/AqNWiU2xTP+KThaAYPQemOFlmhttk80+4nclAyys2Z LUGBnwHhl98+Lh5GIl+nFt/INdyiiq6ntDjOIV0WfY/tCGnQQb3EIAkqWnzFzVEWbPyCKNk6Lzd XUKjyUaZJNKeDXRvh+HZg0ZUwpmLd652jfgztj/Asm5P3 X-Gm-Gg: ASbGncu+IFydRUgveF/lKOA5phpFGFJ8rUDU0+Pg1ogn7s8cQ+sm+2BlXRn26IX+M2y OnRuY3W0JYoIKeRCO/rnSk0QAR5T+z2UxTS+SvDuxM7PR+Yi7PIK1kqF0dA9QhUNZwH5oamTAQb sCdVVz69p2moCpeP79FQglr5EGW7VnGaS91m4aygFxmMglOnthvzfPxrGVuiIE+ut7I5twndAxt NusC11h5KsqAAbuijNXxoonUuflXr0dQxPklMUo/WshPH/ttxiigUhR0wYkpJidCWUyuesB5aJ4 98vGGXpoJp6kGM0Z20avR/9sYDF5gUWi0NuGRJgh0L1Z88hKT8f8qM+UocDMyckGtU0uJr6n3iR GpNM5V85l5eo52T50y29akWx+ups026c= X-Google-Smtp-Source: AGHT+IFp4kYFDC47n3811l8hluFb0qqHiPDM8ZdqrIMzig7wYSpmXopI0K9e9lS/T1fBLeovHj4TnmecttLq X-Received: by 2002:a05:6214:2484:b0:880:2d04:fa07 with SMTP id 6a1803df08f44-88071170a11mr13389746d6.32.1762287186573; Tue, 04 Nov 2025 12:13:06 -0800 (PST) Received: from postal.iol.unh.edu (postal.iol.unh.edu. [132.177.123.84]) by smtp-relay.gmail.com with ESMTPS id 6a1803df08f44-88060e68e04sm3464826d6.29.2025.11.04.12.13.06 (version=TLS1_2 cipher=ECDHE-ECDSA-AES128-GCM-SHA256 bits=128/128); Tue, 04 Nov 2025 12:13:06 -0800 (PST) X-Relaying-Domain: iol.unh.edu Date: Tue, 04 Nov 2025 12:13:06 -0800 (PST) Message-ID: <690a5e52.050a0220.386313.2e60SMTPIN_ADDED_MISSING@mx.google.com> Received: from [172.21.0.2] (unknown [172.18.0.240]) by postal.iol.unh.edu (Postfix) with ESMTP id 3E03A60003E8; Tue, 4 Nov 2025 15:13:06 -0500 (EST) Subject: |SUCCESS| pw158434-158441 [PATCH] [v6,8/8] doc: update documentation From: dpdklab@iol.unh.edu To: Test Report Cc: dpdk-test-reports@iol.unh.edu In-Reply-To: <20251104180927.403355-9-stephen@networkplumber.org> References: <20251104180927.403355-9-stephen@networkplumber.org> Content-Type: text/plain X-BeenThere: test-report@dpdk.org X-Mailman-Version: 2.1.29 Precedence: list List-Id: automatic DPDK test reports List-Unsubscribe: , List-Archive: List-Post: List-Help: List-Subscribe: , Errors-To: test-report-bounces@dpdk.org Test-Label: iol-unit-amd64-testing Test-Status: SUCCESS http://dpdk.org/patch/158441 _Testing PASS_ Submitter: Stephen Hemminger Date: Tuesday, November 04 2025 18:07:12 DPDK git baseline: Repo:dpdk Branch: master CommitID:1bdf2b3c27880f1d90df46a89d5643f20587a973 158434-158441 --> testing pass Upstream job id: Generic-VM-Unit-Test-DPDK#32290 Test environment and result as below: +-------------------------------+----------------+ | Environment | dpdk_unit_test | +===============================+================+ | CentOS Stream 9 | PASS | +-------------------------------+----------------+ | CentOS Stream 10 | PASS | +-------------------------------+----------------+ | Debian GNU/Linux 12 | PASS | +-------------------------------+----------------+ | Fedora Linux 40 | PASS | +-------------------------------+----------------+ | Fedora Linux 41 | PASS | +-------------------------------+----------------+ | Fedora Linux 42 | PASS | +-------------------------------+----------------+ | Red Hat Enterprise Linux 8.10 | PASS | +-------------------------------+----------------+ | Ubuntu 22.04 | PASS | +-------------------------------+----------------+ | Red Hat Enterprise Linux 9.5 | PASS | +-------------------------------+----------------+ | Ubuntu 20.04 | PASS | +-------------------------------+----------------+ | Ubuntu 24.04 | PASS | +-------------------------------+----------------+ | Windows Server 2022 | PASS | +-------------------------------+----------------+ CentOS Stream 9 Kernel: 5.15 Compiler: gcc gcc (GCC) 11.5.0 20240719 (Red Hat 11.5.0-11) CentOS Stream 10 Kernel: 5.15 Compiler: gcc gcc (GCC) 14.2.1 20250110 (Red Hat 14.2.1-8) Debian GNU/Linux 12 Kernel: 5.15 Compiler: gcc gcc (Debian 12.2.0-14+deb12u1) 12.2.0 Fedora Linux 40 Kernel: 5.15 Compiler: clang gcc (GCC) 14.2.1 20240912 (Red Hat 14.2.1-3) Fedora Linux 41 Kernel: 5.15 Compiler: gcc gcc (GCC) 14.3.1 20250523 (Red Hat 14.3.1-1) Fedora Linux 42 Kernel: 5.15 Compiler: gcc gcc (GCC) 15.2.1 20250808 (Red Hat 15.2.1-1) Red Hat Enterprise Linux 8.10 Kernel: 5.15 Compiler: gcc gcc (GCC) 8.5.0 20210514 (Red Hat 8.5.0-22) Ubuntu 22.04 Kernel: 5.15 Compiler: gcc gcc (Ubuntu 11.4.0-1ubuntu1~22.04) 11.4.0 Red Hat Enterprise Linux 9.5 Kernel: 5.15 Compiler: gcc gcc (GCC) 11.5.0 20240719 (Red Hat 11.5.0-2) Ubuntu 20.04 Kernel: 5.15 Compiler: gcc gcc (Ubuntu 9.4.0-1ubuntu1~20.04.2) 9.4.0 Ubuntu 24.04 Kernel: 5.15 Compiler: gcc gcc (Ubuntu 13.3.0-6ubuntu2~24.04) 13.3.0 Windows Server 2022 Kernel: 10.0.20348.2031 Compiler: clang 15.0.7, gcc 14.1.0 (MinGW), and MSVC VS 19.39.33521 To view detailed results, visit: https://lab.dpdk.org/results/dashboard/patchsets/34463/ UNH-IOL DPDK Community Lab To manage your email subscriptions, visit: https://lab.dpdk.org/results/dashboard/preferences/subscriptions/