From mboxrd@z Thu Jan 1 00:00:00 1970 Return-Path: Received: from mails.dpdk.org (mails.dpdk.org [217.70.189.124]) by inbox.dpdk.org (Postfix) with ESMTP id B41B848AB3 for ; Tue, 4 Nov 2025 21:27:51 +0100 (CET) Received: from mails.dpdk.org (localhost [127.0.0.1]) by mails.dpdk.org (Postfix) with ESMTP id 9AA5240269; Tue, 4 Nov 2025 21:27:51 +0100 (CET) Received: from mail-il1-f226.google.com (mail-il1-f226.google.com [209.85.166.226]) by mails.dpdk.org (Postfix) with ESMTP id 5AB4640269 for ; Tue, 4 Nov 2025 21:27:50 +0100 (CET) Received: by mail-il1-f226.google.com with SMTP id e9e14a558f8ab-43326c74e19so12728775ab.1 for ; Tue, 04 Nov 2025 12:27:50 -0800 (PST) DKIM-Signature: v=1; a=rsa-sha256; c=relaxed/relaxed; d=iol.unh.edu; s=unh-iol; t=1762288069; x=1762892869; darn=dpdk.org; h=references:in-reply-to:cc:to:from:subject:message-id:date:from:to :cc:subject:date:message-id:reply-to; bh=4sbOQrH/FB4bADnw6s9z8tK5+bH7CQ5nExgUimMyWes=; b=DC4pl1NzOqLR0ji4U5oe861QkPiO1bqevwrAtng+pk7rMKTPMtIfJaMQXE1x4RCq+M C+8YrcNLgbzZ2vBytAARoB8NzcBWe/9onuSv5G1TDPXjqhadfYb0UPTp2zmnrOYyfBuE dAt4Pl/uUQuzUMQt6P4OE/qpCW/91lRaWzMGc= X-Google-DKIM-Signature: v=1; a=rsa-sha256; c=relaxed/relaxed; d=1e100.net; s=20230601; t=1762288069; x=1762892869; h=references:in-reply-to:cc:to:from:subject:message-id:date :x-gm-message-state:from:to:cc:subject:date:message-id:reply-to; bh=4sbOQrH/FB4bADnw6s9z8tK5+bH7CQ5nExgUimMyWes=; b=eOdBm6LOaDMtnlQVV1+1Ju6Othz3rr5ogoKKW3sD7F0radUvnO9GEnZEd4RnQp7Vmm CK/sNk+XU90MXzwHoQDDOKr9kRBwUXgsAJJ/r4lgacOPHNJNSGBgx5IOq7gc9CIHyjFJ M/tAyTqFNMytOfVWWf15PG4snf0Y4UGdCeqhDcaGQEKm2aCVAOaqDM7DkED8O6fkXzZi 7yBZKRZflEqDIMnw3j2qxnoxvQy7As4fsbUeIegRp0kGtuPkcbq6jMLLO3NHHGK6386K xiXJsXzq3u0SOuw6SBtfGOxtgkuFzjlb4/DFUgii57ZGfT2C9ESCJIAHhk2vNZvO1B5n 1Zog== X-Gm-Message-State: AOJu0YzUYzJDGjQY7l9mbs2MPQMql53u9EvRXTB/n1K+AuuJceHatfGF QmD556Q+ludUBjVYxu0LbEx7kO2WTzqodUwCYzE5fpQ/nXZ9QmnmvpgsYNaa5ET8fcfFb8C7naI aGV51v1K/B919XqRonuDKQLuMdUMX+7IhIRCkk2LnqiXHonwyAwFOEpbR+/by X-Gm-Gg: ASbGnctWUKHWKJTPclPcwMZ5UPY5dBAw7Yov8Ap64Aj6WEOtseDIcs8ooWn9MrZeE3V +SazOf+Gl81yXvnw0OcOog/edoMvZsf4rdGNkwebgyFZBwkwvgi0qOb+5FlioCXIkbe3C6MbCii +PSbsx+LQ2t4MxU/MyryI/gH0sYZSoSs6Xds6QViUlb9/FLc+b/xCICHl3RjZMfZOX4qwXTwUnO qiVV4damYl/1r+XzFPY6RYz36ro+8fp5b4dC8XJOzrL5Wv34u574R9RQIiF+VuncNlfJzjh3zFk C12VpIyh96jMtegYPN9/+6F+imFZtN6wN4BALWb782VkSFZIOFxrekC10tpfOUoEYX/rvnQyg8h fkTnhHJmT X-Google-Smtp-Source: AGHT+IEmTprkEvUi0KZP7ii6iY0MhZcZOtAm2gVR4PjW8OS4cL4qWka/hwiTi9DroH6rx2i41MHjFr8K2MQ7 X-Received: by 2002:a05:6e02:3c05:b0:431:d864:366a with SMTP id e9e14a558f8ab-433407a3144mr9867585ab.2.1762288069610; Tue, 04 Nov 2025 12:27:49 -0800 (PST) Received: from postal.iol.unh.edu (postal.iol.unh.edu. [2606:4100:3880:1234::84]) by smtp-relay.gmail.com with ESMTPS id e9e14a558f8ab-43335b54c22sm3591595ab.31.2025.11.04.12.27.49 (version=TLS1_2 cipher=ECDHE-ECDSA-AES128-GCM-SHA256 bits=128/128); Tue, 04 Nov 2025 12:27:49 -0800 (PST) X-Relaying-Domain: iol.unh.edu Date: Tue, 04 Nov 2025 12:27:49 -0800 (PST) Message-ID: <690a61c5.050a0220.29f546.4331SMTPIN_ADDED_MISSING@mx.google.com> Received: from [172.21.0.2] (unknown [172.18.0.240]) by postal.iol.unh.edu (Postfix) with ESMTP id 19A446051830; Tue, 4 Nov 2025 15:27:49 -0500 (EST) Subject: |SUCCESS| pw158420 [PATCH] net/fm10k: fix build with GCC 16 From: dpdklab@iol.unh.edu To: Test Report Cc: dpdk-test-reports@iol.unh.edu, Bruce Richardson In-Reply-To: <20251104111515.1728873-1-bruce.richardson@intel.com> References: <20251104111515.1728873-1-bruce.richardson@intel.com> Content-Type: text/plain X-BeenThere: test-report@dpdk.org X-Mailman-Version: 2.1.29 Precedence: list List-Id: automatic DPDK test reports List-Unsubscribe: , List-Archive: List-Post: List-Help: List-Subscribe: , Errors-To: test-report-bounces@dpdk.org Test-Label: iol-unit-arm64-testing Test-Status: SUCCESS http://dpdk.org/patch/158420 _Testing PASS_ Submitter: Bruce Richardson Date: Tuesday, November 04 2025 11:15:15 DPDK git baseline: Repo:dpdk-next-net-intel Branch: master CommitID:40de0ba36a04ef80e8a2ac90c240183fc2c6d1b4 158420 --> testing pass Upstream job id: Generic-Unit-Test-DPDK#388382 Test environment and result as below: +------------------------------+----------------+------------------------------+--------------+---------------------------+ | Environment | dpdk_unit_test | cryptodev_sw_snow3g_autotest | lpm_autotest | cryptodev_sw_zuc_autotest | +==============================+================+==============================+==============+===========================+ | Ubuntu 22.04 | PASS | SKIPPED | SKIPPED | SKIPPED | +------------------------------+----------------+------------------------------+--------------+---------------------------+ | CentOS Stream 9 | PASS | SKIPPED | SKIPPED | SKIPPED | +------------------------------+----------------+------------------------------+--------------+---------------------------+ | CentOS Stream 10 | PASS | SKIPPED | SKIPPED | SKIPPED | +------------------------------+----------------+------------------------------+--------------+---------------------------+ | Fedora Linux 42 | PASS | SKIPPED | SKIPPED | SKIPPED | +------------------------------+----------------+------------------------------+--------------+---------------------------+ | Debian GNU/Linux 12 | PASS | SKIPPED | SKIPPED | SKIPPED | +------------------------------+----------------+------------------------------+--------------+---------------------------+ | Fedora Linux 41 | PASS | SKIPPED | SKIPPED | SKIPPED | +------------------------------+----------------+------------------------------+--------------+---------------------------+ | Ubuntu 24.04 | PASS | SKIPPED | SKIPPED | SKIPPED | +------------------------------+----------------+------------------------------+--------------+---------------------------+ | Red Hat Enterprise Linux 9.5 | PASS | SKIPPED | SKIPPED | SKIPPED | +------------------------------+----------------+------------------------------+--------------+---------------------------+ | Fedora Linux 40 | PASS | SKIPPED | SKIPPED | SKIPPED | +------------------------------+----------------+------------------------------+--------------+---------------------------+ | Ubuntu 20.04 | PASS | SKIPPED | PASS | SKIPPED | +------------------------------+----------------+------------------------------+--------------+---------------------------+ | Debian 12 (arm) | SKIPPED | PASS | SKIPPED | PASS | +------------------------------+----------------+------------------------------+--------------+---------------------------+ Ubuntu 22.04 Kernel: 5.4 Compiler: gcc gcc (Ubuntu 11.4.0-1ubuntu1~22.04) 11.4.0 CentOS Stream 9 Kernel: 5.4 Compiler: gcc gcc (GCC) 11.5.0 20240719 (Red Hat 11.5.0-11) CentOS Stream 10 Kernel: 5.4 Compiler: gcc gcc (GCC) 14.2.1 20250110 (Red Hat 14.2.1-8) Fedora Linux 42 Kernel: 5.4 Compiler: clang gcc (GCC) 15.2.1 20250808 (Red Hat 15.2.1-1) Debian GNU/Linux 12 Kernel: 5.4 Compiler: gcc gcc (Debian 12.2.0-14+deb12u1) 12.2.0 Fedora Linux 41 Kernel: 5.4 Compiler: clang gcc (GCC) 14.3.1 20250523 (Red Hat 14.3.1-1) Ubuntu 24.04 Kernel: 5.4 Compiler: gcc gcc (Ubuntu 13.3.0-6ubuntu2~24.04) 13.3.0 Red Hat Enterprise Linux 9.5 Kernel: 5.4 Compiler: gcc gcc (GCC) 11.5.0 20240719 (Red Hat 11.5.0-2) Fedora Linux 40 Kernel: 5.4 Compiler: clang gcc (GCC) 14.2.1 20240912 (Red Hat 14.2.1-3) Ubuntu 20.04 Kernel: 5.4 Compiler: gcc gcc (Ubuntu 9.4.0-1ubuntu1~20.04.2) 9.4.0 Debian 12 (arm) Kernel: Depends on container host Compiler: gcc (Debian 12.2.0-14) 12.2.0 To view detailed results, visit: https://lab.dpdk.org/results/dashboard/patchsets/34457/ UNH-IOL DPDK Community Lab To manage your email subscriptions, visit: https://lab.dpdk.org/results/dashboard/preferences/subscriptions/