From mboxrd@z Thu Jan 1 00:00:00 1970 Return-Path: Received: from mails.dpdk.org (mails.dpdk.org [217.70.189.124]) by inbox.dpdk.org (Postfix) with ESMTP id CD72448AB6 for ; Tue, 4 Nov 2025 22:28:29 +0100 (CET) Received: from mails.dpdk.org (localhost [127.0.0.1]) by mails.dpdk.org (Postfix) with ESMTP id AAB2840269; Tue, 4 Nov 2025 22:28:29 +0100 (CET) Received: from mail-oi1-f227.google.com (mail-oi1-f227.google.com [209.85.167.227]) by mails.dpdk.org (Postfix) with ESMTP id F086E40269 for ; Tue, 4 Nov 2025 22:28:27 +0100 (CET) Received: by mail-oi1-f227.google.com with SMTP id 5614622812f47-44fe80bde84so149938b6e.2 for ; Tue, 04 Nov 2025 13:28:27 -0800 (PST) DKIM-Signature: v=1; a=rsa-sha256; c=relaxed/relaxed; d=iol.unh.edu; s=unh-iol; t=1762291707; x=1762896507; darn=dpdk.org; h=references:in-reply-to:cc:to:from:subject:message-id:date:from:to :cc:subject:date:message-id:reply-to; bh=+yVVMzVyamH6lKaYK2vFRxKJ8nq6J27XzYJqr9GVrJY=; b=DjV+DzC/ld3n1rKTRDxmxZb6+MFMmroJF8RAF9hnPA87tstaiq5TyvoWbqfhY/YatK uBkt9YIHWUX74f99NVgXxj+dVQZqYVOep0Xczwktj1ZLpGh3VE+32IZq1ppQFa8WAOnj kf3ayMcqQaQHQWp9V8y/+wyMlHDDR7mqnGhUQ= X-Google-DKIM-Signature: v=1; a=rsa-sha256; c=relaxed/relaxed; d=1e100.net; s=20230601; t=1762291707; x=1762896507; h=references:in-reply-to:cc:to:from:subject:message-id:date :x-gm-message-state:from:to:cc:subject:date:message-id:reply-to; bh=+yVVMzVyamH6lKaYK2vFRxKJ8nq6J27XzYJqr9GVrJY=; b=Ja1kUWJNQmkbh6l8wj4xcrt2394XXOt7ieUgfLXw16ue17t6gPShfWF7WRAnls6Dry zjdL73wxSwzUbHOU8ADH7M+LJa7SUDjS+fFN+Y0ZpPCREEFxjlcskZAyWwBEATxqeboa kDWNuQploFQ6+cMJE4c7KCHt6jSBV9kCPRLNZirX+TG4P/3vFdCFNkgZ13++D0Rb5031 flq/uJYHCij/IO9zSPGX4w1lvklRQpLMulphJp9sazILuSp2+dZn2JW1ArV/RfzlY5RL Z9O0aZhQlchk7o+a4kyACMBZYeMfmcjafjW0iUUgoghCXJjQqnPdUqUJqAVplQWfE3S7 Nrlg== X-Gm-Message-State: AOJu0YyljxHmrusjuT7fE27Ij/gUUZo5vPpS78lQvz4mbND1Tp2lVCYw Pr3KiTvCCPgMSGi2I5hMVFGbA7frhBAycPd+rVIFvlznP3adcUMqe/NwZGC0H3epbiT8zlCIlql Thv9KOH7A61pKTSRvB2nirsBpX94YVzlMZsEMu8OFYB6RSdvVHL9OgN1muLFc X-Gm-Gg: ASbGncsEiTpZAq3LM30jFlJMknbUhP6K8GnmAcHVtVcP3lRrEBmfcroYBuqmOb7tIcm VR9K/YwGWN8USnJ3s9D9xyNSbTH4ZQGtLpyWj2g/Xb2iXCZuQSCOJzyPxKRnPh08wvzp7jSy9Pl ShvkQep0FtWfw86UPuN7sA4jTbYT72vErGxNa0rPhnmDbFgsB+D7eK+da4rE3jBoM2UScTmmDjO XftakS2oICkBMGJepXLR/mrcA6bAxjIBxcixvqJFSE2S8ltZ374T7zWc7EbMxjIt/MFatw1OpLc r4tLl3oeSym6Evg7eiK/l9UiU7brR8WiUcCPI4rcLvnIUP25h8mPCNzv5zx6NzE3vRWYGjl2q3y V3togeuW5 X-Google-Smtp-Source: AGHT+IFppVHzGFRQLeltjqlIng1+K5BaZt43xCt9ntkYee0kzcm+T0JAnVhEW9YRUXEo5lNzS27/8s3cYUP1 X-Received: by 2002:a05:6808:1889:b0:44d:a1d3:a0bc with SMTP id 5614622812f47-44fed36fee2mr360634b6e.50.1762291707094; Tue, 04 Nov 2025 13:28:27 -0800 (PST) Received: from postal.iol.unh.edu (postal.iol.unh.edu. [2606:4100:3880:1234::84]) by smtp-relay.gmail.com with ESMTPS id 586e51a60fabf-3dff4f00c6csm343885fac.7.2025.11.04.13.28.27 (version=TLS1_2 cipher=ECDHE-ECDSA-AES128-GCM-SHA256 bits=128/128); Tue, 04 Nov 2025 13:28:27 -0800 (PST) X-Relaying-Domain: iol.unh.edu Date: Tue, 04 Nov 2025 13:28:27 -0800 (PST) Message-ID: <690a6ffb.050a0220.2a931c.2f00SMTPIN_ADDED_MISSING@mx.google.com> Received: from [172.21.0.2] (unknown [172.18.0.240]) by postal.iol.unh.edu (Postfix) with ESMTP id 8B94A604D420; Tue, 4 Nov 2025 16:28:26 -0500 (EST) Subject: |SUCCESS| pw158422 [PATCH] eventdev: fix build with clang 21 From: dpdklab@iol.unh.edu To: Test Report Cc: dpdk-test-reports@iol.unh.edu, Jerin Jacob In-Reply-To: <20251104130820.2692144-1-david.marchand@redhat.com> References: <20251104130820.2692144-1-david.marchand@redhat.com> Content-Type: text/plain X-BeenThere: test-report@dpdk.org X-Mailman-Version: 2.1.29 Precedence: list List-Id: automatic DPDK test reports List-Unsubscribe: , List-Archive: List-Post: List-Help: List-Subscribe: , Errors-To: test-report-bounces@dpdk.org Test-Label: iol-unit-arm64-testing Test-Status: SUCCESS http://dpdk.org/patch/158422 _Testing PASS_ Submitter: David Marchand Date: Tuesday, November 04 2025 13:08:20 DPDK git baseline: Repo:dpdk-next-eventdev Branch: master CommitID:39b54f2dcf44ad1f91eabc7080cd5dea763607fd 158422 --> testing pass Upstream job id: Generic-Unit-Test-DPDK#388423 Test environment and result as below: +------------------------------+------------------------------+---------------------------+--------------+----------------+ | Environment | cryptodev_sw_snow3g_autotest | cryptodev_sw_zuc_autotest | lpm_autotest | dpdk_unit_test | +==============================+==============================+===========================+==============+================+ | Debian 12 (arm) | PASS | PASS | SKIPPED | SKIPPED | +------------------------------+------------------------------+---------------------------+--------------+----------------+ | Ubuntu 20.04 | SKIPPED | SKIPPED | PASS | PASS | +------------------------------+------------------------------+---------------------------+--------------+----------------+ | Ubuntu 22.04 | SKIPPED | SKIPPED | SKIPPED | PASS | +------------------------------+------------------------------+---------------------------+--------------+----------------+ | Ubuntu 24.04 | SKIPPED | SKIPPED | SKIPPED | PASS | +------------------------------+------------------------------+---------------------------+--------------+----------------+ | Fedora Linux 40 | SKIPPED | SKIPPED | SKIPPED | PASS | +------------------------------+------------------------------+---------------------------+--------------+----------------+ | Red Hat Enterprise Linux 9.5 | SKIPPED | SKIPPED | SKIPPED | PASS | +------------------------------+------------------------------+---------------------------+--------------+----------------+ | Fedora Linux 41 | SKIPPED | SKIPPED | SKIPPED | PASS | +------------------------------+------------------------------+---------------------------+--------------+----------------+ | CentOS Stream 9 | SKIPPED | SKIPPED | SKIPPED | PASS | +------------------------------+------------------------------+---------------------------+--------------+----------------+ | Fedora Linux 42 | SKIPPED | SKIPPED | SKIPPED | PASS | +------------------------------+------------------------------+---------------------------+--------------+----------------+ | CentOS Stream 10 | SKIPPED | SKIPPED | SKIPPED | PASS | +------------------------------+------------------------------+---------------------------+--------------+----------------+ | Debian GNU/Linux 12 | SKIPPED | SKIPPED | SKIPPED | PASS | +------------------------------+------------------------------+---------------------------+--------------+----------------+ Debian 12 (arm) Kernel: Depends on container host Compiler: gcc (Debian 12.2.0-14) 12.2.0 Ubuntu 20.04 Kernel: 5.4 Compiler: gcc gcc (Ubuntu 9.4.0-1ubuntu1~20.04.2) 9.4.0 Ubuntu 22.04 Kernel: 5.15 Compiler: gcc gcc (Ubuntu 11.4.0-1ubuntu1~22.04.2) 11.4.0 Ubuntu 24.04 Kernel: 5.4 Compiler: gcc gcc (Ubuntu 13.3.0-6ubuntu2~24.04) 13.3.0 Fedora Linux 40 Kernel: 5.4 Compiler: clang gcc (GCC) 14.2.1 20240912 (Red Hat 14.2.1-3) Red Hat Enterprise Linux 9.5 Kernel: 5.4 Compiler: gcc gcc (GCC) 11.5.0 20240719 (Red Hat 11.5.0-2) Fedora Linux 41 Kernel: 5.4 Compiler: clang gcc (GCC) 14.3.1 20250523 (Red Hat 14.3.1-1) CentOS Stream 9 Kernel: 5.4 Compiler: gcc gcc (GCC) 11.5.0 20240719 (Red Hat 11.5.0-11) Fedora Linux 42 Kernel: 5.4 Compiler: clang gcc (GCC) 15.2.1 20250808 (Red Hat 15.2.1-1) CentOS Stream 10 Kernel: 5.4 Compiler: gcc gcc (GCC) 14.2.1 20250110 (Red Hat 14.2.1-8) Debian GNU/Linux 12 Kernel: 5.4 Compiler: gcc gcc (Debian 12.2.0-14+deb12u1) 12.2.0 To view detailed results, visit: https://lab.dpdk.org/results/dashboard/patchsets/34458/ UNH-IOL DPDK Community Lab To manage your email subscriptions, visit: https://lab.dpdk.org/results/dashboard/preferences/subscriptions/