From mboxrd@z Thu Jan 1 00:00:00 1970 Return-Path: Received: from mails.dpdk.org (mails.dpdk.org [217.70.189.124]) by inbox.dpdk.org (Postfix) with ESMTP id 3D37E48AB6 for ; Tue, 4 Nov 2025 22:33:14 +0100 (CET) Received: from mails.dpdk.org (localhost [127.0.0.1]) by mails.dpdk.org (Postfix) with ESMTP id 1DD9240269; Tue, 4 Nov 2025 22:33:14 +0100 (CET) Received: from mail-io1-f97.google.com (mail-io1-f97.google.com [209.85.166.97]) by mails.dpdk.org (Postfix) with ESMTP id 6248F40269 for ; Tue, 4 Nov 2025 22:33:12 +0100 (CET) Received: by mail-io1-f97.google.com with SMTP id ca18e2360f4ac-9486696aafeso55137939f.3 for ; Tue, 04 Nov 2025 13:33:12 -0800 (PST) DKIM-Signature: v=1; a=rsa-sha256; c=relaxed/relaxed; d=iol.unh.edu; s=unh-iol; t=1762291991; x=1762896791; darn=dpdk.org; h=references:in-reply-to:cc:to:from:subject:message-id:date:from:to :cc:subject:date:message-id:reply-to; bh=sxy6G5JjF+LXnzfx2nDlFBMGrixBXYWZC+1WBbfCuro=; b=Uub/Eg9lD69QlQX3uesfFJKqXbOe1u7apS2bF/O+b9RbcHup2lF9ibLa8Q4QpH+Xq0 QnwI6ibcOefsiW+X9V8bz1jx5WenDeeGYxZY5ykCxXF9EzLdSSTtz1NfszGfQfLUrh/8 jxO/3tNZrIVYfwy0mzI8WIZERB6jFZdkdXkG8= X-Google-DKIM-Signature: v=1; a=rsa-sha256; c=relaxed/relaxed; d=1e100.net; s=20230601; t=1762291991; x=1762896791; h=references:in-reply-to:cc:to:from:subject:message-id:date :x-gm-message-state:from:to:cc:subject:date:message-id:reply-to; bh=sxy6G5JjF+LXnzfx2nDlFBMGrixBXYWZC+1WBbfCuro=; b=S0QuWqAUOMJQrhuaIaiK6s0Zcr77VqCIx5htg5JIaRVe7gJLB7MunWTqKpOvDCJm0U vFLPB6z599FbIm96gV15bEWvOadPVJkFsajfzWPlL/7BjFr9mdb3VpB+4QuzxmX4fKQf kE98pNG7IpAoaxK+Z6jAfXYU5pFst4QcUaZtr5kUTCC1wCNmAHMODNBLnp8hnpPzphus 4iaSt5P5RbqjvcAZFWPswKzuUYLloWVNKDRtTnjZ5LqHzmq9P9/BYixXTMEC4HLlk3eb qy8FdoHXhe7dkt/anE9t664hVWVcCm0/46aP/T7fMEbkHy6BwcY4EPUXRmzrmge6/SFb mn2Q== X-Gm-Message-State: AOJu0YymPEhJaXqs8hBrUFAK3ziBRf3bWQulYBu35HGQ1e7nX9sGvG2m CGydANH9wI7NT3a9H2OvWfe3B09O1xAmz/eIg1B9SneU3DaXqzQC/AoAfzr0pKANraScLSmAt4S FTPlmIUihTpDu8r15N0kqmTERbE1+jd0HPuYzefpCnZiM X-Gm-Gg: ASbGnct8N6c8gDbfK/0NCAJ/adq0WGNK/RWhrpeoxEt7aumGCGtu8JByewmgOtXg7BM QoJI5fe8An9xaA0nmYdh3DE02ZfT11eIYQC8XuGQKp6ZYXJsDWxik1Urjf1mJlrNicYwRJZtEtT vtY7PYtvn/ikksztjBgnCsbKLiU/HK0lXu21EpRUgxO6dR6fHsAlQ+RcaTQmuJ1hiHp2qnphr4y 4YWsSzKMrlWbICNjiTYtimBj2BXU10iWHuT5LkVTAkGJg9G+x/OGp60wEF0NRjq6RL4DL44kXNE 1Q3tGNgoFDboD1vn+nNTKH+ghigVq5cRSZJDCBIHclQCzX+c/KjnDfxbWlKv4xLJmBFsF394yYp rkSXJddb6Ec85MTklassdtJX3UecZR9U= X-Google-Smtp-Source: AGHT+IFbQhW3orWm6IibEJbkQhtsW3aZ2rVhdlmuEcRHEj2PFHzX2vx4cUhcHFAA8f1hK+vVF7ymNFsxYjth X-Received: by 2002:a05:6602:148b:b0:948:609b:166d with SMTP id ca18e2360f4ac-94869ce9d58mr163807939f.4.1762291991560; Tue, 04 Nov 2025 13:33:11 -0800 (PST) Received: from postal.iol.unh.edu (postal.iol.unh.edu. [132.177.123.84]) by smtp-relay.gmail.com with ESMTPS id ca18e2360f4ac-948550cc237sm25498739f.4.2025.11.04.13.33.11 (version=TLS1_2 cipher=ECDHE-ECDSA-AES128-GCM-SHA256 bits=128/128); Tue, 04 Nov 2025 13:33:11 -0800 (PST) X-Relaying-Domain: iol.unh.edu Date: Tue, 04 Nov 2025 13:33:11 -0800 (PST) Message-ID: <690a7117.050a0220.5c9a8.dfb1SMTPIN_ADDED_MISSING@mx.google.com> Received: from [172.21.0.2] (unknown [172.18.0.240]) by postal.iol.unh.edu (Postfix) with ESMTP id 1A5E3604D420; Tue, 4 Nov 2025 16:33:11 -0500 (EST) Subject: |SUCCESS| pw158429-158433 [PATCH] [5/5] net/mlx5: support count and From: dpdklab@iol.unh.edu To: Test Report Cc: dpdk-test-reports@iol.unh.edu In-Reply-To: <20251104174612.1341962-6-dsosnowski@nvidia.com> References: <20251104174612.1341962-6-dsosnowski@nvidia.com> Content-Type: text/plain X-BeenThere: test-report@dpdk.org X-Mailman-Version: 2.1.29 Precedence: list List-Id: automatic DPDK test reports List-Unsubscribe: , List-Archive: List-Post: List-Help: List-Subscribe: , Errors-To: test-report-bounces@dpdk.org Test-Label: iol-compile-arm64-testing Test-Status: SUCCESS http://dpdk.org/patch/158433 _Testing PASS_ Submitter: Dariusz Sosnowski Date: Tuesday, November 04 2025 17:46:12 DPDK git baseline: Repo:dpdk-next-net-mlx Branch: master CommitID:f1c1f82f2421be9ac2f46b4ec2a616ca28da4ca7 158429-158433 --> testing pass Upstream job id: Generic-DPDK-Compile-Meson#440726 Test environment and result as below: +------------------------------+--------------------+ | Environment | dpdk_meson_compile | +==============================+====================+ | Red Hat Enterprise Linux 9.5 | PASS | +------------------------------+--------------------+ | Ubuntu 20.04 | PASS | +------------------------------+--------------------+ | Fedora Linux 42 | PASS | +------------------------------+--------------------+ | Debian GNU/Linux 12 | PASS | +------------------------------+--------------------+ | Ubuntu 22.04 | PASS | +------------------------------+--------------------+ | CentOS Stream 10 | PASS | +------------------------------+--------------------+ | Ubuntu 24.04 | PASS | +------------------------------+--------------------+ | CentOS Stream 9 | PASS | +------------------------------+--------------------+ Red Hat Enterprise Linux 9.5 Kernel: 5.4 Compiler: gcc gcc (GCC) 11.5.0 20240719 (Red Hat 11.5.0-2) Ubuntu 20.04 Kernel: 5.15 Compiler: aarch64-linux-gnu-gcc gcc (Ubuntu 9.4.0-1ubuntu1~20.04.2) 9.4.0 Fedora Linux 42 Kernel: 5.4 Compiler: gcc gcc (GCC) 15.2.1 20250808 (Red Hat 15.2.1-1) Debian GNU/Linux 12 Kernel: 5.4 Compiler: gcc gcc (Debian 12.2.0-14+deb12u1) 12.2.0 Ubuntu 22.04 Kernel: 5.4 Compiler: gcc gcc (Ubuntu 11.4.0-1ubuntu1~22.04) 11.4.0 CentOS Stream 10 Kernel: 5.4 Compiler: gcc gcc (GCC) 14.2.1 20250110 (Red Hat 14.2.1-8) Ubuntu 24.04 Kernel: 5.4 Compiler: gcc gcc (Ubuntu 13.3.0-6ubuntu2~24.04) 13.3.0 CentOS Stream 9 Kernel: 5.4 Compiler: gcc gcc (GCC) 11.5.0 20240719 (Red Hat 11.5.0-11) To view detailed results, visit: https://lab.dpdk.org/results/dashboard/patchsets/34462/ UNH-IOL DPDK Community Lab To manage your email subscriptions, visit: https://lab.dpdk.org/results/dashboard/preferences/subscriptions/