From mboxrd@z Thu Jan 1 00:00:00 1970 Return-Path: Received: from mails.dpdk.org (mails.dpdk.org [217.70.189.124]) by inbox.dpdk.org (Postfix) with ESMTP id B20DE48AB4 for ; Tue, 4 Nov 2025 23:02:23 +0100 (CET) Received: from mails.dpdk.org (localhost [127.0.0.1]) by mails.dpdk.org (Postfix) with ESMTP id 9318B40269; Tue, 4 Nov 2025 23:02:23 +0100 (CET) Received: from mail-pl1-f225.google.com (mail-pl1-f225.google.com [209.85.214.225]) by mails.dpdk.org (Postfix) with ESMTP id 769FF40269 for ; Tue, 4 Nov 2025 23:02:22 +0100 (CET) Received: by mail-pl1-f225.google.com with SMTP id d9443c01a7336-294fd2ca6acso2285915ad.0 for ; Tue, 04 Nov 2025 14:02:22 -0800 (PST) DKIM-Signature: v=1; a=rsa-sha256; c=relaxed/relaxed; d=iol.unh.edu; s=unh-iol; t=1762293741; x=1762898541; darn=dpdk.org; h=references:in-reply-to:cc:to:from:subject:message-id:date:from:to :cc:subject:date:message-id:reply-to; bh=zdC+WDwmKC0ayAyW6+ghBhOW4v9bX3yY0tj3U8aZADk=; b=OPNtMjKMjPvHG4grC0uiUAAZAMXycGFIvBRV+V7mLNhoymYUeNZuNa5zLwV4Np44/l DVLkNeOf2PEPwl7mF/KsbvzzyDNrcAu6S17LFPKxT5IBVemWpjMLjLwp2N0L2xLo9KA/ OMneVgLFunVL34Xu0CuKmNILZ/1EBT1kJOMeg= X-Google-DKIM-Signature: v=1; a=rsa-sha256; c=relaxed/relaxed; d=1e100.net; s=20230601; t=1762293741; x=1762898541; h=references:in-reply-to:cc:to:from:subject:message-id:date :x-gm-message-state:from:to:cc:subject:date:message-id:reply-to; bh=zdC+WDwmKC0ayAyW6+ghBhOW4v9bX3yY0tj3U8aZADk=; b=ibgjWEdFmVODJqa/6pWTgjrIasSFn7e3KEF6KMYAeqGKisfg1sAmZeih3xI4SWeBQq jB6Mcx+XAlTH7Je17Cx68LIAi80XB+u/88aW7iJa2Fj2kB2UMFBgcuzwt3SdE6sLnl56 ZrxrPI9Hmh5DWwHgAnKlEdjW2oTv7oTDoPMknexmP7zTDQHBzCHJiOdEt7Qbw+O5Fu5D DgC5LXb7mCkjzXWaNWgZtIKQlvSLJh07+/XKDsf7TETvlXApowyt9G9W6WzTmyy58Uby tCtyS2WQeQFME6EwBF1UwWvNSKMYuled6ips5naXhrPEe0CppelTCqw4k0d+1aoxTfaB rS5Q== X-Gm-Message-State: AOJu0YziEmrs5Jkz6Lq42nhuYn0lgO9fQLXiCGMpl9sduV/pJW/ApDlF 9xJ+HnWE6f3dFEX4AkiuRcGSLEFT0J4ATAqRKBYUoxQl4jDUw+RqyRjSNybv2bQk432NFBMr3AS wczflKLINLUAGRlF56e90bGA3A7kTUd3CQGO4GVoNsPSpbLn4XtFjtQpLVopk X-Gm-Gg: ASbGnct+LKoI3R+hlC95cqQpS3dev2WFIA8AzYneaTpvRj6pReOlDMpWNeEpAN7gZmr RBAnV1DMeQXF0+iF3znwFjgGtjPg7YKy/D1FOX7/iucPJFdYIP33aOZQSkWzjnfjgTaWKVmpFqF SR5Kz6k8avfAG9Temqff7pemkZaD0VNJid0F5otGTAEUYoT0/K9J9ybSww/LCmA6ZnCRyNUMfFS 5UrezY2poERtZWKik25a92xZXzTAA8ymg9nFIAyZcMWUs+5CL9gCxzbudojpD9K8dVi6MkJhOPE mFCwU1e4uSZnPe/OeNy+AZ50NXArNqknwbxBINf81lVv3U1voIZw1vM3R6gvNMe2zQea7aTCwH5 Ni8I6aErN X-Google-Smtp-Source: AGHT+IHBOVDuInw5bB4nbN7B/gr1B9JhjQ1v51IAiz1jtpi+bKbGZfGQxksdrkU7VmyQk0i13JQtCHKhLwej X-Received: by 2002:a17:902:db08:b0:294:fc13:7e8c with SMTP id d9443c01a7336-2962ad41aa1mr17151885ad.13.1762293741490; Tue, 04 Nov 2025 14:02:21 -0800 (PST) Received: from postal.iol.unh.edu (postal.iol.unh.edu. [2606:4100:3880:1234::84]) by smtp-relay.gmail.com with ESMTPS id d9443c01a7336-29601a3b1besm3472555ad.43.2025.11.04.14.02.21 (version=TLS1_2 cipher=ECDHE-ECDSA-AES128-GCM-SHA256 bits=128/128); Tue, 04 Nov 2025 14:02:21 -0800 (PST) X-Relaying-Domain: iol.unh.edu Date: Tue, 04 Nov 2025 14:02:21 -0800 (PST) Message-ID: <690a77ed.170a0220.33d283.2cddSMTPIN_ADDED_MISSING@mx.google.com> Received: from [172.21.0.2] (unknown [172.18.0.240]) by postal.iol.unh.edu (Postfix) with ESMTP id 9F0096050A61; Tue, 4 Nov 2025 17:02:20 -0500 (EST) Subject: |SUCCESS| pw158434-158441 [PATCH] [v6,8/8] doc: update documentation From: dpdklab@iol.unh.edu To: Test Report Cc: dpdk-test-reports@iol.unh.edu In-Reply-To: <20251104180927.403355-9-stephen@networkplumber.org> References: <20251104180927.403355-9-stephen@networkplumber.org> Content-Type: text/plain X-BeenThere: test-report@dpdk.org X-Mailman-Version: 2.1.29 Precedence: list List-Id: automatic DPDK test reports List-Unsubscribe: , List-Archive: List-Post: List-Help: List-Subscribe: , Errors-To: test-report-bounces@dpdk.org Test-Label: iol-compile-arm64-testing Test-Status: SUCCESS http://dpdk.org/patch/158441 _Testing PASS_ Submitter: Stephen Hemminger Date: Tuesday, November 04 2025 18:07:12 DPDK git baseline: Repo:dpdk Branch: master CommitID:1bdf2b3c27880f1d90df46a89d5643f20587a973 158434-158441 --> testing pass Upstream job id: Generic-DPDK-Compile-Meson#440748 Test environment and result as below: +------------------------------+--------------------+ | Environment | dpdk_meson_compile | +==============================+====================+ | Ubuntu 20.04 | PASS | +------------------------------+--------------------+ | Red Hat Enterprise Linux 9.5 | PASS | +------------------------------+--------------------+ | Debian GNU/Linux 12 | PASS | +------------------------------+--------------------+ | Fedora Linux 42 | PASS | +------------------------------+--------------------+ | Ubuntu 22.04 | PASS | +------------------------------+--------------------+ | Ubuntu 24.04 | PASS | +------------------------------+--------------------+ | CentOS Stream 9 | PASS | +------------------------------+--------------------+ | CentOS Stream 10 | PASS | +------------------------------+--------------------+ Ubuntu 20.04 Kernel: 5.15 Compiler: aarch64-linux-gnu-gcc gcc (Ubuntu 9.4.0-1ubuntu1~20.04.2) 9.4.0 Red Hat Enterprise Linux 9.5 Kernel: 5.4 Compiler: gcc gcc (GCC) 11.5.0 20240719 (Red Hat 11.5.0-2) Debian GNU/Linux 12 Kernel: 5.4 Compiler: gcc gcc (Debian 12.2.0-14+deb12u1) 12.2.0 Fedora Linux 42 Kernel: 5.4 Compiler: gcc gcc (GCC) 15.2.1 20250808 (Red Hat 15.2.1-1) Ubuntu 22.04 Kernel: 5.4 Compiler: gcc gcc (Ubuntu 11.4.0-1ubuntu1~22.04) 11.4.0 Ubuntu 24.04 Kernel: 5.4 Compiler: gcc gcc (Ubuntu 13.3.0-6ubuntu2~24.04) 13.3.0 CentOS Stream 9 Kernel: 5.4 Compiler: gcc gcc (GCC) 11.5.0 20240719 (Red Hat 11.5.0-11) CentOS Stream 10 Kernel: 5.4 Compiler: gcc gcc (GCC) 14.2.1 20250110 (Red Hat 14.2.1-8) To view detailed results, visit: https://lab.dpdk.org/results/dashboard/patchsets/34463/ UNH-IOL DPDK Community Lab To manage your email subscriptions, visit: https://lab.dpdk.org/results/dashboard/preferences/subscriptions/