From mboxrd@z Thu Jan 1 00:00:00 1970 Return-Path: Received: from mails.dpdk.org (mails.dpdk.org [217.70.189.124]) by inbox.dpdk.org (Postfix) with ESMTP id 1F12D48AA6 for ; Tue, 4 Nov 2025 23:54:01 +0100 (CET) Received: from mails.dpdk.org (localhost [127.0.0.1]) by mails.dpdk.org (Postfix) with ESMTP id E809040269; Tue, 4 Nov 2025 23:54:00 +0100 (CET) Received: from mail-pl1-f226.google.com (mail-pl1-f226.google.com [209.85.214.226]) by mails.dpdk.org (Postfix) with ESMTP id 6A59B40269 for ; Tue, 4 Nov 2025 23:53:59 +0100 (CET) Received: by mail-pl1-f226.google.com with SMTP id d9443c01a7336-290aaff555eso56844795ad.2 for ; Tue, 04 Nov 2025 14:53:59 -0800 (PST) DKIM-Signature: v=1; a=rsa-sha256; c=relaxed/relaxed; d=iol.unh.edu; s=unh-iol; t=1762296838; x=1762901638; darn=dpdk.org; h=references:in-reply-to:cc:to:from:subject:message-id:date:from:to :cc:subject:date:message-id:reply-to; bh=twO9qiOY2kNimMTXSVeaDpyUKNrfa6y2AEuMOuK9j7c=; b=gHJ7P18dQVfXO9+tTHOjHWiSzTKvz4UtpYi85YRbzvb/GScyTXr9ODwtG6jTtNVamu VFAdRfBQasvj2Z7OVOGJ6k/1LKqJqYvsoB7hWyMjjREtkJwjjl48/Z2CkR2auPHAVPua 13gLpuZDAE/kNeE4uraT5o+N42IkpdFcYnzQE= X-Google-DKIM-Signature: v=1; a=rsa-sha256; c=relaxed/relaxed; d=1e100.net; s=20230601; t=1762296838; x=1762901638; h=references:in-reply-to:cc:to:from:subject:message-id:date :x-gm-message-state:from:to:cc:subject:date:message-id:reply-to; bh=twO9qiOY2kNimMTXSVeaDpyUKNrfa6y2AEuMOuK9j7c=; b=QZaSGEmoCytT3Y5x3gEyKbnHnE88L4/Ak3+lSR6bRzETWgqSc3OK2kThbCnuk2ng4m HuwqW0Y3TwZ97Gf41cI0se23S2fI7tr2BEKF7WciMz7Da9vtUkCjtKnGzV+1bQlTdWOT 86gPSNCBCmZsBGa0HEPERYhkjkVCB/Ao2ipgVC7PCVFlxpWTBr5ihnq3hkefs2bNwHoR j8pU1pgTw6uqlQVuVmdigyyXsGd0TCfcbKRdvBJFezxhDycwRqq74izhqZ/i0lpFRjIO 9/Nkk97D/+PqMH3dMyrnOY/AtZohHL9IGIYc7W3AGrPWitBo8aNh6xO6J+1Jp6S+jHu+ Vjig== X-Gm-Message-State: AOJu0YzRI8wey03bTGRPIS6iIX5DQzVOQT1WDO06NUnLzdOmGrkJs/R4 YbUG0oAR7CMcpgfwOMPxVRrDD9LYW4bKwkNQ6HOKzRGO1CAcDphijUm3UmoAnZv5u0By9ciEktx OMlXlIxgVniOYVOe4HdmGRHmFssJ8YpjsjFtG7J8RkNJ7JuHPCyxtl+5usz/B X-Gm-Gg: ASbGncv2PgQigj1gIrEimskGbDNMkv29eiXVejELIbt0QEYkwXq4k/XDDrqD7zRi1WG lxAb560xRhtEpw49Ni5rUX+ljg+WwCZB6h9qChEGaaa4Gfi9maI9MZCMwdXkM6C8TeN9gba7R9J v43Nr0YW21ytVOh7oVdC6MSdTmcK0jIu9HN1x0k0KGmFQ//kEFmSIi4tfCM7B4HriW0McQucr9B vlpLcXKZimVmhoBSd3/CI7uQKD8qFrLW1OPW490ZSBV1n9TZq2WXOyReqiDOEiQh7/ROScod3ks zRSKAsaNXB6FUuVTtoLkpfq8FaUdTuOdEC2eGhck7Mu/4zcMiE++722u9yb/CPRZKcUiNxMhmsU CgXn8WEMB X-Google-Smtp-Source: AGHT+IFatLszlI67XCc3cNrZk6h6wA+QW78nj0HzFFo5SjFvoQHJRrnNA4fXSBlHhMvqFJ5C1BlOoa7UZLdk X-Received: by 2002:a17:902:c94b:b0:295:1277:7920 with SMTP id d9443c01a7336-2962ada689cmr19143085ad.28.1762296838505; Tue, 04 Nov 2025 14:53:58 -0800 (PST) Received: from postal.iol.unh.edu (postal.iol.unh.edu. [2606:4100:3880:1234::84]) by smtp-relay.gmail.com with ESMTPS id d9443c01a7336-2960195fe07sm3815395ad.6.2025.11.04.14.53.58 (version=TLS1_2 cipher=ECDHE-ECDSA-AES128-GCM-SHA256 bits=128/128); Tue, 04 Nov 2025 14:53:58 -0800 (PST) X-Relaying-Domain: iol.unh.edu Date: Tue, 04 Nov 2025 14:53:58 -0800 (PST) Message-ID: <690a8406.170a0220.2b89c3.54faSMTPIN_ADDED_MISSING@mx.google.com> Received: from [172.21.0.3] (unknown [172.18.0.240]) by postal.iol.unh.edu (Postfix) with ESMTP id 9476560003E8; Tue, 4 Nov 2025 17:53:57 -0500 (EST) Subject: |SUCCESS| pw158421 [PATCH] rawdev: fix build with clang 21 From: dpdklab@iol.unh.edu To: Test Report Cc: dpdk-test-reports@iol.unh.edu In-Reply-To: <20251104130808.2692053-1-david.marchand@redhat.com> References: <20251104130808.2692053-1-david.marchand@redhat.com> Content-Type: text/plain X-BeenThere: test-report@dpdk.org X-Mailman-Version: 2.1.29 Precedence: list List-Id: automatic DPDK test reports List-Unsubscribe: , List-Archive: List-Post: List-Help: List-Subscribe: , Errors-To: test-report-bounces@dpdk.org Test-Label: iol-unit-arm64-testing Test-Status: SUCCESS http://dpdk.org/patch/158421 _Testing PASS_ Submitter: David Marchand Date: Tuesday, November 04 2025 13:08:08 DPDK git baseline: Repo:dpdk Branch: master CommitID:1bdf2b3c27880f1d90df46a89d5643f20587a973 158421 --> testing pass Upstream job id: Generic-Unit-Test-DPDK#388449 Test environment and result as below: +------------------------------+----------------+------------------------------+--------------+---------------------------+ | Environment | dpdk_unit_test | cryptodev_sw_snow3g_autotest | lpm_autotest | cryptodev_sw_zuc_autotest | +==============================+================+==============================+==============+===========================+ | Fedora Linux 40 | PASS | SKIPPED | SKIPPED | SKIPPED | +------------------------------+----------------+------------------------------+--------------+---------------------------+ | CentOS Stream 10 | PASS | SKIPPED | SKIPPED | SKIPPED | +------------------------------+----------------+------------------------------+--------------+---------------------------+ | Debian GNU/Linux 12 | PASS | SKIPPED | SKIPPED | SKIPPED | +------------------------------+----------------+------------------------------+--------------+---------------------------+ | Red Hat Enterprise Linux 9.5 | PASS | SKIPPED | SKIPPED | SKIPPED | +------------------------------+----------------+------------------------------+--------------+---------------------------+ | Ubuntu 20.04 | PASS | SKIPPED | PASS | SKIPPED | +------------------------------+----------------+------------------------------+--------------+---------------------------+ | Ubuntu 22.04 | PASS | SKIPPED | SKIPPED | SKIPPED | +------------------------------+----------------+------------------------------+--------------+---------------------------+ | CentOS Stream 9 | PASS | SKIPPED | SKIPPED | SKIPPED | +------------------------------+----------------+------------------------------+--------------+---------------------------+ | Fedora Linux 41 | PASS | SKIPPED | SKIPPED | SKIPPED | +------------------------------+----------------+------------------------------+--------------+---------------------------+ | Ubuntu 24.04 | PASS | SKIPPED | SKIPPED | SKIPPED | +------------------------------+----------------+------------------------------+--------------+---------------------------+ | Fedora Linux 42 | PASS | SKIPPED | SKIPPED | SKIPPED | +------------------------------+----------------+------------------------------+--------------+---------------------------+ | Debian 12 (arm) | SKIPPED | PASS | SKIPPED | PASS | +------------------------------+----------------+------------------------------+--------------+---------------------------+ Fedora Linux 40 Kernel: 5.4 Compiler: clang gcc (GCC) 14.2.1 20240912 (Red Hat 14.2.1-3) CentOS Stream 10 Kernel: 5.4 Compiler: gcc gcc (GCC) 14.2.1 20250110 (Red Hat 14.2.1-8) Debian GNU/Linux 12 Kernel: 5.4 Compiler: gcc gcc (Debian 12.2.0-14+deb12u1) 12.2.0 Red Hat Enterprise Linux 9.5 Kernel: 5.4 Compiler: gcc gcc (GCC) 11.5.0 20240719 (Red Hat 11.5.0-2) Ubuntu 20.04 Kernel: 5.4 Compiler: gcc gcc (Ubuntu 9.4.0-1ubuntu1~20.04.2) 9.4.0 Ubuntu 22.04 Kernel: 5.4 Compiler: gcc gcc (Ubuntu 11.4.0-1ubuntu1~22.04) 11.4.0 CentOS Stream 9 Kernel: 5.4 Compiler: gcc gcc (GCC) 11.5.0 20240719 (Red Hat 11.5.0-11) Fedora Linux 41 Kernel: 5.4 Compiler: clang gcc (GCC) 14.3.1 20250523 (Red Hat 14.3.1-1) Ubuntu 24.04 Kernel: 5.4 Compiler: gcc gcc (Ubuntu 13.3.0-6ubuntu2~24.04) 13.3.0 Fedora Linux 42 Kernel: 5.4 Compiler: gcc gcc (GCC) 15.2.1 20250808 (Red Hat 15.2.1-1) Debian 12 (arm) Kernel: Depends on container host Compiler: gcc (Debian 12.2.0-14) 12.2.0 To view detailed results, visit: https://lab.dpdk.org/results/dashboard/patchsets/34459/ UNH-IOL DPDK Community Lab To manage your email subscriptions, visit: https://lab.dpdk.org/results/dashboard/preferences/subscriptions/