From mboxrd@z Thu Jan 1 00:00:00 1970 Return-Path: Received: from mails.dpdk.org (mails.dpdk.org [217.70.189.124]) by inbox.dpdk.org (Postfix) with ESMTP id 9F0D548A1A for ; Wed, 5 Nov 2025 01:03:32 +0100 (CET) Received: from mails.dpdk.org (localhost [127.0.0.1]) by mails.dpdk.org (Postfix) with ESMTP id 7D0AC40269; Wed, 5 Nov 2025 01:03:32 +0100 (CET) Received: from mail-pl1-f228.google.com (mail-pl1-f228.google.com [209.85.214.228]) by mails.dpdk.org (Postfix) with ESMTP id E2B8940269 for ; Wed, 5 Nov 2025 01:03:30 +0100 (CET) Received: by mail-pl1-f228.google.com with SMTP id d9443c01a7336-294fe7c2e69so57866115ad.0 for ; Tue, 04 Nov 2025 16:03:30 -0800 (PST) DKIM-Signature: v=1; a=rsa-sha256; c=relaxed/relaxed; d=iol.unh.edu; s=unh-iol; t=1762301010; x=1762905810; darn=dpdk.org; h=references:in-reply-to:cc:to:from:subject:message-id:date:from:to :cc:subject:date:message-id:reply-to; bh=hKx2qUaZ1acjYCliRPdvJhYuWWyv3FB12eNkBspCNwk=; b=f9wYnKdFaVQVhdEfz/ef+g3fY/Qk4j6p7YZwgmlMtMMab7u1WBOlWsMecE75ghc0PN +NHMf4klax8B/ZWLN952pGAoaCw7sWRk6Al3JlwtHH5LxuKMvbsV5T1on4pb4+B5jsNM FoRvMFXDtESRzUsR3EtooqPgNi7UOM0R5hNbY= X-Google-DKIM-Signature: v=1; a=rsa-sha256; c=relaxed/relaxed; d=1e100.net; s=20230601; t=1762301010; x=1762905810; h=references:in-reply-to:cc:to:from:subject:message-id:date :x-gm-message-state:from:to:cc:subject:date:message-id:reply-to; bh=hKx2qUaZ1acjYCliRPdvJhYuWWyv3FB12eNkBspCNwk=; b=E9f1bRCLOXkkl5SY8VKz0btb+hNzW9i7EauOILp7/dwyBwbASPS2FSvAYXPYVSkNNP nWUmAOldiu1YP8Hu46hq169dMiCll36QCsNvE2Oery77g6G/D7T7mAl+pmBmqCKaTe8U m1VQ488ANSKJCedzxtiIO+V8pbkpJz4IOhiP3NY7B0w8DSwZn5LOZu+ygbuR9J4zrNRG KVEhvI5cDksMstncUf3WLAlrN7syNx0RfmyMCRsYTWeUwHjsk+Tr++nlXZoZ/qjYnIR/ 4qIHZPh5YlXIm37UGybiXn9Wh3W1SehUAPBVBek2fEOm4QnwFpdKSFOhaNiT71+I65D0 7Wng== X-Gm-Message-State: AOJu0YxsHX4qyNrwnmybPJm9dVwLbw3dINa6ZgGT+Xyc76OBy2EFkk4p ctOoKdG7Seb4v7++oozursFgqr6mJ2Vf7ulIRl4+yaTGuM/2kOfjyVgFbeC1fWibn7kbserwxGS yJewjGIj/c4w/FeeoCqBKbKJh9w7uPfWxvtmOP96hGjcc X-Gm-Gg: ASbGncvDtyWrzFdxGLRFjILkEkwdvLYuf4TH1VnigTeZ0+a2jHO4B1rqAt3JBbIOVnH xoDJhPRhR7ZbucJYU6qHdzToqMDHwyWxHpFQzfzOTvmLky6QjBW4e+9OvOZ6x2u+B53MW4PkcTM SCymayIvtvGgEvGpfzRI6A8GXCyQZZajFlOgujA4vORbBFnQ4xESkLQvRfg5uBtKjlEcuII5D46 CCX3QUATiCJxE79RvT1yS5zLdlrMyczxR21jvLC7hetJg7HQLFPEaPpdu+jV7zCy4PiGJz2Az1U kkz7/qgXcrFEzZ5FvQi0EOt5r2zpHhVgucrWAerbbulFWx2YS8YZwU6FOE8LWWgz5cQaRwlgkHN quBrjQwUm7ePxQpivKZyXJGKRNGsFsuA= X-Google-Smtp-Source: AGHT+IFae/E+iboPeTKAmFTwmBErAKwxZVlenvkfLZsfh8TjDdfD9U4zDmWBkfP4Vks/KTQMJmTGN24GkG6K X-Received: by 2002:a17:903:2f8d:b0:294:fb47:b62b with SMTP id d9443c01a7336-2962adda031mr17975075ad.21.1762301009962; Tue, 04 Nov 2025 16:03:29 -0800 (PST) Received: from postal.iol.unh.edu (postal.iol.unh.edu. [132.177.123.84]) by smtp-relay.gmail.com with ESMTPS id d9443c01a7336-29601a6a38dsm3434345ad.62.2025.11.04.16.03.29 (version=TLS1_2 cipher=ECDHE-ECDSA-AES128-GCM-SHA256 bits=128/128); Tue, 04 Nov 2025 16:03:29 -0800 (PST) X-Relaying-Domain: iol.unh.edu Date: Tue, 04 Nov 2025 16:03:29 -0800 (PST) Message-ID: <690a9451.170a0220.349e6.2f25SMTPIN_ADDED_MISSING@mx.google.com> Received: from [172.21.0.2] (unknown [172.18.0.240]) by postal.iol.unh.edu (Postfix) with ESMTP id 0817B6051830; Tue, 4 Nov 2025 19:03:29 -0500 (EST) Subject: |SUCCESS| pw158423 [PATCH] [v2] net/ixgbe: add E610 NIC speed suppor From: dpdklab@iol.unh.edu To: Test Report Cc: dpdk-test-reports@iol.unh.edu, Bruce Richardson In-Reply-To: <20251104150113.729184-1-shaiq.wani@intel.com> References: <20251104150113.729184-1-shaiq.wani@intel.com> Content-Type: text/plain X-BeenThere: test-report@dpdk.org X-Mailman-Version: 2.1.29 Precedence: list List-Id: automatic DPDK test reports List-Unsubscribe: , List-Archive: List-Post: List-Help: List-Subscribe: , Errors-To: test-report-bounces@dpdk.org Test-Label: iol-unit-arm64-testing Test-Status: SUCCESS http://dpdk.org/patch/158423 _Testing PASS_ Submitter: Shaiq Wani Date: Tuesday, November 04 2025 15:01:13 DPDK git baseline: Repo:dpdk-next-net-intel Branch: master CommitID:8e643757cffa481f010280c86e15d8a4a820e639 158423 --> testing pass Upstream job id: Generic-Unit-Test-DPDK#388472 Test environment and result as below: +------------------------------+----------------+------------------------------+--------------+---------------------------+ | Environment | dpdk_unit_test | cryptodev_sw_snow3g_autotest | lpm_autotest | cryptodev_sw_zuc_autotest | +==============================+================+==============================+==============+===========================+ | Ubuntu 22.04 | PASS | SKIPPED | SKIPPED | SKIPPED | +------------------------------+----------------+------------------------------+--------------+---------------------------+ | Debian GNU/Linux 12 | PASS | SKIPPED | SKIPPED | SKIPPED | +------------------------------+----------------+------------------------------+--------------+---------------------------+ | Fedora Linux 41 | PASS | SKIPPED | SKIPPED | SKIPPED | +------------------------------+----------------+------------------------------+--------------+---------------------------+ | Fedora Linux 40 | PASS | SKIPPED | SKIPPED | SKIPPED | +------------------------------+----------------+------------------------------+--------------+---------------------------+ | CentOS Stream 10 | PASS | SKIPPED | SKIPPED | SKIPPED | +------------------------------+----------------+------------------------------+--------------+---------------------------+ | CentOS Stream 9 | PASS | SKIPPED | SKIPPED | SKIPPED | +------------------------------+----------------+------------------------------+--------------+---------------------------+ | Ubuntu 24.04 | PASS | SKIPPED | SKIPPED | SKIPPED | +------------------------------+----------------+------------------------------+--------------+---------------------------+ | Fedora Linux 42 | PASS | SKIPPED | SKIPPED | SKIPPED | +------------------------------+----------------+------------------------------+--------------+---------------------------+ | Ubuntu 20.04 | PASS | SKIPPED | PASS | SKIPPED | +------------------------------+----------------+------------------------------+--------------+---------------------------+ | Red Hat Enterprise Linux 9.5 | PASS | SKIPPED | SKIPPED | SKIPPED | +------------------------------+----------------+------------------------------+--------------+---------------------------+ | Debian 12 (arm) | SKIPPED | PASS | SKIPPED | PASS | +------------------------------+----------------+------------------------------+--------------+---------------------------+ Ubuntu 22.04 Kernel: 5.15 Compiler: gcc gcc (Ubuntu 11.4.0-1ubuntu1~22.04.2) 11.4.0 Debian GNU/Linux 12 Kernel: 5.4 Compiler: gcc gcc (Debian 12.2.0-14+deb12u1) 12.2.0 Fedora Linux 41 Kernel: 5.4 Compiler: clang gcc (GCC) 14.3.1 20250523 (Red Hat 14.3.1-1) Fedora Linux 40 Kernel: 5.4 Compiler: gcc gcc (GCC) 14.2.1 20240912 (Red Hat 14.2.1-3) CentOS Stream 10 Kernel: 5.4 Compiler: gcc gcc (GCC) 14.2.1 20250110 (Red Hat 14.2.1-8) CentOS Stream 9 Kernel: 5.4 Compiler: gcc gcc (GCC) 11.5.0 20240719 (Red Hat 11.5.0-11) Ubuntu 24.04 Kernel: 5.4 Compiler: gcc gcc (Ubuntu 13.3.0-6ubuntu2~24.04) 13.3.0 Fedora Linux 42 Kernel: 5.4 Compiler: clang gcc (GCC) 15.2.1 20250808 (Red Hat 15.2.1-1) Ubuntu 20.04 Kernel: 5.4 Compiler: gcc gcc (Ubuntu 9.4.0-1ubuntu1~20.04.2) 9.4.0 Red Hat Enterprise Linux 9.5 Kernel: 5.4 Compiler: gcc gcc (GCC) 11.5.0 20240719 (Red Hat 11.5.0-2) Debian 12 (arm) Kernel: Depends on container host Compiler: gcc (Debian 12.2.0-14) 12.2.0 To view detailed results, visit: https://lab.dpdk.org/results/dashboard/patchsets/34460/ UNH-IOL DPDK Community Lab To manage your email subscriptions, visit: https://lab.dpdk.org/results/dashboard/preferences/subscriptions/