From mboxrd@z Thu Jan 1 00:00:00 1970 Return-Path: Received: from mails.dpdk.org (mails.dpdk.org [217.70.189.124]) by inbox.dpdk.org (Postfix) with ESMTP id C3FB348A19 for ; Wed, 5 Nov 2025 02:09:24 +0100 (CET) Received: from mails.dpdk.org (localhost [127.0.0.1]) by mails.dpdk.org (Postfix) with ESMTP id 9B84440269; Wed, 5 Nov 2025 02:09:24 +0100 (CET) Received: from mail-yx1-f98.google.com (mail-yx1-f98.google.com [74.125.224.98]) by mails.dpdk.org (Postfix) with ESMTP id C461140269 for ; Wed, 5 Nov 2025 02:09:23 +0100 (CET) Received: by mail-yx1-f98.google.com with SMTP id 956f58d0204a3-63b710f276fso6267536d50.1 for ; Tue, 04 Nov 2025 17:09:23 -0800 (PST) DKIM-Signature: v=1; a=rsa-sha256; c=relaxed/relaxed; d=iol.unh.edu; s=unh-iol; t=1762304963; x=1762909763; darn=dpdk.org; h=references:in-reply-to:cc:to:from:subject:message-id:date:from:to :cc:subject:date:message-id:reply-to; bh=3+PQBoug85kapn8Pd6jVJee2mQrfPaFXLupFNciQt10=; b=MQX6rA9nwC4PhiPE++3++38y3PIotsJ/QTFcdv3PSwqViorVNy+1S3dYThfJqMeyyM +zbrUYL2CNqG8G3HSTdbYx6qMBEjgcnXslDwRGmjrhU1R3sqsI5+yTK79xFmAr722bzm eDDCvZoq01p8lLPE8226/mmlFhiOIpjMfLkVE= X-Google-DKIM-Signature: v=1; a=rsa-sha256; c=relaxed/relaxed; d=1e100.net; s=20230601; t=1762304963; x=1762909763; h=references:in-reply-to:cc:to:from:subject:message-id:date :x-gm-message-state:from:to:cc:subject:date:message-id:reply-to; bh=3+PQBoug85kapn8Pd6jVJee2mQrfPaFXLupFNciQt10=; b=Hbyfz8BRGYnaTSH74j2wEz/3ArJjyOChH06QG495o11v8RMUp8rFVQX/VOzzpvxpqz /F8hJOMPypTIXuYgbizkW6SxYLS8ERtLWdi/loYD0Me4Cr79/s64FHIJ41NxOuQbxki+ VKTzj7UNlXbf6/6bVDoFYeIrDJp9xdvC976pXxtMfWc+cc+t+o486kVDVSny053mjKTs oBgGDv2bsh+l7t6QZTXTjran8iwPkohQESvHH2u379/CjI18SPd0SXBqqYFsmwd0R3Hm xLMRVeNMZV0x8TL5kTn2QtsLmkeMi0hcPJRqQp2FxYujuLsX2AS7BPMs2QJJrO8VEKN3 VdKw== X-Gm-Message-State: AOJu0YwYe5I9ZGJjWY847e0P1jNrvA8rHflRKgnAdfUVl7ag9MmGH8G7 oDv2EeO1ZNakTWsKhw9VV1+rXmId4gD7VFu2954oy/1aiTquQNxvDBARqIHz3XTsJWNJqAU88X7 gQ6C7/DgmSaSlbHPva+ZvNj9Fqi5BEJDknSzKziFb2kxmLccGlpQujSxWL1YQ X-Gm-Gg: ASbGncusXrAvdIiOuf3w9OFcpc+w5HuUBY7RDsQQwogAVPSMK7H2Cp+DLSbpZ/Ihc6K g58dBI8H83QmQ0Em+FWpjcodGGLyhCorWYFO9zwwuEAsnFGYOD5gPhgGsjuA1Dz4dL+aUNKUZbQ Wc0P+AJc9UmhEdmgc5NcwpoGPSeMNm8cgpMIGwGcbYacmH4erqJ4jESXXOA2XUaKo/0bt4pv9lL WK1021nFQGFNvfIqEvOma0Ch4+I9jfYp7ca91BST92b2FbWJhfOz5zup0A7b/lI35nfbKRkX7B4 H1cPQVoLY82N3E2TaF2xd29eqXRJlGHcoEJ3jz36lpkUkZU7XdoWm5Mp7LCGTG1dAMcIh3Ri91P 2oH+3xXZH X-Google-Smtp-Source: AGHT+IHMG7tX0L+35Gzi2jSH8+BN49wTOMy1t+AoPRS6gLdxcYS69gy2jo+KTVtdGaNHqkHqC/d1NTYGeQp9 X-Received: by 2002:a53:d056:0:20b0:636:947d:f6bc with SMTP id 956f58d0204a3-63fd35823bfmr1263673d50.50.1762304963107; Tue, 04 Nov 2025 17:09:23 -0800 (PST) Received: from postal.iol.unh.edu (postal.iol.unh.edu. [2606:4100:3880:1234::84]) by smtp-relay.gmail.com with ESMTPS id 00721157ae682-78691eecb80sm2193837b3.24.2025.11.04.17.09.23 (version=TLS1_2 cipher=ECDHE-ECDSA-AES128-GCM-SHA256 bits=128/128); Tue, 04 Nov 2025 17:09:23 -0800 (PST) X-Relaying-Domain: iol.unh.edu Date: Tue, 04 Nov 2025 17:09:23 -0800 (PST) Message-ID: <690aa3c3.050a0220.20a90e.bdc7SMTPIN_ADDED_MISSING@mx.google.com> Received: from [172.21.0.3] (unknown [172.18.0.240]) by postal.iol.unh.edu (Postfix) with ESMTP id 7F29C60003E8; Tue, 4 Nov 2025 20:09:22 -0500 (EST) Subject: |SUCCESS| pw158424-158428 [PATCH] [v4,5/5] bpf: replace use of VLA From: dpdklab@iol.unh.edu To: Test Report Cc: dpdk-test-reports@iol.unh.edu In-Reply-To: <20251104160843.304044-6-stephen@networkplumber.org> References: <20251104160843.304044-6-stephen@networkplumber.org> Content-Type: text/plain X-BeenThere: test-report@dpdk.org X-Mailman-Version: 2.1.29 Precedence: list List-Id: automatic DPDK test reports List-Unsubscribe: , List-Archive: List-Post: List-Help: List-Subscribe: , Errors-To: test-report-bounces@dpdk.org Test-Label: iol-unit-arm64-testing Test-Status: SUCCESS http://dpdk.org/patch/158428 _Testing PASS_ Submitter: Stephen Hemminger Date: Tuesday, November 04 2025 16:07:30 DPDK git baseline: Repo:dpdk Branch: master CommitID:1bdf2b3c27880f1d90df46a89d5643f20587a973 158424-158428 --> testing pass Upstream job id: Generic-Unit-Test-DPDK#388513 Test environment and result as below: +------------------------------+----------------+--------------+---------------------------+------------------------------+ | Environment | dpdk_unit_test | lpm_autotest | cryptodev_sw_zuc_autotest | cryptodev_sw_snow3g_autotest | +==============================+================+==============+===========================+==============================+ | CentOS Stream 9 | PASS | SKIPPED | SKIPPED | SKIPPED | +------------------------------+----------------+--------------+---------------------------+------------------------------+ | CentOS Stream 10 | PASS | SKIPPED | SKIPPED | SKIPPED | +------------------------------+----------------+--------------+---------------------------+------------------------------+ | Fedora Linux 40 | PASS | SKIPPED | SKIPPED | SKIPPED | +------------------------------+----------------+--------------+---------------------------+------------------------------+ | Debian GNU/Linux 12 | PASS | SKIPPED | SKIPPED | SKIPPED | +------------------------------+----------------+--------------+---------------------------+------------------------------+ | Fedora Linux 41 | PASS | SKIPPED | SKIPPED | SKIPPED | +------------------------------+----------------+--------------+---------------------------+------------------------------+ | Fedora Linux 42 | PASS | SKIPPED | SKIPPED | SKIPPED | +------------------------------+----------------+--------------+---------------------------+------------------------------+ | Red Hat Enterprise Linux 9.5 | PASS | SKIPPED | SKIPPED | SKIPPED | +------------------------------+----------------+--------------+---------------------------+------------------------------+ | Ubuntu 20.04 | PASS | PASS | SKIPPED | SKIPPED | +------------------------------+----------------+--------------+---------------------------+------------------------------+ | Ubuntu 24.04 | PASS | SKIPPED | SKIPPED | SKIPPED | +------------------------------+----------------+--------------+---------------------------+------------------------------+ | Ubuntu 22.04 | PASS | SKIPPED | SKIPPED | SKIPPED | +------------------------------+----------------+--------------+---------------------------+------------------------------+ | Debian 12 (arm) | SKIPPED | SKIPPED | PASS | PASS | +------------------------------+----------------+--------------+---------------------------+------------------------------+ CentOS Stream 9 Kernel: 5.4 Compiler: gcc gcc (GCC) 11.5.0 20240719 (Red Hat 11.5.0-11) CentOS Stream 10 Kernel: 5.4 Compiler: gcc gcc (GCC) 14.2.1 20250110 (Red Hat 14.2.1-8) Fedora Linux 40 Kernel: 5.4 Compiler: gcc gcc (GCC) 14.2.1 20240912 (Red Hat 14.2.1-3) Debian GNU/Linux 12 Kernel: 5.4 Compiler: gcc gcc (Debian 12.2.0-14+deb12u1) 12.2.0 Fedora Linux 41 Kernel: 5.4 Compiler: gcc gcc (GCC) 14.3.1 20250523 (Red Hat 14.3.1-1) Fedora Linux 42 Kernel: 5.4 Compiler: gcc gcc (GCC) 15.2.1 20250808 (Red Hat 15.2.1-1) Red Hat Enterprise Linux 9.5 Kernel: 5.4 Compiler: gcc gcc (GCC) 11.5.0 20240719 (Red Hat 11.5.0-2) Ubuntu 20.04 Kernel: 5.4 Compiler: gcc gcc (Ubuntu 9.4.0-1ubuntu1~20.04.2) 9.4.0 Ubuntu 24.04 Kernel: 5.4 Compiler: gcc gcc (Ubuntu 13.3.0-6ubuntu2~24.04) 13.3.0 Ubuntu 22.04 Kernel: 5.4 Compiler: gcc gcc (Ubuntu 11.4.0-1ubuntu1~22.04) 11.4.0 Debian 12 (arm) Kernel: Depends on container host Compiler: gcc (Debian 12.2.0-14) 12.2.0 To view detailed results, visit: https://lab.dpdk.org/results/dashboard/patchsets/34461/ UNH-IOL DPDK Community Lab To manage your email subscriptions, visit: https://lab.dpdk.org/results/dashboard/preferences/subscriptions/