automatic DPDK test reports
 help / color / mirror / Atom feed
From: dpdklab@iol.unh.edu
To: Test Report <test-report@dpdk.org>
Cc: dpdk-test-reports@iol.unh.edu
Subject: |SUCCESS| pw158429-158433 [PATCH] [5/5] net/mlx5: support count and
Date: Tue, 04 Nov 2025 18:03:57 -0800 (PST)	[thread overview]
Message-ID: <690ab08d.050a0220.297d3.5e80SMTPIN_ADDED_MISSING@mx.google.com> (raw)
In-Reply-To: <20251104174612.1341962-6-dsosnowski@nvidia.com>

Test-Label: iol-unit-arm64-testing
Test-Status: SUCCESS
http://dpdk.org/patch/158433

_Testing PASS_

Submitter: Dariusz Sosnowski <dsosnowski@nvidia.com>
Date: Tuesday, November 04 2025 17:46:12 
DPDK git baseline: Repo:dpdk-next-net-mlx
  Branch: master
  CommitID:f1c1f82f2421be9ac2f46b4ec2a616ca28da4ca7

158429-158433 --> testing pass

Upstream job id: Generic-Unit-Test-DPDK#388543

Test environment and result as below:

+------------------------------+---------------------------+------------------------------+--------------+----------------+
|         Environment          | cryptodev_sw_zuc_autotest | cryptodev_sw_snow3g_autotest | lpm_autotest | dpdk_unit_test |
+==============================+===========================+==============================+==============+================+
| Debian 12 (arm)              | PASS                      | PASS                         | SKIPPED      | SKIPPED        |
+------------------------------+---------------------------+------------------------------+--------------+----------------+
| Ubuntu 20.04                 | SKIPPED                   | SKIPPED                      | PASS         | PASS           |
+------------------------------+---------------------------+------------------------------+--------------+----------------+
| CentOS Stream 9              | SKIPPED                   | SKIPPED                      | SKIPPED      | PASS           |
+------------------------------+---------------------------+------------------------------+--------------+----------------+
| CentOS Stream 10             | SKIPPED                   | SKIPPED                      | SKIPPED      | PASS           |
+------------------------------+---------------------------+------------------------------+--------------+----------------+
| Fedora Linux 40              | SKIPPED                   | SKIPPED                      | SKIPPED      | PASS           |
+------------------------------+---------------------------+------------------------------+--------------+----------------+
| Debian GNU/Linux 12          | SKIPPED                   | SKIPPED                      | SKIPPED      | PASS           |
+------------------------------+---------------------------+------------------------------+--------------+----------------+
| Ubuntu 22.04                 | SKIPPED                   | SKIPPED                      | SKIPPED      | PASS           |
+------------------------------+---------------------------+------------------------------+--------------+----------------+
| Fedora Linux 41              | SKIPPED                   | SKIPPED                      | SKIPPED      | PASS           |
+------------------------------+---------------------------+------------------------------+--------------+----------------+
| Fedora Linux 42              | SKIPPED                   | SKIPPED                      | SKIPPED      | PASS           |
+------------------------------+---------------------------+------------------------------+--------------+----------------+
| Red Hat Enterprise Linux 9.5 | SKIPPED                   | SKIPPED                      | SKIPPED      | PASS           |
+------------------------------+---------------------------+------------------------------+--------------+----------------+
| Ubuntu 24.04                 | SKIPPED                   | SKIPPED                      | SKIPPED      | PASS           |
+------------------------------+---------------------------+------------------------------+--------------+----------------+


Debian 12 (arm)
	Kernel: Depends on container host
	Compiler: gcc (Debian 12.2.0-14) 12.2.0

Ubuntu 20.04
	Kernel: 5.4
	Compiler: gcc gcc (Ubuntu 9.4.0-1ubuntu1~20.04.2) 9.4.0

CentOS Stream 9
	Kernel: 5.4
	Compiler: gcc gcc (GCC) 11.5.0 20240719 (Red Hat 11.5.0-11)

CentOS Stream 10
	Kernel: 5.4
	Compiler: gcc gcc (GCC) 14.2.1 20250110 (Red Hat 14.2.1-8)

Fedora Linux 40
	Kernel: 5.4
	Compiler: gcc gcc (GCC) 14.2.1 20240912 (Red Hat 14.2.1-3)

Debian GNU/Linux 12
	Kernel: 5.4
	Compiler: gcc gcc (Debian 12.2.0-14+deb12u1) 12.2.0

Ubuntu 22.04
	Kernel: 5.15
	Compiler: gcc gcc (Ubuntu 11.4.0-1ubuntu1~22.04.2) 11.4.0

Fedora Linux 41
	Kernel: 5.4
	Compiler: gcc gcc (GCC) 14.3.1 20250523 (Red Hat 14.3.1-1)

Fedora Linux 42
	Kernel: 5.4
	Compiler: gcc gcc (GCC) 15.2.1 20250808 (Red Hat 15.2.1-1)

Red Hat Enterprise Linux 9.5
	Kernel: 5.4
	Compiler: gcc gcc (GCC) 11.5.0 20240719 (Red Hat 11.5.0-2)

Ubuntu 24.04
	Kernel: 5.4
	Compiler: gcc gcc (Ubuntu 13.3.0-6ubuntu2~24.04) 13.3.0

To view detailed results, visit:
https://lab.dpdk.org/results/dashboard/patchsets/34462/

UNH-IOL DPDK Community Lab

To manage your email subscriptions, visit: 
https://lab.dpdk.org/results/dashboard/preferences/subscriptions/

      parent reply	other threads:[~2025-11-05  2:03 UTC|newest]

Thread overview: 22+ messages / expand[flat|nested]  mbox.gz  Atom feed  top
     [not found] <20251104174612.1341962-6-dsosnowski@nvidia.com>
2025-11-04 17:14 ` |SUCCESS| pw158429-158433 [PATCH 5/5] net/mlx5: support count and age on root group qemudev
2025-11-04 17:19 ` qemudev
2025-11-04 17:48 ` |SUCCESS| pw158433 " checkpatch
2025-11-04 18:12 ` |PENDING| pw158429-158433 [PATCH] [5/5] net/mlx5: support count and dpdklab
2025-11-04 18:14 ` |SUCCESS| " dpdklab
2025-11-04 18:18 ` |PENDING| " dpdklab
2025-11-04 18:19 ` |SUCCESS| " dpdklab
2025-11-04 18:23 ` |PENDING| " dpdklab
2025-11-04 18:28 ` dpdklab
2025-11-04 18:35 ` |SUCCESS| " dpdklab
2025-11-04 18:36 ` dpdklab
2025-11-04 18:36 ` dpdklab
2025-11-04 18:48 ` dpdklab
2025-11-04 18:57 ` dpdklab
2025-11-04 19:07 ` dpdklab
2025-11-04 19:11 ` dpdklab
2025-11-04 19:19 ` dpdklab
2025-11-04 19:32 ` dpdklab
2025-11-04 19:46 ` |SUCCESS| pw158433 [PATCH 5/5] net/mlx5: support count and age on root group 0-day Robot
2025-11-04 19:46 ` 0-day Robot
2025-11-04 21:33 ` |SUCCESS| pw158429-158433 [PATCH] [5/5] net/mlx5: support count and dpdklab
2025-11-05  2:03 ` dpdklab [this message]

Reply instructions:

You may reply publicly to this message via plain-text email
using any one of the following methods:

* Save the following mbox file, import it into your mail client,
  and reply-to-all from there: mbox

  Avoid top-posting and favor interleaved quoting:
  https://en.wikipedia.org/wiki/Posting_style#Interleaved_style

* Reply using the --to, --cc, and --in-reply-to
  switches of git-send-email(1):

  git send-email \
    --in-reply-to=690ab08d.050a0220.297d3.5e80SMTPIN_ADDED_MISSING@mx.google.com \
    --to=dpdklab@iol.unh.edu \
    --cc=dpdk-test-reports@iol.unh.edu \
    --cc=test-report@dpdk.org \
    /path/to/YOUR_REPLY

  https://kernel.org/pub/software/scm/git/docs/git-send-email.html

* If your mail client supports setting the In-Reply-To header
  via mailto: links, try the mailto: link
Be sure your reply has a Subject: header at the top and a blank line before the message body.
This is a public inbox, see mirroring instructions
for how to clone and mirror all data and code used for this inbox;
as well as URLs for NNTP newsgroup(s).