From mboxrd@z Thu Jan 1 00:00:00 1970 Return-Path: Received: from mails.dpdk.org (mails.dpdk.org [217.70.189.124]) by inbox.dpdk.org (Postfix) with ESMTP id D9E0548A1A for ; Wed, 5 Nov 2025 03:03:59 +0100 (CET) Received: from mails.dpdk.org (localhost [127.0.0.1]) by mails.dpdk.org (Postfix) with ESMTP id A55F640269; Wed, 5 Nov 2025 03:03:59 +0100 (CET) Received: from mail-qt1-f227.google.com (mail-qt1-f227.google.com [209.85.160.227]) by mails.dpdk.org (Postfix) with ESMTP id 7E55640269 for ; Wed, 5 Nov 2025 03:03:58 +0100 (CET) Received: by mail-qt1-f227.google.com with SMTP id d75a77b69052e-4eba0adfa04so81300911cf.3 for ; Tue, 04 Nov 2025 18:03:58 -0800 (PST) DKIM-Signature: v=1; a=rsa-sha256; c=relaxed/relaxed; d=iol.unh.edu; s=unh-iol; t=1762308238; x=1762913038; darn=dpdk.org; h=references:in-reply-to:cc:to:from:subject:message-id:date:from:to :cc:subject:date:message-id:reply-to; bh=nceMbsZmpebgJ8HKWvtYkRNI8zd1hHa5NfcvwyjMDAg=; b=cI2hPskzL0DA+G2yTCAnBw9nZyPpqt5s754MBVLHAfz7mrjGqzcgUQT7GLY6zXGOwb dsyXk7zxo5uH0iIkbshGCCyLRGfBf4v67xSa3Ob7/8SPGnUanvxgFL6Tu/f4T585YYpT nKry7rgmgYIfOyGfSmKSAH3Pq6FLkizEepqDg= X-Google-DKIM-Signature: v=1; a=rsa-sha256; c=relaxed/relaxed; d=1e100.net; s=20230601; t=1762308238; x=1762913038; h=references:in-reply-to:cc:to:from:subject:message-id:date :x-gm-message-state:from:to:cc:subject:date:message-id:reply-to; bh=nceMbsZmpebgJ8HKWvtYkRNI8zd1hHa5NfcvwyjMDAg=; b=hBDfeubS50cZxvCoArV4hZGQfc3cx8DV5UW2kmoQcY8y+HEGpTxcRpG2WXb2AdbDQ9 ctMuwDdS7fX602sxrtWk1wnALgjGBeH6DuG+9stxr+h4sugHsJYGaRQM4wabG23R1rkH 8Xk7aWKVjvJH3jOWxVb6AIZlBM8cyWDo6vaYSyMrpXVRms3ZZYsaV3+gYjrARB00qr8b beCRmAKbJJkDinOwGaL6Q6nJH5w0YSsYSNxu9pN2yZo7wR8/VWjBC1Ti6VbbtGjG9WEY nww1HPUn5PgXJt65ii8fma1tCQF+P7WJomDtxbwCoykb0ZAtO111lpW64rwOFkWUQ0cS SVQA== X-Gm-Message-State: AOJu0Yx+WCtIe+dOSMAwaIlVA80u2WB5fCUR/nw/jSEk7WM7669I7cpa Zar8jzAOw+hDOF74eEg991TO8v4OslB31DrRJ9mXLpczEFzi6NyJTJfLsLtSHDHXDJhpjwh5+6a ebpGckQnoWqqMo5E2lW4aS6hOQUvbErYFbrUvi/5BC14EzwZF07FC1C8IdFwP X-Gm-Gg: ASbGncuEReuWVgvx3BUvzkvHjivALNNE6Z50Mxe605aqJleDVqT2cq1XrFNbccojpgh N5ff8HJAq7QdkxYIUdAMIgFslE0vMaTjs6h6Qmo3oxJhve3HkVwnki1xg2e0LxnybXifv04jYd4 qZGURkelVGhput/VrLRg97Y+mHQUTXtiTs7ZSU1MzYuvIQ8Qr74mOverEyVgs0aX0BIo84lQJqm XcWuCPLqVvRh4R2JImQoSjqIGhtOUv5lFNmUPP9eiYBU1/+f2/zqO6INaLlkDm2XX2bOMKIhLmo EGDD+0Anx3wvGbvIbhkQNErs4GwnGHL6HNFlQsAg2WNKZVvFqKpWHuS4ftrHj6MmDlE6VPRMX1k 4cgTYHHcB X-Google-Smtp-Source: AGHT+IGmfOLrsU9dQBMK6xnUB3zR8xUWmoFdKm30kNn6BT/o7bsKrw31WjdQBsJBLa6uD4/bYKKfPjXq1Woc X-Received: by 2002:a05:622a:180f:b0:4e8:a8be:5857 with SMTP id d75a77b69052e-4ed726032a8mr21848911cf.55.1762308237795; Tue, 04 Nov 2025 18:03:57 -0800 (PST) Received: from postal.iol.unh.edu (postal.iol.unh.edu. [2606:4100:3880:1234::84]) by smtp-relay.gmail.com with ESMTPS id 6a1803df08f44-88060e6b603sm3959346d6.31.2025.11.04.18.03.57 (version=TLS1_2 cipher=ECDHE-ECDSA-AES128-GCM-SHA256 bits=128/128); Tue, 04 Nov 2025 18:03:57 -0800 (PST) X-Relaying-Domain: iol.unh.edu Date: Tue, 04 Nov 2025 18:03:57 -0800 (PST) Message-ID: <690ab08d.050a0220.297d3.5e80SMTPIN_ADDED_MISSING@mx.google.com> Received: from [172.21.0.2] (unknown [172.18.0.240]) by postal.iol.unh.edu (Postfix) with ESMTP id 7CCA46051830; Tue, 4 Nov 2025 21:03:57 -0500 (EST) Subject: |SUCCESS| pw158429-158433 [PATCH] [5/5] net/mlx5: support count and From: dpdklab@iol.unh.edu To: Test Report Cc: dpdk-test-reports@iol.unh.edu In-Reply-To: <20251104174612.1341962-6-dsosnowski@nvidia.com> References: <20251104174612.1341962-6-dsosnowski@nvidia.com> Content-Type: text/plain X-BeenThere: test-report@dpdk.org X-Mailman-Version: 2.1.29 Precedence: list List-Id: automatic DPDK test reports List-Unsubscribe: , List-Archive: List-Post: List-Help: List-Subscribe: , Errors-To: test-report-bounces@dpdk.org Test-Label: iol-unit-arm64-testing Test-Status: SUCCESS http://dpdk.org/patch/158433 _Testing PASS_ Submitter: Dariusz Sosnowski Date: Tuesday, November 04 2025 17:46:12 DPDK git baseline: Repo:dpdk-next-net-mlx Branch: master CommitID:f1c1f82f2421be9ac2f46b4ec2a616ca28da4ca7 158429-158433 --> testing pass Upstream job id: Generic-Unit-Test-DPDK#388543 Test environment and result as below: +------------------------------+---------------------------+------------------------------+--------------+----------------+ | Environment | cryptodev_sw_zuc_autotest | cryptodev_sw_snow3g_autotest | lpm_autotest | dpdk_unit_test | +==============================+===========================+==============================+==============+================+ | Debian 12 (arm) | PASS | PASS | SKIPPED | SKIPPED | +------------------------------+---------------------------+------------------------------+--------------+----------------+ | Ubuntu 20.04 | SKIPPED | SKIPPED | PASS | PASS | +------------------------------+---------------------------+------------------------------+--------------+----------------+ | CentOS Stream 9 | SKIPPED | SKIPPED | SKIPPED | PASS | +------------------------------+---------------------------+------------------------------+--------------+----------------+ | CentOS Stream 10 | SKIPPED | SKIPPED | SKIPPED | PASS | +------------------------------+---------------------------+------------------------------+--------------+----------------+ | Fedora Linux 40 | SKIPPED | SKIPPED | SKIPPED | PASS | +------------------------------+---------------------------+------------------------------+--------------+----------------+ | Debian GNU/Linux 12 | SKIPPED | SKIPPED | SKIPPED | PASS | +------------------------------+---------------------------+------------------------------+--------------+----------------+ | Ubuntu 22.04 | SKIPPED | SKIPPED | SKIPPED | PASS | +------------------------------+---------------------------+------------------------------+--------------+----------------+ | Fedora Linux 41 | SKIPPED | SKIPPED | SKIPPED | PASS | +------------------------------+---------------------------+------------------------------+--------------+----------------+ | Fedora Linux 42 | SKIPPED | SKIPPED | SKIPPED | PASS | +------------------------------+---------------------------+------------------------------+--------------+----------------+ | Red Hat Enterprise Linux 9.5 | SKIPPED | SKIPPED | SKIPPED | PASS | +------------------------------+---------------------------+------------------------------+--------------+----------------+ | Ubuntu 24.04 | SKIPPED | SKIPPED | SKIPPED | PASS | +------------------------------+---------------------------+------------------------------+--------------+----------------+ Debian 12 (arm) Kernel: Depends on container host Compiler: gcc (Debian 12.2.0-14) 12.2.0 Ubuntu 20.04 Kernel: 5.4 Compiler: gcc gcc (Ubuntu 9.4.0-1ubuntu1~20.04.2) 9.4.0 CentOS Stream 9 Kernel: 5.4 Compiler: gcc gcc (GCC) 11.5.0 20240719 (Red Hat 11.5.0-11) CentOS Stream 10 Kernel: 5.4 Compiler: gcc gcc (GCC) 14.2.1 20250110 (Red Hat 14.2.1-8) Fedora Linux 40 Kernel: 5.4 Compiler: gcc gcc (GCC) 14.2.1 20240912 (Red Hat 14.2.1-3) Debian GNU/Linux 12 Kernel: 5.4 Compiler: gcc gcc (Debian 12.2.0-14+deb12u1) 12.2.0 Ubuntu 22.04 Kernel: 5.15 Compiler: gcc gcc (Ubuntu 11.4.0-1ubuntu1~22.04.2) 11.4.0 Fedora Linux 41 Kernel: 5.4 Compiler: gcc gcc (GCC) 14.3.1 20250523 (Red Hat 14.3.1-1) Fedora Linux 42 Kernel: 5.4 Compiler: gcc gcc (GCC) 15.2.1 20250808 (Red Hat 15.2.1-1) Red Hat Enterprise Linux 9.5 Kernel: 5.4 Compiler: gcc gcc (GCC) 11.5.0 20240719 (Red Hat 11.5.0-2) Ubuntu 24.04 Kernel: 5.4 Compiler: gcc gcc (Ubuntu 13.3.0-6ubuntu2~24.04) 13.3.0 To view detailed results, visit: https://lab.dpdk.org/results/dashboard/patchsets/34462/ UNH-IOL DPDK Community Lab To manage your email subscriptions, visit: https://lab.dpdk.org/results/dashboard/preferences/subscriptions/