From mboxrd@z Thu Jan 1 00:00:00 1970 Return-Path: Received: from mails.dpdk.org (mails.dpdk.org [217.70.189.124]) by inbox.dpdk.org (Postfix) with ESMTP id CA86148A67 for ; Wed, 5 Nov 2025 04:22:38 +0100 (CET) Received: from mails.dpdk.org (localhost [127.0.0.1]) by mails.dpdk.org (Postfix) with ESMTP id C1A0940269; Wed, 5 Nov 2025 04:22:38 +0100 (CET) Received: from mail-pf1-f225.google.com (mail-pf1-f225.google.com [209.85.210.225]) by mails.dpdk.org (Postfix) with ESMTP id 9FC6440269 for ; Wed, 5 Nov 2025 04:22:37 +0100 (CET) Received: by mail-pf1-f225.google.com with SMTP id d2e1a72fcca58-7aa9be9f03aso2600508b3a.2 for ; Tue, 04 Nov 2025 19:22:37 -0800 (PST) DKIM-Signature: v=1; a=rsa-sha256; c=relaxed/relaxed; d=iol.unh.edu; s=unh-iol; t=1762312957; x=1762917757; darn=dpdk.org; h=references:in-reply-to:cc:to:from:subject:message-id:date:from:to :cc:subject:date:message-id:reply-to; bh=Ui+C3ArvSW9mc1+habBNAkrDORfNDxEnVThmX0t3OIs=; b=Gx7qYUJYrpD9bM5IuAKPRi/DZxiRE6HAmO4R6XSXjxse7BrDBgeRRKBi74glkyx7zy 3T3+4sNFk0ekB+29mERRpm2BZ1Q+H0XFwu5Nnbd6mWdRAEd9Aa0kYoxazvSpmmqzyclw qkUd6bKbVZYQQ7L8BJWOWoJow4grpN5Zjq5qU= X-Google-DKIM-Signature: v=1; a=rsa-sha256; c=relaxed/relaxed; d=1e100.net; s=20230601; t=1762312957; x=1762917757; h=references:in-reply-to:cc:to:from:subject:message-id:date :x-gm-message-state:from:to:cc:subject:date:message-id:reply-to; bh=Ui+C3ArvSW9mc1+habBNAkrDORfNDxEnVThmX0t3OIs=; b=ma3NdeJodzHdeWmAil3/32FUokRmssh7GtCCxoVJYtndiju1+8YuCeMeTAOIsHlPDg wYHjZy1BTQfieWn3eA/61gmTbvSGxe3DUXzwAE9MNte6ktO6qGz25BjXIV+OCeCBamK1 5f9Kc+aaDTH0s1M0FGgMIyVY0zaMVtjIvc1bGZRapz/l3A7zDbPUeiMO7nJDq1LY1fRz loGn81VQlAIZisNjFfArTpFYo6NWskTQ899xs9HJBtaGcQ2Mv1lkwQFvmDpiAXY45pMa rpgrqh7zJMpOBjVSWZsbexNH5J7cGXwuITIUNek3cXj55W52qZbsI7MOnN/oXoFBYQcs 2IMg== X-Gm-Message-State: AOJu0YzKbGLj0gGnH5SC2P97HFy3Nqfs9Y3LIt+aKlD0LKholKVSFxO9 XnamqqSM57KNGdjr7WIYx+FKCFtSqXL8m8mZyaD/1JlPEdduf6vaYnrPfzgjUg4vccYXCzOl/eM idH46bLipyK3JMvbVYZtSpzLnmT2SAx3T2Cz1k4JEutfjkS8YW5huw1Rj1QCX X-Gm-Gg: ASbGncvtlIRFQwGkiod1wZzsVxll+W470MHWKHt2ZMla8Nz/Cx+8IHJDkM84J2bTpgM 8r4m6MhpzwoLDMq9M5Jkm5ad6Y/Nh8RglZJJuVeD/fT/e5O0NqySMWXlcwH9IK2yWwcApKJcUSd +qoEkRRmvhXcfpiZfk7ebD8Waj6D1BPIeN46omc0qgALulHpN03epfUO0bcG9+5rGJC4ulVwLbz AwUFy9D7hDfQdOcqwnSrkkQ+Bu0joDsSF1Hz7mcTJkMflhtB0MEM6gRpAGziMgE5r6FeqwCJAW9 tQGG2EzBQ9NbM6VzUzik5gj/ziuFKcUziI2LKpqLJk6IYmB97e+mD7p6mLdsZc3Tih0TUOzddnr +2Zdl6oRg X-Google-Smtp-Source: AGHT+IEQ2Od/lncfgk5/ky/xjiLwuo3Ggtf726Gv9YmXG4FEheOHvidAnynQbGn2YiEG4RrO3jliTOJJYerB X-Received: by 2002:a05:6a00:22cc:b0:7a2:705c:5037 with SMTP id d2e1a72fcca58-7ae1d15c9efmr1912734b3a.11.1762312956731; Tue, 04 Nov 2025 19:22:36 -0800 (PST) Received: from postal.iol.unh.edu (postal.iol.unh.edu. [2606:4100:3880:1234::84]) by smtp-relay.gmail.com with ESMTPS id d2e1a72fcca58-7acd4d8f643sm294399b3a.6.2025.11.04.19.22.36 (version=TLS1_2 cipher=ECDHE-ECDSA-AES128-GCM-SHA256 bits=128/128); Tue, 04 Nov 2025 19:22:36 -0800 (PST) X-Relaying-Domain: iol.unh.edu Date: Tue, 04 Nov 2025 19:22:36 -0800 (PST) Message-ID: <690ac2fc.050a0220.32a232.0a40SMTPIN_ADDED_MISSING@mx.google.com> Received: from [172.21.0.2] (unknown [172.18.0.240]) by postal.iol.unh.edu (Postfix) with ESMTP id DF0F160003E8; Tue, 4 Nov 2025 22:22:35 -0500 (EST) Subject: |SUCCESS| pw158434-158441 [PATCH] [v6,8/8] doc: update documentation From: dpdklab@iol.unh.edu To: Test Report Cc: dpdk-test-reports@iol.unh.edu In-Reply-To: <20251104180927.403355-9-stephen@networkplumber.org> References: <20251104180927.403355-9-stephen@networkplumber.org> Content-Type: text/plain X-BeenThere: test-report@dpdk.org X-Mailman-Version: 2.1.29 Precedence: list List-Id: automatic DPDK test reports List-Unsubscribe: , List-Archive: List-Post: List-Help: List-Subscribe: , Errors-To: test-report-bounces@dpdk.org Test-Label: iol-unit-arm64-testing Test-Status: SUCCESS http://dpdk.org/patch/158441 _Testing PASS_ Submitter: Stephen Hemminger Date: Tuesday, November 04 2025 18:07:12 DPDK git baseline: Repo:dpdk Branch: master CommitID:1bdf2b3c27880f1d90df46a89d5643f20587a973 158434-158441 --> testing pass Upstream job id: Generic-Unit-Test-DPDK#388573 Test environment and result as below: +------------------------------+----------------+--------------+---------------------------+------------------------------+ | Environment | dpdk_unit_test | lpm_autotest | cryptodev_sw_zuc_autotest | cryptodev_sw_snow3g_autotest | +==============================+================+==============+===========================+==============================+ | CentOS Stream 9 | PASS | SKIPPED | SKIPPED | SKIPPED | +------------------------------+----------------+--------------+---------------------------+------------------------------+ | Fedora Linux 40 | PASS | SKIPPED | SKIPPED | SKIPPED | +------------------------------+----------------+--------------+---------------------------+------------------------------+ | Debian GNU/Linux 12 | PASS | SKIPPED | SKIPPED | SKIPPED | +------------------------------+----------------+--------------+---------------------------+------------------------------+ | CentOS Stream 10 | PASS | SKIPPED | SKIPPED | SKIPPED | +------------------------------+----------------+--------------+---------------------------+------------------------------+ | Fedora Linux 41 | PASS | SKIPPED | SKIPPED | SKIPPED | +------------------------------+----------------+--------------+---------------------------+------------------------------+ | Fedora Linux 42 | PASS | SKIPPED | SKIPPED | SKIPPED | +------------------------------+----------------+--------------+---------------------------+------------------------------+ | Red Hat Enterprise Linux 9.5 | PASS | SKIPPED | SKIPPED | SKIPPED | +------------------------------+----------------+--------------+---------------------------+------------------------------+ | Ubuntu 20.04 | PASS | PASS | SKIPPED | SKIPPED | +------------------------------+----------------+--------------+---------------------------+------------------------------+ | Ubuntu 24.04 | PASS | SKIPPED | SKIPPED | SKIPPED | +------------------------------+----------------+--------------+---------------------------+------------------------------+ | Ubuntu 22.04 | PASS | SKIPPED | SKIPPED | SKIPPED | +------------------------------+----------------+--------------+---------------------------+------------------------------+ | Debian 12 (arm) | SKIPPED | SKIPPED | PASS | PASS | +------------------------------+----------------+--------------+---------------------------+------------------------------+ CentOS Stream 9 Kernel: 5.4 Compiler: gcc gcc (GCC) 11.5.0 20240719 (Red Hat 11.5.0-11) Fedora Linux 40 Kernel: 5.4 Compiler: clang gcc (GCC) 14.2.1 20240912 (Red Hat 14.2.1-3) Debian GNU/Linux 12 Kernel: 5.4 Compiler: gcc gcc (Debian 12.2.0-14+deb12u1) 12.2.0 CentOS Stream 10 Kernel: 5.4 Compiler: gcc gcc (GCC) 14.2.1 20250110 (Red Hat 14.2.1-8) Fedora Linux 41 Kernel: 5.4 Compiler: clang gcc (GCC) 14.3.1 20250523 (Red Hat 14.3.1-1) Fedora Linux 42 Kernel: 5.4 Compiler: gcc gcc (GCC) 15.2.1 20250808 (Red Hat 15.2.1-1) Red Hat Enterprise Linux 9.5 Kernel: 5.4 Compiler: gcc gcc (GCC) 11.5.0 20240719 (Red Hat 11.5.0-2) Ubuntu 20.04 Kernel: 5.4 Compiler: gcc gcc (Ubuntu 9.4.0-1ubuntu1~20.04.2) 9.4.0 Ubuntu 24.04 Kernel: 5.4 Compiler: gcc gcc (Ubuntu 13.3.0-6ubuntu2~24.04) 13.3.0 Ubuntu 22.04 Kernel: 5.4 Compiler: gcc gcc (Ubuntu 11.4.0-1ubuntu1~22.04) 11.4.0 Debian 12 (arm) Kernel: Depends on container host Compiler: gcc (Debian 12.2.0-14) 12.2.0 To view detailed results, visit: https://lab.dpdk.org/results/dashboard/patchsets/34463/ UNH-IOL DPDK Community Lab To manage your email subscriptions, visit: https://lab.dpdk.org/results/dashboard/preferences/subscriptions/