From mboxrd@z Thu Jan 1 00:00:00 1970 Return-Path: Received: from mails.dpdk.org (mails.dpdk.org [217.70.189.124]) by inbox.dpdk.org (Postfix) with ESMTP id 4F8A048A67 for ; Wed, 5 Nov 2025 05:37:59 +0100 (CET) Received: from mails.dpdk.org (localhost [127.0.0.1]) by mails.dpdk.org (Postfix) with ESMTP id 33D8140269; Wed, 5 Nov 2025 05:37:59 +0100 (CET) Received: from mail-il1-f228.google.com (mail-il1-f228.google.com [209.85.166.228]) by mails.dpdk.org (Postfix) with ESMTP id 5BA8D40269 for ; Wed, 5 Nov 2025 05:37:57 +0100 (CET) Received: by mail-il1-f228.google.com with SMTP id e9e14a558f8ab-433217b58d9so14926155ab.1 for ; Tue, 04 Nov 2025 20:37:57 -0800 (PST) DKIM-Signature: v=1; a=rsa-sha256; c=relaxed/relaxed; d=iol.unh.edu; s=unh-iol; t=1762317476; x=1762922276; darn=dpdk.org; h=references:in-reply-to:cc:to:from:subject:message-id:date:from:to :cc:subject:date:message-id:reply-to; bh=cUE8yu9xm8IGqAw6jvqbC/DIBqDY99pMQ7JUrj81ecI=; b=EhknoMskRRK5kvFbOS5JUku3krZ4LYJScGdRreu4Q4eDpd4CPu6dN9KuZBVirm61ET aR//vj4uC05b3RO+mVhRg6ieRG4ZM1MNzssrPMPY1iLnXytKvkV8xxM1doQIc/u3MfVD nyimVWVJNGxM4i7ZqydHv1x+AdJ0dA63KtgyM= X-Google-DKIM-Signature: v=1; a=rsa-sha256; c=relaxed/relaxed; d=1e100.net; s=20230601; t=1762317476; x=1762922276; h=references:in-reply-to:cc:to:from:subject:message-id:date :x-gm-message-state:from:to:cc:subject:date:message-id:reply-to; bh=cUE8yu9xm8IGqAw6jvqbC/DIBqDY99pMQ7JUrj81ecI=; b=sqPv8nXfYIAHsmq638FyNWjTqtKZaQi7XlEy+x+EoY0r8uB9FEQv1Z14xSjw+WhuMN 0zUjtY609hwiFgtHB0soOjR/Y7eCJNxFrovmRPl8ChGAKA1BqC3KGYCapNaNbzBHWZQo 7Q1nPY5AT8CIvllkbUS7REWIJKC18QUHaM2PjNUK7RQetfWTt+rlkkKqRUF+5GNaPsHi s2ZDP2e6UvZvXR2hsSXhyDfJGYEFEhgLJotzG21fRo1SYZM20e+u4ahMskvs+Df8t+1f TikBh7ukYWCxCRulIpmUYNZbLb/iIA1R0dw2/ehNMWP1nelkMJ6km/AUG9362PWr5vob +bbg== X-Gm-Message-State: AOJu0YxSmE0NV2NIn5fTVq2zaranXu4jPNepOhpKxCddqRg4Kl/X9G6c +y1Ah8UwB9NYco39oehdBIJtzFKI5rtH9XQJkJohnGKTwS+lCHwPpa9PWks+QhfhDATLPvCbcMz lEtnaDRHbeIYt7mukExaysp3gILVV+djkJf2Je3MZ0fE9JdZvm7FCfrPeMM3T X-Gm-Gg: ASbGnct2qzQyykq9yBFSyNgUTdCH7sZ9+ZKhW83cLI2D8JVbPmhp61TxQcSrpSmixhs cdwlD1j+7saCNkw7doJGTE7BIOz4wFcpKL7eiwvbnWRshud0U9BazefvZeOKBjzZ+VME2aZGc5w X9HbsKefrr9QD2YIbuIYmq1jCSEd50PIgbvyIgJZFcDqVq4NGgtefAwVN9kBUQLAOUelUyrmZ9F xCL+DFfN2/w0YJAi8ZahO2Dj144beCJk7kQMvggstAYPsybUqUo58f8C/+dsJNX8U/7Nufl+Izt fSkMSbBuXbmiBwz4MBKP++xL0UK1dBfCFbwbgCwMWcuV+Bbit1I0FKUppxBjRW1OUFPhrGdFTrJ iSPx199E0 X-Google-Smtp-Source: AGHT+IEf4Asjh01t7JWfRO1tsUWlLG9mU2cBN6DCbLjrx+fQ0aRxde8Xpht/omicRUJV2GpFcSx1d88iMcg/ X-Received: by 2002:a05:6e02:1949:b0:433:3192:49e with SMTP id e9e14a558f8ab-433407bf37amr25759555ab.19.1762317476644; Tue, 04 Nov 2025 20:37:56 -0800 (PST) Received: from postal.iol.unh.edu (postal.iol.unh.edu. [2606:4100:3880:1234::84]) by smtp-relay.gmail.com with ESMTPS id e9e14a558f8ab-43335a9ae13sm4046155ab.8.2025.11.04.20.37.56 (version=TLS1_2 cipher=ECDHE-ECDSA-AES128-GCM-SHA256 bits=128/128); Tue, 04 Nov 2025 20:37:56 -0800 (PST) X-Relaying-Domain: iol.unh.edu Date: Tue, 04 Nov 2025 20:37:56 -0800 (PST) Message-ID: <690ad4a4.050a0220.183816.6482SMTPIN_ADDED_MISSING@mx.google.com> Received: from [172.21.0.2] (unknown [172.18.0.240]) by postal.iol.unh.edu (Postfix) with ESMTP id 1BC4A6051830; Tue, 4 Nov 2025 23:37:56 -0500 (EST) Subject: |SUCCESS| pw158442-158443 [PATCH] [2/2] app/testpmd: fix the IPv6 ex From: dpdklab@iol.unh.edu To: Test Report Cc: dpdk-test-reports@iol.unh.edu, Stephen Hemminger In-Reply-To: <20251105024724.830304-3-mingjinx.ye@intel.com> References: <20251105024724.830304-3-mingjinx.ye@intel.com> Content-Type: text/plain X-BeenThere: test-report@dpdk.org X-Mailman-Version: 2.1.29 Precedence: list List-Id: automatic DPDK test reports List-Unsubscribe: , List-Archive: List-Post: List-Help: List-Subscribe: , Errors-To: test-report-bounces@dpdk.org Test-Label: iol-unit-amd64-testing Test-Status: SUCCESS http://dpdk.org/patch/158443 _Testing PASS_ Submitter: Mingjin Ye Date: Wednesday, November 05 2025 02:47:24 DPDK git baseline: Repo:dpdk-next-net Branch: master CommitID:538052bb364db22ba8cc08b5e23a9e6d25a864a9 158442-158443 --> testing pass Upstream job id: Generic-VM-Unit-Test-DPDK#32291 Test environment and result as below: +-------------------------------+----------------+ | Environment | dpdk_unit_test | +===============================+================+ | CentOS Stream 9 | PASS | +-------------------------------+----------------+ | Fedora Linux 40 | PASS | +-------------------------------+----------------+ | Ubuntu 22.04 | PASS | +-------------------------------+----------------+ | Ubuntu 24.04 | PASS | +-------------------------------+----------------+ | Red Hat Enterprise Linux 8.10 | PASS | +-------------------------------+----------------+ | Fedora Linux 42 | PASS | +-------------------------------+----------------+ | Debian GNU/Linux 12 | PASS | +-------------------------------+----------------+ | Fedora Linux 41 | PASS | +-------------------------------+----------------+ | CentOS Stream 10 | PASS | +-------------------------------+----------------+ | Ubuntu 20.04 | PASS | +-------------------------------+----------------+ | Red Hat Enterprise Linux 9.5 | PASS | +-------------------------------+----------------+ | Windows Server 2022 | PASS | +-------------------------------+----------------+ CentOS Stream 9 Kernel: 5.15 Compiler: gcc gcc (GCC) 11.5.0 20240719 (Red Hat 11.5.0-11) Fedora Linux 40 Kernel: 5.15 Compiler: gcc gcc (GCC) 14.2.1 20240912 (Red Hat 14.2.1-3) Ubuntu 22.04 Kernel: 5.15 Compiler: gcc gcc (Ubuntu 11.4.0-1ubuntu1~22.04) 11.4.0 Ubuntu 24.04 Kernel: 5.15 Compiler: gcc gcc (Ubuntu 13.3.0-6ubuntu2~24.04) 13.3.0 Red Hat Enterprise Linux 8.10 Kernel: 5.15 Compiler: gcc gcc (GCC) 8.5.0 20210514 (Red Hat 8.5.0-22) Fedora Linux 42 Kernel: 5.15 Compiler: clang gcc (GCC) 15.2.1 20250808 (Red Hat 15.2.1-1) Debian GNU/Linux 12 Kernel: 5.15 Compiler: gcc gcc (Debian 12.2.0-14+deb12u1) 12.2.0 Fedora Linux 41 Kernel: 5.15 Compiler: gcc gcc (GCC) 14.3.1 20250523 (Red Hat 14.3.1-1) CentOS Stream 10 Kernel: 5.15 Compiler: gcc gcc (GCC) 14.2.1 20250110 (Red Hat 14.2.1-8) Ubuntu 20.04 Kernel: 5.15 Compiler: gcc gcc (Ubuntu 9.4.0-1ubuntu1~20.04.2) 9.4.0 Red Hat Enterprise Linux 9.5 Kernel: 5.15 Compiler: gcc gcc (GCC) 11.5.0 20240719 (Red Hat 11.5.0-2) Windows Server 2022 Kernel: 10.0.20348.2031 Compiler: clang 15.0.7, gcc 14.1.0 (MinGW), and MSVC VS 19.39.33521 To view detailed results, visit: https://lab.dpdk.org/results/dashboard/patchsets/34464/ UNH-IOL DPDK Community Lab To manage your email subscriptions, visit: https://lab.dpdk.org/results/dashboard/preferences/subscriptions/