From mboxrd@z Thu Jan 1 00:00:00 1970 Return-Path: Received: from mails.dpdk.org (mails.dpdk.org [217.70.189.124]) by inbox.dpdk.org (Postfix) with ESMTP id 0EF9948A67 for ; Wed, 5 Nov 2025 05:45:51 +0100 (CET) Received: from mails.dpdk.org (localhost [127.0.0.1]) by mails.dpdk.org (Postfix) with ESMTP id E51FD40269; Wed, 5 Nov 2025 05:45:50 +0100 (CET) Received: from mail-io1-f100.google.com (mail-io1-f100.google.com [209.85.166.100]) by mails.dpdk.org (Postfix) with ESMTP id 7D29B40269 for ; Wed, 5 Nov 2025 05:45:49 +0100 (CET) Received: by mail-io1-f100.google.com with SMTP id ca18e2360f4ac-948640d425aso85616739f.0 for ; Tue, 04 Nov 2025 20:45:49 -0800 (PST) DKIM-Signature: v=1; a=rsa-sha256; c=relaxed/relaxed; d=iol.unh.edu; s=unh-iol; t=1762317949; x=1762922749; darn=dpdk.org; h=references:in-reply-to:cc:to:from:subject:message-id:date:from:to :cc:subject:date:message-id:reply-to; bh=MsGEsu4D5Sg3KzdTd7+kr2H01FZbaSF17dQS7aJjPgY=; b=QO0gnyhwsfjwXmEM4MlUbO0n6xKdCUsSG7yNebPdBLm0WrrHi8w2HBoJml1F8fN8us /D0J6viOc+2S9hKDDq1CgVETEJXwV/8+vQ1dbSfrQkhQBaDqsnw+SQsk6kGrEOTlosny uC1G/aS6YBLyohF2gE9Jkoeix2kvESnXxjGxw= X-Google-DKIM-Signature: v=1; a=rsa-sha256; c=relaxed/relaxed; d=1e100.net; s=20230601; t=1762317949; x=1762922749; h=references:in-reply-to:cc:to:from:subject:message-id:date :x-gm-message-state:from:to:cc:subject:date:message-id:reply-to; bh=MsGEsu4D5Sg3KzdTd7+kr2H01FZbaSF17dQS7aJjPgY=; b=DuUKEleST6bRROr9AGkVXGjs2WPnubcyRwIhp6dLByfiN4M7vyPSGKh5EjZ+3wq2WB CObRBU5zT3ibjubt4n3b7fMON7DV4DU73YrkNZocbxwHmtpzb4NPkXow/YwCDCjxHAFm uzqgG0YOqre9YY2LtwAi3NnX5ICKnTxBkamrCrl4DWk7p8wI5zUebayGtuGxuHU3acMA yb2WmqVNd/waK4RB2+NTtFAf6wYBcBFNGOaO0qBxeh3juIy3vY1HLG94SWDo6m2kakAM BoxUPGgLeSGLZW6mE6tyVOGHF44SxUClIcSevqlHXc00ICRS5YdoCXafw/AtMKdlUcrX Jgww== X-Gm-Message-State: AOJu0Yyiz8yV8kgxgatFRt+YW4IulVA3WaUu0C1Wy5ie9UxYUbEfT7wI yAxfBpNfCLxFMJu2LiVe2IbM9SBbMtMCmk7rDC3R1ka2zuzC+mcyc02y7Hn+KZJHB6LbGg6BK2k Pn0NWPdGrePuUApr9KMNuiQeBPDFzlGUXvuGbYGbPuMyrQfoQ6qTMNXncUVrJ X-Gm-Gg: ASbGncvCQrpgdTA0aAgYQvJX4yPunA4Z8c2Fs5uMbr9aV8I7zGSRCVKL3jw0iCkIWA2 JVem3j1kazYMGrALz5qSa8kf5K5AkQCx3n/skPtLZ3Q4KdgJjWSNpK4vlKPdDn3fzQ9iLdRPaad MjLat7LsEdoyo0R0BZbsQJyqwhwL3Iy+YCeejSIpKCTBrq1ex8BMR9QxmWi0vFZIqeUQ406UR+I UVyjl59pRPGRfKg/vVR8TIcGMVlO1ZxeMXdOE3uB2y1yKXm/4FLEMJsZF4eWy3IFLplFRYd3J/9 aqJgYywhLGZoavmT13nkMtlpnTLJaqkSNjqK9jLMR6wZH44l0xR3MdoNGonBPTsOeHsY1uVcoeh GcOqNjSnF X-Google-Smtp-Source: AGHT+IGaS1ZL3nDSdrd0vAnpLWnirM3ihyeXNbqPnlSeONREQWXt38WcG/aj0HctepsxvbsXJyy2q6iXr3gy X-Received: by 2002:a05:6e02:1c09:b0:433:3115:fdab with SMTP id e9e14a558f8ab-433407c33a0mr26328955ab.19.1762317948641; Tue, 04 Nov 2025 20:45:48 -0800 (PST) Received: from postal.iol.unh.edu (postal.iol.unh.edu. [2606:4100:3880:1234::84]) by smtp-relay.gmail.com with ESMTPS id 8926c6da1cb9f-5b72258bb5bsm559480173.1.2025.11.04.20.45.48 (version=TLS1_2 cipher=ECDHE-ECDSA-AES128-GCM-SHA256 bits=128/128); Tue, 04 Nov 2025 20:45:48 -0800 (PST) X-Relaying-Domain: iol.unh.edu Date: Tue, 04 Nov 2025 20:45:48 -0800 (PST) Message-ID: <690ad67c.050a0220.ce057.e5fdSMTPIN_ADDED_MISSING@mx.google.com> Received: from [172.21.0.2] (unknown [172.18.0.240]) by postal.iol.unh.edu (Postfix) with ESMTP id 23A4560003E8; Tue, 4 Nov 2025 23:45:48 -0500 (EST) Subject: |SUCCESS| pw158442-158443 [PATCH] [2/2] app/testpmd: fix the IPv6 ex From: dpdklab@iol.unh.edu To: Test Report Cc: dpdk-test-reports@iol.unh.edu, Stephen Hemminger In-Reply-To: <20251105024724.830304-3-mingjinx.ye@intel.com> References: <20251105024724.830304-3-mingjinx.ye@intel.com> Content-Type: text/plain X-BeenThere: test-report@dpdk.org X-Mailman-Version: 2.1.29 Precedence: list List-Id: automatic DPDK test reports List-Unsubscribe: , List-Archive: List-Post: List-Help: List-Subscribe: , Errors-To: test-report-bounces@dpdk.org Test-Label: iol-unit-amd64-testing Test-Status: SUCCESS http://dpdk.org/patch/158443 _Testing PASS_ Submitter: Mingjin Ye Date: Wednesday, November 05 2025 02:47:24 DPDK git baseline: Repo:dpdk-next-net Branch: master CommitID:538052bb364db22ba8cc08b5e23a9e6d25a864a9 158442-158443 --> testing pass Upstream job id: Generic-VM-Unit-Test-DPDK#32292 Test environment and result as below: +-------------------------------+----------------+ | Environment | dpdk_unit_test | +===============================+================+ | CentOS Stream 9 | PASS | +-------------------------------+----------------+ | Fedora Linux 40 | PASS | +-------------------------------+----------------+ | Ubuntu 22.04 | PASS | +-------------------------------+----------------+ | Ubuntu 24.04 | PASS | +-------------------------------+----------------+ | Red Hat Enterprise Linux 8.10 | PASS | +-------------------------------+----------------+ | Fedora Linux 42 | PASS | +-------------------------------+----------------+ | Debian GNU/Linux 12 | PASS | +-------------------------------+----------------+ | Fedora Linux 41 | PASS | +-------------------------------+----------------+ | CentOS Stream 10 | PASS | +-------------------------------+----------------+ | Ubuntu 20.04 | PASS | +-------------------------------+----------------+ | Red Hat Enterprise Linux 9.5 | PASS | +-------------------------------+----------------+ | Windows Server 2022 | PASS | +-------------------------------+----------------+ CentOS Stream 9 Kernel: 5.15 Compiler: gcc gcc (GCC) 11.5.0 20240719 (Red Hat 11.5.0-11) Fedora Linux 40 Kernel: 5.15 Compiler: gcc gcc (GCC) 14.2.1 20240912 (Red Hat 14.2.1-3) Ubuntu 22.04 Kernel: 5.15 Compiler: gcc gcc (Ubuntu 11.4.0-1ubuntu1~22.04) 11.4.0 Ubuntu 24.04 Kernel: 5.15 Compiler: gcc gcc (Ubuntu 13.3.0-6ubuntu2~24.04) 13.3.0 Red Hat Enterprise Linux 8.10 Kernel: 5.15 Compiler: gcc gcc (GCC) 8.5.0 20210514 (Red Hat 8.5.0-22) Fedora Linux 42 Kernel: 5.15 Compiler: clang gcc (GCC) 15.2.1 20250808 (Red Hat 15.2.1-1) Debian GNU/Linux 12 Kernel: 5.15 Compiler: gcc gcc (Debian 12.2.0-14+deb12u1) 12.2.0 Fedora Linux 41 Kernel: 5.15 Compiler: gcc gcc (GCC) 14.3.1 20250523 (Red Hat 14.3.1-1) CentOS Stream 10 Kernel: 5.15 Compiler: gcc gcc (GCC) 14.2.1 20250110 (Red Hat 14.2.1-8) Ubuntu 20.04 Kernel: 5.15 Compiler: gcc gcc (Ubuntu 9.4.0-1ubuntu1~20.04.2) 9.4.0 Red Hat Enterprise Linux 9.5 Kernel: 5.15 Compiler: gcc gcc (GCC) 11.5.0 20240719 (Red Hat 11.5.0-2) Windows Server 2022 Kernel: 10.0.20348.2031 Compiler: clang 15.0.7, gcc 14.1.0 (MinGW), and MSVC VS 19.39.33521 To view detailed results, visit: https://lab.dpdk.org/results/dashboard/patchsets/34464/ UNH-IOL DPDK Community Lab To manage your email subscriptions, visit: https://lab.dpdk.org/results/dashboard/preferences/subscriptions/