From mboxrd@z Thu Jan 1 00:00:00 1970 Return-Path: Received: from mails.dpdk.org (mails.dpdk.org [217.70.189.124]) by inbox.dpdk.org (Postfix) with ESMTP id 8B23648A67 for ; Wed, 5 Nov 2025 06:03:22 +0100 (CET) Received: from mails.dpdk.org (localhost [127.0.0.1]) by mails.dpdk.org (Postfix) with ESMTP id 55EBB40269; Wed, 5 Nov 2025 06:03:22 +0100 (CET) Received: from mail-yw1-f226.google.com (mail-yw1-f226.google.com [209.85.128.226]) by mails.dpdk.org (Postfix) with ESMTP id F099C40269 for ; Wed, 5 Nov 2025 06:03:20 +0100 (CET) Received: by mail-yw1-f226.google.com with SMTP id 00721157ae682-7866bca6765so29415967b3.1 for ; Tue, 04 Nov 2025 21:03:20 -0800 (PST) DKIM-Signature: v=1; a=rsa-sha256; c=relaxed/relaxed; d=iol.unh.edu; s=unh-iol; t=1762319000; x=1762923800; darn=dpdk.org; h=references:in-reply-to:cc:to:from:subject:message-id:date:from:to :cc:subject:date:message-id:reply-to; bh=U/G3t6Gb9iPJWVZ2E/wGFdLzZd78LqGAQ8WRL/fPRNw=; b=NXurdaLoRFQ6K4H+MRR/ZRt5qvngcCwKxR0sDUG6N/GfCngxvu75r7fIKDiUEm51vg PNiE1DJGUD21KAeXORes2uRav38TdmVyTjhNIH7PAIrMyhR7s+8CL30TIYXJ60m6mnVH /gDTHWLgHSSW3qJd35+gVQA4AgWeCzU/z5eFI= X-Google-DKIM-Signature: v=1; a=rsa-sha256; c=relaxed/relaxed; d=1e100.net; s=20230601; t=1762319000; x=1762923800; h=references:in-reply-to:cc:to:from:subject:message-id:date :x-gm-message-state:from:to:cc:subject:date:message-id:reply-to; bh=U/G3t6Gb9iPJWVZ2E/wGFdLzZd78LqGAQ8WRL/fPRNw=; b=RV0IzTxLf+EHcOtMFM5ZXx/9K+LlH1EvX4U2E/CdwSmbIMW+KGJtfXFdhXGRC0Nw28 3xtsLI+xuDlHjwZTUpt+0P0a49HDQ1tasfBmQeGCNK26K+kaUZ0t76UJPRkeCobSUQ66 gWp7eSRN3X5Wjbnt/z7l3mJEDMmJgv52e5/Baj4CQzHOX7vBN9TM+g6sBxGs/hJiETC6 8959S0JIsXScdgIcCiGkqp1ATQWUF9hx7BfUCp6MZNrRYfIrPZsx+DB8B9GG7b0u3VKF FG421YuUbcDabeZsYkmNWI0y36jpAERV44Pnq8KiOKmGNwEhyJGqy185jSoEMsoQtD91 gORQ== X-Gm-Message-State: AOJu0YxhWZMYaOJupRw6h0YoXod2NjtdX2OJB9py/DEgMmhtZS+lX/m7 /exmhR6u24ZQR/9Gm23PMKEe5aSRf2crljht4EsNMVGoEJmb6YyhI1VlxXV017Ksn2zm/zUfzDQ u8FK+JWXW+l+C7ul/AewZTgKM0R4thFXwd6USzNy8uniXnu8eSQiRqfhuAo9w X-Gm-Gg: ASbGnctJiE8wILTpHYgoLyTdapSJByIGMwOooyfh2f3HkcDv5I54pzF2b0O0Di0SlPT r5JUGxpP5Ihb0pEVux2DHNIO3lZUkP0nMKr9u7eLf18eO/p3WhgenluzFVYKIbtKZLmJ6yW/XmD dub+wNw6+M568yRMDk3wdh0rDcj7cOSfKObltF9/boYrOpdzM7kpQgQXgvV4mbPZXpLoNT8Awki Io14HIbL/aWKHYWkYu1x8xw+my2v+zeRe8Uvr2rxXZlvx7DCVd5C4cqugsmaebcwqkpriR23MZy Dl+IUBSqvGLvwZbC5MGpG84tmag3aJcgh5XMOyZGyy3iEns0QA+bgiq8x1LRbQmS591GPFIEtDJ UFiNp+oqT X-Google-Smtp-Source: AGHT+IGprRz7C44TFdZs4i4L0ePBr+cv3uf/Im7mSlQ9sHk4mIomBYSvn6JMenYkYPVLoQUZGRig8WsExvGW X-Received: by 2002:a05:690c:4901:b0:786:5712:46bb with SMTP id 00721157ae682-786a416b82cmr21474037b3.34.1762319000238; Tue, 04 Nov 2025 21:03:20 -0800 (PST) Received: from postal.iol.unh.edu (postal.iol.unh.edu. [2606:4100:3880:1234::84]) by smtp-relay.gmail.com with ESMTPS id 00721157ae682-78691dcf827sm2610737b3.20.2025.11.04.21.03.20 (version=TLS1_2 cipher=ECDHE-ECDSA-AES128-GCM-SHA256 bits=128/128); Tue, 04 Nov 2025 21:03:20 -0800 (PST) X-Relaying-Domain: iol.unh.edu Date: Tue, 04 Nov 2025 21:03:20 -0800 (PST) Message-ID: <690ada98.050a0220.2197eb.e0b5SMTPIN_ADDED_MISSING@mx.google.com> Received: from [172.21.0.3] (unknown [172.18.0.240]) by postal.iol.unh.edu (Postfix) with ESMTP id B61D86050A61; Wed, 5 Nov 2025 00:03:19 -0500 (EST) Subject: |SUCCESS| pw158442-158443 [PATCH] [2/2] app/testpmd: fix the IPv6 ex From: dpdklab@iol.unh.edu To: Test Report Cc: dpdk-test-reports@iol.unh.edu, Stephen Hemminger In-Reply-To: <20251105024724.830304-3-mingjinx.ye@intel.com> References: <20251105024724.830304-3-mingjinx.ye@intel.com> Content-Type: text/plain X-BeenThere: test-report@dpdk.org X-Mailman-Version: 2.1.29 Precedence: list List-Id: automatic DPDK test reports List-Unsubscribe: , List-Archive: List-Post: List-Help: List-Subscribe: , Errors-To: test-report-bounces@dpdk.org Test-Label: iol-unit-arm64-testing Test-Status: SUCCESS http://dpdk.org/patch/158443 _Testing PASS_ Submitter: Mingjin Ye Date: Wednesday, November 05 2025 02:47:24 DPDK git baseline: Repo:dpdk-next-net Branch: master CommitID:538052bb364db22ba8cc08b5e23a9e6d25a864a9 158442-158443 --> testing pass Upstream job id: Generic-Unit-Test-DPDK#388594 Test environment and result as below: +------------------------------+----------------+------------------------------+--------------+---------------------------+ | Environment | dpdk_unit_test | cryptodev_sw_snow3g_autotest | lpm_autotest | cryptodev_sw_zuc_autotest | +==============================+================+==============================+==============+===========================+ | Fedora Linux 40 | PASS | SKIPPED | SKIPPED | SKIPPED | +------------------------------+----------------+------------------------------+--------------+---------------------------+ | CentOS Stream 10 | PASS | SKIPPED | SKIPPED | SKIPPED | +------------------------------+----------------+------------------------------+--------------+---------------------------+ | Fedora Linux 42 | PASS | SKIPPED | SKIPPED | SKIPPED | +------------------------------+----------------+------------------------------+--------------+---------------------------+ | CentOS Stream 9 | PASS | SKIPPED | SKIPPED | SKIPPED | +------------------------------+----------------+------------------------------+--------------+---------------------------+ | Fedora Linux 41 | PASS | SKIPPED | SKIPPED | SKIPPED | +------------------------------+----------------+------------------------------+--------------+---------------------------+ | Red Hat Enterprise Linux 9.5 | PASS | SKIPPED | SKIPPED | SKIPPED | +------------------------------+----------------+------------------------------+--------------+---------------------------+ | Ubuntu 22.04 | PASS | SKIPPED | SKIPPED | SKIPPED | +------------------------------+----------------+------------------------------+--------------+---------------------------+ | Debian GNU/Linux 12 | PASS | SKIPPED | SKIPPED | SKIPPED | +------------------------------+----------------+------------------------------+--------------+---------------------------+ | Ubuntu 24.04 | PASS | SKIPPED | SKIPPED | SKIPPED | +------------------------------+----------------+------------------------------+--------------+---------------------------+ | Ubuntu 20.04 | PASS | SKIPPED | PASS | SKIPPED | +------------------------------+----------------+------------------------------+--------------+---------------------------+ | Debian 12 (arm) | SKIPPED | PASS | SKIPPED | PASS | +------------------------------+----------------+------------------------------+--------------+---------------------------+ Fedora Linux 40 Kernel: 5.4 Compiler: gcc gcc (GCC) 14.2.1 20240912 (Red Hat 14.2.1-3) CentOS Stream 10 Kernel: 5.4 Compiler: gcc gcc (GCC) 14.2.1 20250110 (Red Hat 14.2.1-8) Fedora Linux 42 Kernel: 5.4 Compiler: gcc gcc (GCC) 15.2.1 20250808 (Red Hat 15.2.1-1) CentOS Stream 9 Kernel: 5.4 Compiler: gcc gcc (GCC) 11.5.0 20240719 (Red Hat 11.5.0-11) Fedora Linux 41 Kernel: 5.4 Compiler: clang gcc (GCC) 14.3.1 20250523 (Red Hat 14.3.1-1) Red Hat Enterprise Linux 9.5 Kernel: 5.4 Compiler: gcc gcc (GCC) 11.5.0 20240719 (Red Hat 11.5.0-2) Ubuntu 22.04 Kernel: 5.4 Compiler: gcc gcc (Ubuntu 11.4.0-1ubuntu1~22.04) 11.4.0 Debian GNU/Linux 12 Kernel: 5.4 Compiler: gcc gcc (Debian 12.2.0-14+deb12u1) 12.2.0 Ubuntu 24.04 Kernel: 5.4 Compiler: gcc gcc (Ubuntu 13.3.0-6ubuntu2~24.04) 13.3.0 Ubuntu 20.04 Kernel: 5.4 Compiler: gcc gcc (Ubuntu 9.4.0-1ubuntu1~20.04.2) 9.4.0 Debian 12 (arm) Kernel: Depends on container host Compiler: gcc (Debian 12.2.0-14) 12.2.0 To view detailed results, visit: https://lab.dpdk.org/results/dashboard/patchsets/34464/ UNH-IOL DPDK Community Lab To manage your email subscriptions, visit: https://lab.dpdk.org/results/dashboard/preferences/subscriptions/