automatic DPDK test reports
 help / color / mirror / Atom feed
* |PENDING| [GIT MASTER] 9784db2c5af1eecd02fc21132b59b5b266039b87
@ 2025-11-05  5:16 dpdklab
  0 siblings, 0 replies; 7+ messages in thread
From: dpdklab @ 2025-11-05  5:16 UTC (permalink / raw)
  To: Test Report; +Cc: dpdk-test-reports

_Testing pending_

Branch: tags/v22.11

9784db2c5af1eecd02fc21132b59b5b266039b87 --> testing pending

Upstream job id: Template-DTS-Pipeline#252918

Test environment and result as below:

+--------------+----------------------+----------------------+
| Environment  | dpdk_fips_validation | compressdev_zlib_pmd |
+==============+======================+======================+
| Ubuntu 20.04 | PEND                 | SKIPPED              |
+--------------+----------------------+----------------------+
| Ubuntu 22.04 | SKIPPED              | PASS                 |
+--------------+----------------------+----------------------+


Ubuntu 20.04
	Kernel: 5.15
	Compiler: gcc gcc (Ubuntu 9.4.0-1ubuntu1~20.04.2) 9.4.0

Ubuntu 22.04
	Kernel: 5.15
	Compiler: gcc gcc (Ubuntu 11.4.0-1ubuntu1~22.04.2) 11.4.0

To view detailed results, visit:
https://lab.dpdk.org/results/dashboard/tarballs/35456/

UNH-IOL DPDK Community Lab

To manage your email subscriptions, visit: 
https://lab.dpdk.org/results/dashboard/preferences/subscriptions/

^ permalink raw reply	[flat|nested] 7+ messages in thread

* |PENDING| [GIT MASTER] 9784db2c5af1eecd02fc21132b59b5b266039b87
@ 2025-11-05  5:44 dpdklab
  0 siblings, 0 replies; 7+ messages in thread
From: dpdklab @ 2025-11-05  5:44 UTC (permalink / raw)
  To: Test Report; +Cc: dpdk-test-reports

_Testing pending_

Branch: tags/v22.11

9784db2c5af1eecd02fc21132b59b5b266039b87 --> testing pending

Upstream job id: Generic-DPDK-Compile-Meson#440854

Test environment and result as below:

+------------------------------+--------------------+
|         Environment          | dpdk_meson_compile |
+==============================+====================+
| CentOS Stream 10             | PEND               |
+------------------------------+--------------------+
| Red Hat Enterprise Linux 9.5 | PEND               |
+------------------------------+--------------------+
| Ubuntu 20.04                 | PEND               |
+------------------------------+--------------------+
| Debian GNU/Linux 12          | PEND               |
+------------------------------+--------------------+
| Fedora Linux 42              | PEND               |
+------------------------------+--------------------+
| Ubuntu 22.04                 | PEND               |
+------------------------------+--------------------+
| CentOS Stream 9              | PEND               |
+------------------------------+--------------------+
| Ubuntu 24.04                 | PEND               |
+------------------------------+--------------------+


CentOS Stream 10
	Kernel: 5.4
	Compiler: gcc gcc (GCC) 14.2.1 20250110 (Red Hat 14.2.1-8)

Red Hat Enterprise Linux 9.5
	Kernel: 5.4
	Compiler: gcc gcc (GCC) 11.5.0 20240719 (Red Hat 11.5.0-2)

Ubuntu 20.04
	Kernel: 5.4
	Compiler: gcc gcc (Ubuntu 9.4.0-1ubuntu1~20.04.2) 9.4.0

Debian GNU/Linux 12
	Kernel: 5.4
	Compiler: gcc gcc (Debian 12.2.0-14+deb12u1) 12.2.0

Fedora Linux 42
	Kernel: 5.4
	Compiler: clang gcc (GCC) 15.2.1 20250808 (Red Hat 15.2.1-1)

Ubuntu 22.04
	Kernel: 5.4
	Compiler: gcc gcc (Ubuntu 11.4.0-1ubuntu1~22.04) 11.4.0

CentOS Stream 9
	Kernel: 5.4
	Compiler: gcc gcc (GCC) 11.5.0 20240719 (Red Hat 11.5.0-11)

Ubuntu 24.04
	Kernel: 5.4
	Compiler: gcc gcc (Ubuntu 13.3.0-6ubuntu2~24.04) 13.3.0

To view detailed results, visit:
https://lab.dpdk.org/results/dashboard/tarballs/35456/

UNH-IOL DPDK Community Lab

To manage your email subscriptions, visit: 
https://lab.dpdk.org/results/dashboard/preferences/subscriptions/

^ permalink raw reply	[flat|nested] 7+ messages in thread

* |PENDING| [GIT MASTER] 9784db2c5af1eecd02fc21132b59b5b266039b87
@ 2025-11-05  5:11 dpdklab
  0 siblings, 0 replies; 7+ messages in thread
From: dpdklab @ 2025-11-05  5:11 UTC (permalink / raw)
  To: Test Report; +Cc: dpdk-test-reports

_Testing pending_

Branch: tags/v22.11

9784db2c5af1eecd02fc21132b59b5b266039b87 --> testing pending

Upstream job id: Generic-Unit-Test-DPDK#388628

Test environment and result as below:

+-----------------+--------------+---------------------------+------------------------------+----------------+
|   Environment   | lpm_autotest | cryptodev_sw_zuc_autotest | cryptodev_sw_snow3g_autotest | dpdk_unit_test |
+=================+==============+===========================+==============================+================+
| Ubuntu 20.04    | PEND         | SKIPPED                   | SKIPPED                      | SKIPPED        |
+-----------------+--------------+---------------------------+------------------------------+----------------+
| Debian 12 (arm) | SKIPPED      | PASS                      | PEND                         | SKIPPED        |
+-----------------+--------------+---------------------------+------------------------------+----------------+
| Ubuntu 22.04    | SKIPPED      | SKIPPED                   | SKIPPED                      | PEND           |
+-----------------+--------------+---------------------------+------------------------------+----------------+


Ubuntu 20.04
	Kernel: 5.4
	Compiler: gcc gcc (Ubuntu 9.4.0-1ubuntu1~20.04.2) 9.4.0

Debian 12 (arm)
	Kernel: Depends on container host
	Compiler: gcc (Debian 12.2.0-14) 12.2.0

Ubuntu 22.04
	Kernel: 5.15
	Compiler: gcc gcc (Ubuntu 11.4.0-1ubuntu1~22.04.2) 11.4.0

To view detailed results, visit:
https://lab.dpdk.org/results/dashboard/tarballs/35456/

UNH-IOL DPDK Community Lab

To manage your email subscriptions, visit: 
https://lab.dpdk.org/results/dashboard/preferences/subscriptions/

^ permalink raw reply	[flat|nested] 7+ messages in thread

* |PENDING| [GIT MASTER] 9784db2c5af1eecd02fc21132b59b5b266039b87
@ 2025-11-05  5:08 dpdklab
  0 siblings, 0 replies; 7+ messages in thread
From: dpdklab @ 2025-11-05  5:08 UTC (permalink / raw)
  To: Test Report; +Cc: dpdk-test-reports

_Testing pending_

Branch: tags/v22.11

9784db2c5af1eecd02fc21132b59b5b266039b87 --> testing pending

Upstream job id: Generic-VM-DPDK-Compile-Meson#39484

Test environment and result as below:

+-------------------------------+-------------------------+--------------------+
|          Environment          | dpdk_llvm_clang_compile | dpdk_meson_compile |
+===============================+=========================+====================+
| Windows Server 2022           | PEND                    | SKIPPED            |
+-------------------------------+-------------------------+--------------------+
| Ubuntu 20.04                  | SKIPPED                 | PEND               |
+-------------------------------+-------------------------+--------------------+
| FreeBSD 14.2                  | SKIPPED                 | PEND               |
+-------------------------------+-------------------------+--------------------+
| Fedora Linux 42               | SKIPPED                 | PEND               |
+-------------------------------+-------------------------+--------------------+
| CentOS Stream 9               | SKIPPED                 | PEND               |
+-------------------------------+-------------------------+--------------------+
| Debian GNU/Linux 12           | SKIPPED                 | PEND               |
+-------------------------------+-------------------------+--------------------+
| CentOS Stream 10              | SKIPPED                 | PEND               |
+-------------------------------+-------------------------+--------------------+
| Red Hat Enterprise Linux 8.10 | SKIPPED                 | PEND               |
+-------------------------------+-------------------------+--------------------+
| openSUSE Leap 15.6            | SKIPPED                 | PEND               |
+-------------------------------+-------------------------+--------------------+
| Ubuntu 22.04                  | SKIPPED                 | PEND               |
+-------------------------------+-------------------------+--------------------+
| Ubuntu 24.04                  | SKIPPED                 | PEND               |
+-------------------------------+-------------------------+--------------------+
| Red Hat Enterprise Linux 9.5  | SKIPPED                 | PEND               |
+-------------------------------+-------------------------+--------------------+


Windows Server 2022
	Kernel: 10.0.20348.2031
	Compiler: clang 15.0.7, gcc 14.1.0 (MinGW), and MSVC VS 19.39.33521

Ubuntu 20.04
	Kernel: 4.19
	Compiler: gcc gcc (Ubuntu 9.4.0-1ubuntu1~20.04.2) 9.4.0

FreeBSD 14.2
	Kernel: 14.2-RELEASE
	Compiler: clang 18.1.6

Fedora Linux 42
	Kernel: 5.15
	Compiler: clang gcc (GCC) 15.2.1 20250808 (Red Hat 15.2.1-1)

CentOS Stream 9
	Kernel: 5.15
	Compiler: gcc gcc (GCC) 11.5.0 20240719 (Red Hat 11.5.0-11)

Debian GNU/Linux 12
	Kernel: 5.15
	Compiler: gcc gcc (Debian 12.2.0-14+deb12u1) 12.2.0

CentOS Stream 10
	Kernel: 5.15
	Compiler: gcc gcc (GCC) 14.2.1 20250110 (Red Hat 14.2.1-8)

Red Hat Enterprise Linux 8.10
	Kernel: 5.15
	Compiler: gcc gcc (GCC) 8.5.0 20210514 (Red Hat 8.5.0-22)

openSUSE Leap 15.6
	Kernel: 5.15
	Compiler: gcc gcc (SUSE Linux) 7.5.0

Ubuntu 22.04
	Kernel: 5.15
	Compiler: gcc gcc (Ubuntu 11.4.0-1ubuntu1~22.04) 11.4.0

Ubuntu 24.04
	Kernel: 5.15
	Compiler: gcc gcc (Ubuntu 13.3.0-6ubuntu2~24.04) 13.3.0

Red Hat Enterprise Linux 9.5
	Kernel: 5.15
	Compiler: gcc gcc (GCC) 11.5.0 20240719 (Red Hat 11.5.0-2)

To view detailed results, visit:
https://lab.dpdk.org/results/dashboard/tarballs/35456/

UNH-IOL DPDK Community Lab

To manage your email subscriptions, visit: 
https://lab.dpdk.org/results/dashboard/preferences/subscriptions/

^ permalink raw reply	[flat|nested] 7+ messages in thread

* |PENDING| [GIT MASTER] 9784db2c5af1eecd02fc21132b59b5b266039b87
@ 2025-11-04  6:36 dpdklab
  0 siblings, 0 replies; 7+ messages in thread
From: dpdklab @ 2025-11-04  6:36 UTC (permalink / raw)
  To: Test Report; +Cc: dpdk-test-reports

_Testing pending_

Branch: tags/v22.11

9784db2c5af1eecd02fc21132b59b5b266039b87 --> testing pending

Upstream job id: Aarch32-Unit-Test#8075

Test environment and result as below:

+-----------------+--------------+------------------------------+---------------------------+----------------+
|   Environment   | lpm_autotest | cryptodev_sw_snow3g_autotest | cryptodev_sw_zuc_autotest | dpdk_unit_test |
+=================+==============+==============================+===========================+================+
| Ubuntu 20.04    | PEND         | SKIPPED                      | SKIPPED                   | SKIPPED        |
+-----------------+--------------+------------------------------+---------------------------+----------------+
| Debian 12 (arm) | SKIPPED      | PEND                         | PEND                      | SKIPPED        |
+-----------------+--------------+------------------------------+---------------------------+----------------+
| Ubuntu 22.04    | SKIPPED      | SKIPPED                      | SKIPPED                   | PASS           |
+-----------------+--------------+------------------------------+---------------------------+----------------+


Ubuntu 20.04
	Kernel: 5.4
	Compiler: gcc gcc (Ubuntu 9.4.0-1ubuntu1~20.04.2) 9.4.0

Debian 12 (arm)
	Kernel: Depends on container host
	Compiler: gcc (Debian 12.2.0-14) 12.2.0

Ubuntu 22.04
	Kernel: 5.15
	Compiler: gcc gcc (Ubuntu 11.4.0-1ubuntu1~22.04.2) 11.4.0

To view detailed results, visit:
https://lab.dpdk.org/results/dashboard/tarballs/35442/

UNH-IOL DPDK Community Lab

To manage your email subscriptions, visit: 
https://lab.dpdk.org/results/dashboard/preferences/subscriptions/

^ permalink raw reply	[flat|nested] 7+ messages in thread

* |PENDING| [GIT MASTER] 9784db2c5af1eecd02fc21132b59b5b266039b87
@ 2025-11-04  6:04 dpdklab
  0 siblings, 0 replies; 7+ messages in thread
From: dpdklab @ 2025-11-04  6:04 UTC (permalink / raw)
  To: Test Report; +Cc: dpdk-test-reports

_Testing pending_

Branch: tags/v22.11

9784db2c5af1eecd02fc21132b59b5b266039b87 --> testing pending

Upstream job id: Generic-DPDK-Compile-Meson#440420

Test environment and result as below:

+------------------------------+--------------------+
|         Environment          | dpdk_meson_compile |
+==============================+====================+
| Ubuntu 20.04                 | PEND               |
+------------------------------+--------------------+
| Red Hat Enterprise Linux 9.5 | PEND               |
+------------------------------+--------------------+
| Fedora Linux 42              | PEND               |
+------------------------------+--------------------+
| Ubuntu 22.04                 | PEND               |
+------------------------------+--------------------+
| Debian GNU/Linux 12          | PEND               |
+------------------------------+--------------------+
| Ubuntu 24.04                 | PEND               |
+------------------------------+--------------------+
| CentOS Stream 9              | PEND               |
+------------------------------+--------------------+
| CentOS Stream 10             | PEND               |
+------------------------------+--------------------+


Ubuntu 20.04
	Kernel: 5.15
	Compiler: aarch64-linux-gnu-gcc gcc (Ubuntu 9.4.0-1ubuntu1~20.04.2) 9.4.0

Red Hat Enterprise Linux 9.5
	Kernel: 5.4
	Compiler: gcc gcc (GCC) 11.5.0 20240719 (Red Hat 11.5.0-2)

Fedora Linux 42
	Kernel: 5.4
	Compiler: gcc gcc (GCC) 15.2.1 20250808 (Red Hat 15.2.1-1)

Ubuntu 22.04
	Kernel: 5.4
	Compiler: gcc gcc (Ubuntu 11.4.0-1ubuntu1~22.04) 11.4.0

Debian GNU/Linux 12
	Kernel: 5.4
	Compiler: gcc gcc (Debian 12.2.0-14+deb12u1) 12.2.0

Ubuntu 24.04
	Kernel: 5.4
	Compiler: gcc gcc (Ubuntu 13.3.0-6ubuntu2~24.04) 13.3.0

CentOS Stream 9
	Kernel: 5.4
	Compiler: gcc gcc (GCC) 11.5.0 20240719 (Red Hat 11.5.0-11)

CentOS Stream 10
	Kernel: 5.4
	Compiler: gcc gcc (GCC) 14.2.1 20250110 (Red Hat 14.2.1-8)

To view detailed results, visit:
https://lab.dpdk.org/results/dashboard/tarballs/35442/

UNH-IOL DPDK Community Lab

To manage your email subscriptions, visit: 
https://lab.dpdk.org/results/dashboard/preferences/subscriptions/

^ permalink raw reply	[flat|nested] 7+ messages in thread

* |PENDING| [GIT MASTER] 9784db2c5af1eecd02fc21132b59b5b266039b87
@ 2025-11-04  5:11 dpdklab
  0 siblings, 0 replies; 7+ messages in thread
From: dpdklab @ 2025-11-04  5:11 UTC (permalink / raw)
  To: Test Report; +Cc: dpdk-test-reports

_Testing pending_

Branch: tags/v22.11

9784db2c5af1eecd02fc21132b59b5b266039b87 --> testing pending

Upstream job id: Generic-VM-DPDK-Compile-Meson#39456

Test environment and result as below:

+-------------------------------+--------------------+
|          Environment          | dpdk_meson_compile |
+===============================+====================+
| CentOS Stream 9               | PEND               |
+-------------------------------+--------------------+
| CentOS Stream 10              | PEND               |
+-------------------------------+--------------------+
| Debian GNU/Linux 12           | PEND               |
+-------------------------------+--------------------+
| Fedora Linux 42               | PEND               |
+-------------------------------+--------------------+
| openSUSE Leap 15.6            | PEND               |
+-------------------------------+--------------------+
| Red Hat Enterprise Linux 8.10 | PEND               |
+-------------------------------+--------------------+
| Red Hat Enterprise Linux 9.5  | PEND               |
+-------------------------------+--------------------+
| Ubuntu 24.04                  | PEND               |
+-------------------------------+--------------------+
| Ubuntu 20.04                  | PASS               |
+-------------------------------+--------------------+
| Ubuntu 22.04                  | PEND               |
+-------------------------------+--------------------+


CentOS Stream 9
	Kernel: 5.15
	Compiler: gcc gcc (GCC) 11.5.0 20240719 (Red Hat 11.5.0-11)

CentOS Stream 10
	Kernel: 5.15
	Compiler: gcc gcc (GCC) 14.2.1 20250110 (Red Hat 14.2.1-8)

Debian GNU/Linux 12
	Kernel: 5.15
	Compiler: gcc gcc (Debian 12.2.0-14+deb12u1) 12.2.0

Fedora Linux 42
	Kernel: 5.15
	Compiler: clang gcc (GCC) 15.2.1 20250808 (Red Hat 15.2.1-1)

openSUSE Leap 15.6
	Kernel: 5.15
	Compiler: gcc gcc (SUSE Linux) 7.5.0

Red Hat Enterprise Linux 8.10
	Kernel: 5.15
	Compiler: gcc gcc (GCC) 8.5.0 20210514 (Red Hat 8.5.0-22)

Red Hat Enterprise Linux 9.5
	Kernel: 5.15
	Compiler: gcc gcc (GCC) 11.5.0 20240719 (Red Hat 11.5.0-2)

Ubuntu 24.04
	Kernel: 5.15
	Compiler: gcc gcc (Ubuntu 13.3.0-6ubuntu2~24.04) 13.3.0

Ubuntu 20.04
	Kernel: 5.15
	Compiler: gcc gcc (Ubuntu 9.4.0-1ubuntu1~20.04.2) 9.4.0

Ubuntu 22.04
	Kernel: 5.15
	Compiler: gcc gcc (Ubuntu 11.4.0-1ubuntu1~22.04) 11.4.0

To view detailed results, visit:
https://lab.dpdk.org/results/dashboard/tarballs/35442/

UNH-IOL DPDK Community Lab

To manage your email subscriptions, visit: 
https://lab.dpdk.org/results/dashboard/preferences/subscriptions/

^ permalink raw reply	[flat|nested] 7+ messages in thread

end of thread, other threads:[~2025-11-05  5:44 UTC | newest]

Thread overview: 7+ messages (download: mbox.gz / follow: Atom feed)
-- links below jump to the message on this page --
2025-11-05  5:16 |PENDING| [GIT MASTER] 9784db2c5af1eecd02fc21132b59b5b266039b87 dpdklab
  -- strict thread matches above, loose matches on Subject: below --
2025-11-05  5:44 dpdklab
2025-11-05  5:11 dpdklab
2025-11-05  5:08 dpdklab
2025-11-04  6:36 dpdklab
2025-11-04  6:04 dpdklab
2025-11-04  5:11 dpdklab

This is a public inbox, see mirroring instructions
for how to clone and mirror all data and code used for this inbox;
as well as URLs for NNTP newsgroup(s).