From mboxrd@z Thu Jan 1 00:00:00 1970 Return-Path: Received: from mails.dpdk.org (mails.dpdk.org [217.70.189.124]) by inbox.dpdk.org (Postfix) with ESMTP id 41AE848A67 for ; Wed, 5 Nov 2025 06:50:49 +0100 (CET) Received: from mails.dpdk.org (localhost [127.0.0.1]) by mails.dpdk.org (Postfix) with ESMTP id 3A67840269; Wed, 5 Nov 2025 06:50:49 +0100 (CET) Received: from mail-il1-f228.google.com (mail-il1-f228.google.com [209.85.166.228]) by mails.dpdk.org (Postfix) with ESMTP id 3D8C540269 for ; Wed, 5 Nov 2025 06:50:47 +0100 (CET) Received: by mail-il1-f228.google.com with SMTP id e9e14a558f8ab-4332b4368ecso23650225ab.1 for ; Tue, 04 Nov 2025 21:50:47 -0800 (PST) DKIM-Signature: v=1; a=rsa-sha256; c=relaxed/relaxed; d=iol.unh.edu; s=unh-iol; t=1762321846; x=1762926646; darn=dpdk.org; h=cc:to:from:subject:message-id:date:from:to:cc:subject:date :message-id:reply-to; bh=yu/lSOxq3eRc1oFEk6Kw9rjykCjoe7cNToxL6ucoLZk=; b=OJ+RlPThgGTGceEhAi+jBlPe8xPIXaTt5V5WPRc/gsTwQDBUhfBRvk00ESgFu00dsF hGIQHHXQPK4fpbMQpbcAXw0Ect8yZerayXB0GlVCSsMSh+PZgm/MROQ/YTOwZ8lx8ItZ euVaCz0VlraRU6Y0h+sQfXyfKflUxxAzeaYh4= X-Google-DKIM-Signature: v=1; a=rsa-sha256; c=relaxed/relaxed; d=1e100.net; s=20230601; t=1762321846; x=1762926646; h=cc:to:from:subject:message-id:date:x-gm-message-state:from:to:cc :subject:date:message-id:reply-to; bh=yu/lSOxq3eRc1oFEk6Kw9rjykCjoe7cNToxL6ucoLZk=; b=EK1JoVhRTwL5WxavBK/lmh/Vf5V0FMQaK5UkN/hkAQ1F/RkmjnBjKF6ST2vpESqspY IX1YrAZJpG+qzJf9Vrb3hsA7f+mE27ZcQYiqtR68bdnfi6lXMurg0nEKvpNg+6CNLr17 +DKMSSMrBfF8FjJ/lKJuTVdRN2XlXzDm0tMf7ZKRfASAByAMMsJnWD4qLUHA/7rryoyo JugvkBQITTov2P/jz+1+cEYPceDQMqQllkCnINqhN0taLzL/TMe13pDCN/IU2jjYh4xi MNkPksL/A8pizsspYCtSBr0M0HrRsCRfQD4ZfED15anNWAVUAv7H6gg+/IkM65Ok4c9a fZkg== X-Gm-Message-State: AOJu0YwTkKFmMuRh82Ve/gZl4VkDjEh1hDxOW3MBqCeXcthpLhhKHfPb oWOJX/ZZBowa4d51jxAj6jMH/1nl+EYqvgcKQnT+5l1y+MqLp6hck+IBfBlYyPIaRrYHgJD8yem 6GexKmJ0Mi0qMua6PtehWH/esNxh00L7nC14ARKDQqbfmln87rmWt X-Gm-Gg: ASbGncvlFFFHgssTfVYkOtmfJ6UJRY+AG5lM2qpZnY/anl1I0T24I6fShAb/awPOMno sXXhKKkYa6OCqgGZP8fwIqg1eAXcbzoup7RMxZyjz5bQACgBFFGWoRvmJmrc65qt7+ree1aWAYx iTJuyXq1pbn0qnJC9iQinJsZ05aqC3AcRZCHqnrL8zDFmsOnRot7C8kQZwG8T/t8ZvFM/vPS9nW ALg/xe/ciI/dpK7p2MHcPqh3qUZju8L2z1HeqQE5bVG+87diuPc9hv2cpFnzKBk4baRDLg+no4E kuTqxlzdZF6mGHPj16IviYhwbWU+WgTPxROMMA+/7uRhovRGM2eJM2JsEsi6hVu0Me+k37swqLA zoySAAckN X-Google-Smtp-Source: AGHT+IGQ6z+FejihjyRXSJ7V7rRURoXDGV/rwK8qfQKbW9LCe+kQ5lkMHDbKIlJKk/vlpxQezROCEEz7D6Xy X-Received: by 2002:a05:6e02:3704:b0:433:3198:7995 with SMTP id e9e14a558f8ab-433407c3693mr31545915ab.17.1762321846551; Tue, 04 Nov 2025 21:50:46 -0800 (PST) Received: from postal.iol.unh.edu (postal.iol.unh.edu. [2606:4100:3880:1234::84]) by smtp-relay.gmail.com with ESMTPS id 8926c6da1cb9f-5b72258ba8fsm570939173.3.2025.11.04.21.50.46 (version=TLS1_2 cipher=ECDHE-ECDSA-AES128-GCM-SHA256 bits=128/128); Tue, 04 Nov 2025 21:50:46 -0800 (PST) X-Relaying-Domain: iol.unh.edu Date: Tue, 04 Nov 2025 21:50:46 -0800 (PST) Message-ID: <690ae5b6.050a0220.45bca.f4a0SMTPIN_ADDED_MISSING@mx.google.com> Received: from [172.21.0.2] (unknown [172.18.0.240]) by postal.iol.unh.edu (Postfix) with ESMTP id 1A1E160003E8; Wed, 5 Nov 2025 00:50:46 -0500 (EST) Subject: |SUCCESS| [GIT MASTER] 9784db2c5af1eecd02fc21132b59b5b266039b87 From: dpdklab@iol.unh.edu To: Test Report Cc: dpdk-test-reports@iol.unh.edu, Xueming Li , Christian Ehrhardt , Kevin Traynor , Luca Boccassi Content-Type: text/plain X-BeenThere: test-report@dpdk.org X-Mailman-Version: 2.1.29 Precedence: list List-Id: automatic DPDK test reports List-Unsubscribe: , List-Archive: List-Post: List-Help: List-Subscribe: , Errors-To: test-report-bounces@dpdk.org _Testing PASS_ Branch: tags/v22.11 9784db2c5af1eecd02fc21132b59b5b266039b87 --> testing pass Upstream job id: Aarch32-Unit-Test#8089 Test environment and result as below: +-----------------+--------------+---------------------------+------------------------------+----------------+ | Environment | lpm_autotest | cryptodev_sw_zuc_autotest | cryptodev_sw_snow3g_autotest | dpdk_unit_test | +=================+==============+===========================+==============================+================+ | Ubuntu 20.04 | PASS | SKIPPED | SKIPPED | SKIPPED | +-----------------+--------------+---------------------------+------------------------------+----------------+ | Debian 12 (arm) | SKIPPED | PASS | PASS | SKIPPED | +-----------------+--------------+---------------------------+------------------------------+----------------+ | Ubuntu 22.04 | SKIPPED | SKIPPED | SKIPPED | PASS | +-----------------+--------------+---------------------------+------------------------------+----------------+ Ubuntu 20.04 Kernel: 5.4 Compiler: gcc gcc (Ubuntu 9.4.0-1ubuntu1~20.04.2) 9.4.0 Debian 12 (arm) Kernel: Depends on container host Compiler: gcc (Debian 12.2.0-14) 12.2.0 Ubuntu 22.04 Kernel: 5.15 Compiler: gcc gcc (Ubuntu 11.4.0-1ubuntu1~22.04.2) 11.4.0 To view detailed results, visit: https://lab.dpdk.org/results/dashboard/tarballs/35456/ UNH-IOL DPDK Community Lab To manage your email subscriptions, visit: https://lab.dpdk.org/results/dashboard/preferences/subscriptions/