From mboxrd@z Thu Jan 1 00:00:00 1970 Return-Path: Received: from mails.dpdk.org (mails.dpdk.org [217.70.189.124]) by inbox.dpdk.org (Postfix) with ESMTP id E25AB48A67 for ; Wed, 5 Nov 2025 07:08:20 +0100 (CET) Received: from mails.dpdk.org (localhost [127.0.0.1]) by mails.dpdk.org (Postfix) with ESMTP id D7ADB40269; Wed, 5 Nov 2025 07:08:20 +0100 (CET) Received: from mail-io1-f99.google.com (mail-io1-f99.google.com [209.85.166.99]) by mails.dpdk.org (Postfix) with ESMTP id 3E4F540269 for ; Wed, 5 Nov 2025 07:08:20 +0100 (CET) Received: by mail-io1-f99.google.com with SMTP id ca18e2360f4ac-9483ece8d4aso155657439f.2 for ; Tue, 04 Nov 2025 22:08:20 -0800 (PST) DKIM-Signature: v=1; a=rsa-sha256; c=relaxed/relaxed; d=iol.unh.edu; s=unh-iol; t=1762322899; x=1762927699; darn=dpdk.org; h=cc:to:from:subject:message-id:date:from:to:cc:subject:date :message-id:reply-to; bh=p/oexas593VP0D9+UYZjYLFFgI8JmR1sTOfiEiA6gXI=; b=BvKQwDghmA3Mq8Cutveg0Ay6N8wbCt6p09HeiH73Wxn0DG5i6K7MAbWNazpq5/tXwS QNY8a7Q+CsTYO3PemQf99++tCloK7u1ume//erS6OQVpeR4TcfZNiiCNb2rz2NYPujRx wgaaQZin4rW0Zfj/Y4+i5ZI7In1TYPHJlsIL8= X-Google-DKIM-Signature: v=1; a=rsa-sha256; c=relaxed/relaxed; d=1e100.net; s=20230601; t=1762322899; x=1762927699; h=cc:to:from:subject:message-id:date:x-gm-message-state:from:to:cc :subject:date:message-id:reply-to; bh=p/oexas593VP0D9+UYZjYLFFgI8JmR1sTOfiEiA6gXI=; b=cQXPXsUuuvNcnQ4u1WqIQjmxprD9TA0vkiG9m2vGXtFkOiDh77JZhaBaHhyTE1MzZG ir5vpN9vZd11/grrxj6Q1xcp/P4uqUiP9SmvHLEfrmrYeiekBoaKyzF72pMBD0DetCj0 EM0+XL47hoI7g0kJ8hhlaJkbHVT9/MWSMHL+jpYlOLnvYE6TJJtzrsEO79/S0rdJ4DMC qjicUVKr2FU9Tm1Z92zjc09nF+iqThZn+LqrSMZX144S90yQF0WEth1pjlQkMSmhsMlX 2Nh4dQVjgKSZZi7x6yh/FVIQ1lqHByDcfwGCW9712uoa0VbI5yLQGYcVtxHz2aHlVG6R APPg== X-Gm-Message-State: AOJu0Yztx3xBHoFd3aN7jTepDjnEkPCID23sZhHzitKkDjej1RmLm+P0 sVzDTEIS3x8yfEaBto89M2LQl1/AIuo7hDhcDUQv0KF+Rayb4S/uXt+twixz6+xHSSt+v/oVEBZ 2ky1aCnGkS3OT0OJPMnODdzbk65zO6vI4P/rq X-Gm-Gg: ASbGncsOKpX/GW63usqN6fTbKH9B8x2IoKrmITgc56cAj481mcClYe3qwnAkPoWGG4f z5EkS2PNresFs/iLlv9CbtTWwOml4cPfbkzaVFWUmIVTOIdFYVuvJy2oJqPvpkFn2Hf/MDcdMn4 qhp55BKlcRxxbWEOOk1A8+X8odblVSZrlzyALUuvYT6FCXIwK6gpcmUi18Qu0xEFIT9kzhT5QKF 5W7SQdAtuNiTLCFqQBy6SktAaT+CoRuXlf+zPQdLAWG7Y5JuAfJSpLWnY+q2nQ0KIgM0y1+xyNN 5Za5PsFkYkPXmHmkmUimIazE0mlcLirM3A5lwcjRLKBZZq4oCYJuQsC5e6le/y4RiahjSwug1ZX kttqs5qxA39nNUlR7v91iqlIJ16UQYi0= X-Google-Smtp-Source: AGHT+IEo6M5VO652XrmAEkHbyUKOPRNgQ0/Bn40aioMJGt/P4IN9u+BL3OqbwiOX4StKUQ6+vIyJTdGo46TJ X-Received: by 2002:a05:6e02:2182:b0:433:2a9b:1668 with SMTP id e9e14a558f8ab-433407e3592mr28403385ab.15.1762322899580; Tue, 04 Nov 2025 22:08:19 -0800 (PST) Received: from postal.iol.unh.edu (postal.iol.unh.edu. [132.177.123.84]) by smtp-relay.gmail.com with ESMTPS id e9e14a558f8ab-43335a9aed7sm4401635ab.11.2025.11.04.22.08.19 (version=TLS1_2 cipher=ECDHE-ECDSA-AES128-GCM-SHA256 bits=128/128); Tue, 04 Nov 2025 22:08:19 -0800 (PST) X-Relaying-Domain: iol.unh.edu Date: Tue, 04 Nov 2025 22:08:19 -0800 (PST) Message-ID: <690ae9d3.050a0220.1c9ce.8005SMTPIN_ADDED_MISSING@mx.google.com> Received: from [172.21.0.3] (unknown [172.18.0.240]) by postal.iol.unh.edu (Postfix) with ESMTP id 32A706051830; Wed, 5 Nov 2025 01:08:19 -0500 (EST) Subject: |SUCCESS| [GIT MASTER] b287e404643aeab5bb5db084c142789df187844e From: dpdklab@iol.unh.edu To: Test Report Cc: dpdk-test-reports@iol.unh.edu, Xueming Li , Christian Ehrhardt , Kevin Traynor , Luca Boccassi Content-Type: text/plain X-BeenThere: test-report@dpdk.org X-Mailman-Version: 2.1.29 Precedence: list List-Id: automatic DPDK test reports List-Unsubscribe: , List-Archive: List-Post: List-Help: List-Subscribe: , Errors-To: test-report-bounces@dpdk.org _Testing PASS_ Branch: tags/v24.11 b287e404643aeab5bb5db084c142789df187844e --> testing pass Upstream job id: Generic-DPDK-Compile-Meson#440809 Test environment and result as below: +-------------------------------+--------------------+------------------+-------------------+-------------------------+----------------------+ | Environment | dpdk_meson_compile | dpdk_compile_ovs | dpdk_msvc_compile | dpdk_llvm_clang_compile | dpdk_mingw64_compile | +===============================+====================+==================+===================+=========================+======================+ | FreeBSD 14.2 | PASS | SKIPPED | SKIPPED | SKIPPED | SKIPPED | +-------------------------------+--------------------+------------------+-------------------+-------------------------+----------------------+ | Fedora Linux 42 | PASS | PASS | SKIPPED | SKIPPED | SKIPPED | +-------------------------------+--------------------+------------------+-------------------+-------------------------+----------------------+ | CentOS Stream 10 | PASS | SKIPPED | SKIPPED | SKIPPED | SKIPPED | +-------------------------------+--------------------+------------------+-------------------+-------------------------+----------------------+ | Debian GNU/Linux 12 | PASS | SKIPPED | SKIPPED | SKIPPED | SKIPPED | +-------------------------------+--------------------+------------------+-------------------+-------------------------+----------------------+ | Red Hat Enterprise Linux 8.10 | PASS | SKIPPED | SKIPPED | SKIPPED | SKIPPED | +-------------------------------+--------------------+------------------+-------------------+-------------------------+----------------------+ | openSUSE Leap 15.6 | PASS | SKIPPED | SKIPPED | SKIPPED | SKIPPED | +-------------------------------+--------------------+------------------+-------------------+-------------------------+----------------------+ | Red Hat Enterprise Linux 9.5 | PASS | SKIPPED | SKIPPED | SKIPPED | SKIPPED | +-------------------------------+--------------------+------------------+-------------------+-------------------------+----------------------+ | Ubuntu 20.04 | PASS | SKIPPED | SKIPPED | SKIPPED | SKIPPED | +-------------------------------+--------------------+------------------+-------------------+-------------------------+----------------------+ | Ubuntu 22.04 | PASS | SKIPPED | SKIPPED | SKIPPED | SKIPPED | +-------------------------------+--------------------+------------------+-------------------+-------------------------+----------------------+ | CentOS Stream 9 | PASS | SKIPPED | SKIPPED | SKIPPED | SKIPPED | +-------------------------------+--------------------+------------------+-------------------+-------------------------+----------------------+ | Ubuntu 24.04 | PASS | PASS | SKIPPED | SKIPPED | SKIPPED | +-------------------------------+--------------------+------------------+-------------------+-------------------------+----------------------+ | Alpine Linux 3.22.0 | PASS | SKIPPED | SKIPPED | SKIPPED | SKIPPED | +-------------------------------+--------------------+------------------+-------------------+-------------------------+----------------------+ | Windows Server 2022 | SKIPPED | SKIPPED | PASS | PASS | PASS | +-------------------------------+--------------------+------------------+-------------------+-------------------------+----------------------+ FreeBSD 14.2 Kernel: 14.2-RELEASE Compiler: clang 18.1.6 Fedora Linux 42 Kernel: 5.15 Compiler: clang gcc (GCC) 15.2.1 20250808 (Red Hat 15.2.1-1) CentOS Stream 10 Kernel: 5.15 Compiler: gcc gcc (GCC) 14.2.1 20250110 (Red Hat 14.2.1-8) Debian GNU/Linux 12 Kernel: 5.15 Compiler: gcc gcc (Debian 12.2.0-14+deb12u1) 12.2.0 Red Hat Enterprise Linux 8.10 Kernel: 5.15 Compiler: gcc gcc (GCC) 8.5.0 20210514 (Red Hat 8.5.0-22) openSUSE Leap 15.6 Kernel: 5.15 Compiler: gcc gcc (SUSE Linux) 7.5.0 Red Hat Enterprise Linux 9.5 Kernel: 5.15 Compiler: gcc gcc (GCC) 11.5.0 20240719 (Red Hat 11.5.0-2) Ubuntu 20.04 Kernel: 5.15 Compiler: gcc gcc (Ubuntu 9.4.0-1ubuntu1~20.04.2) 9.4.0 Ubuntu 22.04 Kernel: 5.15 Compiler: gcc gcc (Ubuntu 11.4.0-1ubuntu1~22.04) 11.4.0 CentOS Stream 9 Kernel: 5.15 Compiler: gcc gcc (GCC) 11.5.0 20240719 (Red Hat 11.5.0-11) Ubuntu 24.04 Kernel: 5.15 Compiler: gcc gcc (Ubuntu 13.3.0-6ubuntu2~24.04) 13.3.0 Alpine Linux 3.22.0 Kernel: 5.15 Compiler: gcc gcc (Alpine 14.2.0) 14.2.0 Windows Server 2022 Kernel: 10.0.20348.2031 Compiler: clang 15.0.7, gcc 14.1.0 (MinGW), and MSVC VS 19.39.33521 To view detailed results, visit: https://lab.dpdk.org/results/dashboard/tarballs/35457/ UNH-IOL DPDK Community Lab To manage your email subscriptions, visit: https://lab.dpdk.org/results/dashboard/preferences/subscriptions/