From mboxrd@z Thu Jan 1 00:00:00 1970 Return-Path: Received: from mails.dpdk.org (mails.dpdk.org [217.70.189.124]) by inbox.dpdk.org (Postfix) with ESMTP id 50D9448A67 for ; Wed, 5 Nov 2025 07:22:56 +0100 (CET) Received: from mails.dpdk.org (localhost [127.0.0.1]) by mails.dpdk.org (Postfix) with ESMTP id 2A7EF40269; Wed, 5 Nov 2025 07:22:56 +0100 (CET) Received: from mail-io1-f97.google.com (mail-io1-f97.google.com [209.85.166.97]) by mails.dpdk.org (Postfix) with ESMTP id 8B37640269 for ; Wed, 5 Nov 2025 07:22:55 +0100 (CET) Received: by mail-io1-f97.google.com with SMTP id ca18e2360f4ac-945a6c8721aso259679539f.0 for ; Tue, 04 Nov 2025 22:22:55 -0800 (PST) DKIM-Signature: v=1; a=rsa-sha256; c=relaxed/relaxed; d=iol.unh.edu; s=unh-iol; t=1762323775; x=1762928575; darn=dpdk.org; h=cc:to:from:subject:message-id:date:from:to:cc:subject:date :message-id:reply-to; bh=/97ZA8C3JEVN60eDG79W++Wn7rXzeAjCH2uHEkXYvW8=; b=Iqbg1BgEboQUcPl76e5x+jyiUtoT45hM7twtqrOLEQFVDJGI0yuBFVEKp9l1y5Gqq9 v0GWnAlOJ+pV+a0cCuC3b7Lu8UvpAZF4tPCaHT9NCMxcCaWshiP8cdjBg1sM+8l50K+t /SRHmD6QCE6CTIlxMns8pGH+rHDzbKph2Kv4Q= X-Google-DKIM-Signature: v=1; a=rsa-sha256; c=relaxed/relaxed; d=1e100.net; s=20230601; t=1762323775; x=1762928575; h=cc:to:from:subject:message-id:date:x-gm-message-state:from:to:cc :subject:date:message-id:reply-to; bh=/97ZA8C3JEVN60eDG79W++Wn7rXzeAjCH2uHEkXYvW8=; b=vCd3D/fe9xOqmUGc1iaqk19EzmaSSMd19JmMSEyZc60G6TV2mHOolciL4jSoj+XHfk 0vw6OyR5Y7Ts2JCAKEtwCwSBB+eGwcjcbb9O7FpQTcSKSGzgMSVI4Zjw2b7VoGjEPkjV 2lsHDbsN3rFhMUki0flbN7QkoQFVw0LwnpbN2xE6+infDyvtljcUza/92aW/Cbu714lL 4jOG2RCGfpSJZpTYnJxqcckc/kYMJvYvZQJIUU4MPDzk7CRw1QaonD6I3tvhtNmKKbnV jZQE7sR4otZpaTlD/AhyTbW91M0j7Ws4rMb6+cKt3qp9zdXaX7qVMdUgt5uJR0TEtWP6 slIQ== X-Gm-Message-State: AOJu0YxMuPKAwFtN5Q7VCKbbJJ4p6TdVvBtAfLtogyPJf7Q5drbsE7KN l2WP5CuavRS95th4KkLodgAhAPCetDgxjzw9OZMbFe+9StVLm6ZayNCm0DR/Rz0ZxYc7z99BY4/ nM+QhoQU1XujOBhlkvXopTgBwtWYJ1P99SaHh6+qp5hx5WVkI372H X-Gm-Gg: ASbGncsN72drIW8ns8K8rwKfQlPlwO/RjqdJUKNoLs1Vb6rm8ByuodH2jPEEP0PxX9b q83ip1QKZNWAkN+s+VTlvr9dZXhaQuiEsHJZxkvaqAhTRF6NI5nECCiDLv56fMhxrfbzu6HkHpU omyN/R1oWmOZ3+/xb+tVZVt5+Ku2RSSpLOJIoAmulm89/AkxC++9zJJiAjqdRPruR9HdgCo00+D XgC4ABBh4SApj1tFL8d+St6MFcI8C0gJm5fXgqBBHpr/YWmQXi3tNfnvW+JkL86VBtG+Y2EGlLp +o2MpaIGmqrOHnbsr/gPFM+QF9Pp03GrSNxCLhdPJ526JXr+DQgX9zpTqcONYrLW2uMtch0hjgs ISwsBNXLi X-Google-Smtp-Source: AGHT+IHqK3X049cAlVAGXUkfwkGP449pTvnhfuJXa/XfZYmFziwjj6sd1ATtU/Y9bp5xzA+U+ZCHQnSdl+PQ X-Received: by 2002:a92:ca47:0:b0:433:312e:e33c with SMTP id e9e14a558f8ab-433407600c1mr27703435ab.1.1762323774829; Tue, 04 Nov 2025 22:22:54 -0800 (PST) Received: from postal.iol.unh.edu (postal.iol.unh.edu. [2606:4100:3880:1234::84]) by smtp-relay.gmail.com with ESMTPS id 8926c6da1cb9f-5b7225b1160sm538858173.15.2025.11.04.22.22.54 (version=TLS1_2 cipher=ECDHE-ECDSA-AES128-GCM-SHA256 bits=128/128); Tue, 04 Nov 2025 22:22:54 -0800 (PST) X-Relaying-Domain: iol.unh.edu Date: Tue, 04 Nov 2025 22:22:54 -0800 (PST) Message-ID: <690aed3e.050a0220.1ebc3b.dce5SMTPIN_ADDED_MISSING@mx.google.com> Received: from [172.21.0.3] (unknown [172.18.0.240]) by postal.iol.unh.edu (Postfix) with ESMTP id 5177A6051830; Wed, 5 Nov 2025 01:22:54 -0500 (EST) Subject: |SUCCESS| [GIT MASTER] b287e404643aeab5bb5db084c142789df187844e From: dpdklab@iol.unh.edu To: Test Report Cc: dpdk-test-reports@iol.unh.edu, Xueming Li , Christian Ehrhardt , Kevin Traynor , Luca Boccassi Content-Type: text/plain X-BeenThere: test-report@dpdk.org X-Mailman-Version: 2.1.29 Precedence: list List-Id: automatic DPDK test reports List-Unsubscribe: , List-Archive: List-Post: List-Help: List-Subscribe: , Errors-To: test-report-bounces@dpdk.org _Testing PASS_ Branch: tags/v24.11 b287e404643aeab5bb5db084c142789df187844e --> testing pass Upstream job id: Generic-Unit-Test-DPDK#388649 Test environment and result as below: +-------------------------------+----------------+ | Environment | dpdk_unit_test | +===============================+================+ | Debian GNU/Linux 12 | PASS | +-------------------------------+----------------+ | CentOS Stream 10 | PASS | +-------------------------------+----------------+ | Fedora Linux 40 | PASS | +-------------------------------+----------------+ | Fedora Linux 41 | PASS | +-------------------------------+----------------+ | CentOS Stream 9 | PASS | +-------------------------------+----------------+ | Ubuntu 24.04 | PASS | +-------------------------------+----------------+ | Fedora Linux 42 | PASS | +-------------------------------+----------------+ | Ubuntu 20.04 | PASS | +-------------------------------+----------------+ | Red Hat Enterprise Linux 8.10 | PASS | +-------------------------------+----------------+ | Ubuntu 22.04 | PASS | +-------------------------------+----------------+ | Red Hat Enterprise Linux 9.5 | PASS | +-------------------------------+----------------+ | Windows Server 2022 | PASS | +-------------------------------+----------------+ Debian GNU/Linux 12 Kernel: 5.15 Compiler: gcc gcc (Debian 12.2.0-14+deb12u1) 12.2.0 CentOS Stream 10 Kernel: 5.15 Compiler: gcc gcc (GCC) 14.2.1 20250110 (Red Hat 14.2.1-8) Fedora Linux 40 Kernel: 5.15 Compiler: gcc gcc (GCC) 14.2.1 20240912 (Red Hat 14.2.1-3) Fedora Linux 41 Kernel: 5.15 Compiler: gcc gcc (GCC) 14.3.1 20250523 (Red Hat 14.3.1-1) CentOS Stream 9 Kernel: 5.15 Compiler: gcc gcc (GCC) 11.5.0 20240719 (Red Hat 11.5.0-11) Ubuntu 24.04 Kernel: 5.15 Compiler: gcc gcc (Ubuntu 13.3.0-6ubuntu2~24.04) 13.3.0 Fedora Linux 42 Kernel: 5.15 Compiler: gcc gcc (GCC) 15.2.1 20250808 (Red Hat 15.2.1-1) Ubuntu 20.04 Kernel: 5.15 Compiler: gcc gcc (Ubuntu 9.4.0-1ubuntu1~20.04.2) 9.4.0 Red Hat Enterprise Linux 8.10 Kernel: 5.15 Compiler: gcc gcc (GCC) 8.5.0 20210514 (Red Hat 8.5.0-22) Ubuntu 22.04 Kernel: 5.15 Compiler: gcc gcc (Ubuntu 11.4.0-1ubuntu1~22.04) 11.4.0 Red Hat Enterprise Linux 9.5 Kernel: 5.15 Compiler: gcc gcc (GCC) 11.5.0 20240719 (Red Hat 11.5.0-2) Windows Server 2022 Kernel: 10.0.20348.2031 Compiler: clang 15.0.7, gcc 14.1.0 (MinGW), and MSVC VS 19.39.33521 To view detailed results, visit: https://lab.dpdk.org/results/dashboard/tarballs/35457/ UNH-IOL DPDK Community Lab To manage your email subscriptions, visit: https://lab.dpdk.org/results/dashboard/preferences/subscriptions/