From mboxrd@z Thu Jan 1 00:00:00 1970 Return-Path: Received: from mails.dpdk.org (mails.dpdk.org [217.70.189.124]) by inbox.dpdk.org (Postfix) with ESMTP id C7BBB48A67 for ; Wed, 5 Nov 2025 07:49:50 +0100 (CET) Received: from mails.dpdk.org (localhost [127.0.0.1]) by mails.dpdk.org (Postfix) with ESMTP id C10F440269; Wed, 5 Nov 2025 07:49:50 +0100 (CET) Received: from mail-il1-f228.google.com (mail-il1-f228.google.com [209.85.166.228]) by mails.dpdk.org (Postfix) with ESMTP id 01E2540269 for ; Wed, 5 Nov 2025 07:49:50 +0100 (CET) Received: by mail-il1-f228.google.com with SMTP id e9e14a558f8ab-4330e912c51so16937165ab.3 for ; Tue, 04 Nov 2025 22:49:49 -0800 (PST) DKIM-Signature: v=1; a=rsa-sha256; c=relaxed/relaxed; d=iol.unh.edu; s=unh-iol; t=1762325389; x=1762930189; darn=dpdk.org; h=cc:to:from:subject:message-id:date:from:to:cc:subject:date :message-id:reply-to; bh=BIpAbl5N5qsG84GQxuJyRfmdYBbnhfNRVbq4JtDc14g=; b=L4ERBAlzT7My4tiP0wDu41BWEGzDNihaKDIdaweVmndixTt4fF6i7Uz+wUX83LEx9A C2QczFdpbWRVpF2FI2peVCKk2RJu+X+w52Tiha5y8zg79yXRqgHxiEV3uqMi7TNRagsq nkFROgYOeJTePysbJauH7xxdBYpcRIT4xJiAM= X-Google-DKIM-Signature: v=1; a=rsa-sha256; c=relaxed/relaxed; d=1e100.net; s=20230601; t=1762325389; x=1762930189; h=cc:to:from:subject:message-id:date:x-gm-message-state:from:to:cc :subject:date:message-id:reply-to; bh=BIpAbl5N5qsG84GQxuJyRfmdYBbnhfNRVbq4JtDc14g=; b=KaVt7RLLSjBE+c65kP5mKrpp4BIh/iDzctvSdgX8TmhetLHLFp2pL+f6d7iIKNOsi7 UbzoA3POsZZ5DxWPLLX9Hxz4nu3Jon/NsQVd7S0+fLqYO7ad/ZY7X626GyEmcLfaEIj/ usTHzYFep1dmI0povn8HNmk3KdWHtSYb2+T0QZkBVZj9NYxyN4R1KPVeH5KtOT+OzAOu HcIFLS3cAEgWlmU8Z3A/YF6vJkxSz2x0wAMyiIToQDv2LHrqKvTH5VtX6ums9TiNSnwI TdmcCXU7lLpgRcsJlE/msn1oi9np/PYcE0pbBXGBzKI7gE9upBVbOd8CSOQfxachWHzS pvjg== X-Gm-Message-State: AOJu0YzYshrVgfzFOJ4OpzTpMrM5pzPk9XmTWlxpruykhxIOic1nQ15L NZqiBCEtAQW6EDctxiHAE+xJn1sdrFwbCY7vNVK9LVYDVliiBde/HVJqpKef4prGWd8j9EcRxBz s4gd9knOHeN1D7D3F1ABsDYFbq3SurtW7LTr+ X-Gm-Gg: ASbGncsf1vD13UseC+OSzWvgfWHfDP4V6oEVvtaM+/ltW21mPHakEI9fdss6bgMldVK XLJw7FnUWZs+gIebGoPW1ydIVufpytmSM5C1pQq/w1Ov+iog5aMb1SBf1l2EBZ+qti8VTU4xOSD aOH1xO3+4Sz68N69R9ASz+okHQxq1L5yPdYXxYZBPn56v+CY1Z0L9UkCZuaK2EpwP2uHqhteS6V x7IScK/rmc2coMHgyZ6QVns7IfqNv0Ztf6Rm9zm9Nf0blvT4QcQPEm74zAyrgynWvvsnaIGi+vI I4UWW/rUM0zbd6lhcYRF9FgoA3dVTffh+QVfQI8YUK8MQo4LdKWDoilRrRreuerY9v0Qm1CvUli TwlbyHQarPODfPb7zEvEgPiBJ/n0+2t0= X-Google-Smtp-Source: AGHT+IGRLnOXWdRCjsEwSzig5rJjrXP8MjEF96aUKDWyMClKoV86JD8SO9gF1wjNl+HXQkpBWzzkxwqyTHOL X-Received: by 2002:a05:6e02:3303:b0:433:3498:6906 with SMTP id e9e14a558f8ab-433407d51b1mr30821145ab.32.1762325389369; Tue, 04 Nov 2025 22:49:49 -0800 (PST) Received: from postal.iol.unh.edu (postal.iol.unh.edu. [132.177.123.84]) by smtp-relay.gmail.com with ESMTPS id e9e14a558f8ab-43335a9aed7sm4465425ab.11.2025.11.04.22.49.49 (version=TLS1_2 cipher=ECDHE-ECDSA-AES128-GCM-SHA256 bits=128/128); Tue, 04 Nov 2025 22:49:49 -0800 (PST) X-Relaying-Domain: iol.unh.edu Date: Tue, 04 Nov 2025 22:49:49 -0800 (PST) Message-ID: <690af38d.050a0220.1c9ce.84ecSMTPIN_ADDED_MISSING@mx.google.com> Received: from [172.21.0.2] (unknown [172.18.0.240]) by postal.iol.unh.edu (Postfix) with ESMTP id 023486051830; Wed, 5 Nov 2025 01:49:49 -0500 (EST) Subject: |SUCCESS| [GIT MASTER] b287e404643aeab5bb5db084c142789df187844e From: dpdklab@iol.unh.edu To: Test Report Cc: dpdk-test-reports@iol.unh.edu, Xueming Li , Christian Ehrhardt , Kevin Traynor , Luca Boccassi Content-Type: text/plain X-BeenThere: test-report@dpdk.org X-Mailman-Version: 2.1.29 Precedence: list List-Id: automatic DPDK test reports List-Unsubscribe: , List-Archive: List-Post: List-Help: List-Subscribe: , Errors-To: test-report-bounces@dpdk.org _Testing PASS_ Branch: tags/v24.11 b287e404643aeab5bb5db084c142789df187844e --> testing pass Upstream job id: Generic-Unit-Test-DPDK#388650 Test environment and result as below: +------------------------------+------------------------------+---------------------------+--------------+----------------+ | Environment | cryptodev_sw_snow3g_autotest | cryptodev_sw_zuc_autotest | lpm_autotest | dpdk_unit_test | +==============================+==============================+===========================+==============+================+ | Debian 12 (arm) | PASS | PASS | SKIPPED | SKIPPED | +------------------------------+------------------------------+---------------------------+--------------+----------------+ | Ubuntu 20.04 | SKIPPED | SKIPPED | PASS | PASS | +------------------------------+------------------------------+---------------------------+--------------+----------------+ | CentOS Stream 10 | SKIPPED | SKIPPED | SKIPPED | PASS | +------------------------------+------------------------------+---------------------------+--------------+----------------+ | Fedora Linux 40 | SKIPPED | SKIPPED | SKIPPED | PASS | +------------------------------+------------------------------+---------------------------+--------------+----------------+ | Debian GNU/Linux 12 | SKIPPED | SKIPPED | SKIPPED | PASS | +------------------------------+------------------------------+---------------------------+--------------+----------------+ | Fedora Linux 42 | SKIPPED | SKIPPED | SKIPPED | PASS | +------------------------------+------------------------------+---------------------------+--------------+----------------+ | Fedora Linux 41 | SKIPPED | SKIPPED | SKIPPED | PASS | +------------------------------+------------------------------+---------------------------+--------------+----------------+ | CentOS Stream 9 | SKIPPED | SKIPPED | SKIPPED | PASS | +------------------------------+------------------------------+---------------------------+--------------+----------------+ | Red Hat Enterprise Linux 9.5 | SKIPPED | SKIPPED | SKIPPED | PASS | +------------------------------+------------------------------+---------------------------+--------------+----------------+ | Ubuntu 24.04 | SKIPPED | SKIPPED | SKIPPED | PASS | +------------------------------+------------------------------+---------------------------+--------------+----------------+ | Ubuntu 22.04 | SKIPPED | SKIPPED | SKIPPED | PASS | +------------------------------+------------------------------+---------------------------+--------------+----------------+ Debian 12 (arm) Kernel: Depends on container host Compiler: gcc (Debian 12.2.0-14) 12.2.0 Ubuntu 20.04 Kernel: 5.4 Compiler: gcc gcc (Ubuntu 9.4.0-1ubuntu1~20.04.2) 9.4.0 CentOS Stream 10 Kernel: 5.4 Compiler: gcc gcc (GCC) 14.2.1 20250110 (Red Hat 14.2.1-8) Fedora Linux 40 Kernel: 5.4 Compiler: gcc gcc (GCC) 14.2.1 20240912 (Red Hat 14.2.1-3) Debian GNU/Linux 12 Kernel: 5.4 Compiler: gcc gcc (Debian 12.2.0-14+deb12u1) 12.2.0 Fedora Linux 42 Kernel: 5.4 Compiler: gcc gcc (GCC) 15.2.1 20250808 (Red Hat 15.2.1-1) Fedora Linux 41 Kernel: 5.4 Compiler: clang gcc (GCC) 14.3.1 20250523 (Red Hat 14.3.1-1) CentOS Stream 9 Kernel: 5.4 Compiler: gcc gcc (GCC) 11.5.0 20240719 (Red Hat 11.5.0-11) Red Hat Enterprise Linux 9.5 Kernel: 5.4 Compiler: gcc gcc (GCC) 11.5.0 20240719 (Red Hat 11.5.0-2) Ubuntu 24.04 Kernel: 5.4 Compiler: gcc gcc (Ubuntu 13.3.0-6ubuntu2~24.04) 13.3.0 Ubuntu 22.04 Kernel: 5.4 Compiler: gcc gcc (Ubuntu 11.4.0-1ubuntu1~22.04) 11.4.0 To view detailed results, visit: https://lab.dpdk.org/results/dashboard/tarballs/35457/ UNH-IOL DPDK Community Lab To manage your email subscriptions, visit: https://lab.dpdk.org/results/dashboard/preferences/subscriptions/