From mboxrd@z Thu Jan 1 00:00:00 1970 Return-Path: Received: from mails.dpdk.org (mails.dpdk.org [217.70.189.124]) by inbox.dpdk.org (Postfix) with ESMTP id DC3F348A6C for ; Wed, 5 Nov 2025 08:36:40 +0100 (CET) Received: from mails.dpdk.org (localhost [127.0.0.1]) by mails.dpdk.org (Postfix) with ESMTP id BD482400D7; Wed, 5 Nov 2025 08:36:40 +0100 (CET) Received: from mail-vk1-f227.google.com (mail-vk1-f227.google.com [209.85.221.227]) by mails.dpdk.org (Postfix) with ESMTP id A6285400D7 for ; Wed, 5 Nov 2025 08:36:39 +0100 (CET) Received: by mail-vk1-f227.google.com with SMTP id 71dfb90a1353d-5598942c187so241045e0c.1 for ; Tue, 04 Nov 2025 23:36:39 -0800 (PST) DKIM-Signature: v=1; a=rsa-sha256; c=relaxed/relaxed; d=iol.unh.edu; s=unh-iol; t=1762328199; x=1762932999; darn=dpdk.org; h=references:in-reply-to:cc:to:from:subject:message-id:date:from:to :cc:subject:date:message-id:reply-to; bh=gv5GhEfUS55oFfpR7GZsKegG3w6rgz/52qsPiXiDs90=; b=T1OCxJ6x1C9Kdo/ZLk3mUmHAD5Rs4RouqOzhGQXwlg950/U9qROzIcYpJcDK1bBuvp kT2IgJi4tcbC10f9cvpsfwjyIkxqjLm3q7j+WQCqhYX5pfWQ7aSLnQtF4Bo9t2+oa9eF M7aLCnn5qTxN/PMzUsjOefgpWrvBJ7C8r/s8A= X-Google-DKIM-Signature: v=1; a=rsa-sha256; c=relaxed/relaxed; d=1e100.net; s=20230601; t=1762328199; x=1762932999; h=references:in-reply-to:cc:to:from:subject:message-id:date :x-gm-message-state:from:to:cc:subject:date:message-id:reply-to; bh=gv5GhEfUS55oFfpR7GZsKegG3w6rgz/52qsPiXiDs90=; b=Djjzo4/FVjOPOf0Kp3XoSucQN9NiFKB3L0hxUxQuBu+t1GcsmtJEOn78cU7tmKP61H AizpmhO0uoR9fEtd3YX9z4aOH+fvvTLSJ7Mi1cTxdo/00LlRP0jdY2QkAPBVy5MXdpc/ J4VdZun8FlZOIZnQ55oq8WznDDBsHlEp5ekGHlO061RUjleRc8s5git8ucZd54mgU1WT lyt9SKbvntml8TpzeJA4XpiW90J9W1RQiy7RL4AQaarx0xZSdmfCzliEOzAngCUY3Lh+ dFeapNq3haxpRAPOHc/WIFsKSaLnNOQgu8E9fcI7d2SHwj8vRf4UdUWjBBNl5XpQWWcG +gUQ== X-Gm-Message-State: AOJu0Ywzb4zNfDaOJdX4phA+Ydr61ysSTurdzospp6hSsapCUDitM3yj u37wCda0+FdODM+yvjs2MyhxaG/r+vzlAa1aRBMLw5zobmwNN1BHc+HhHWmFtlmWQdRV7qeJwKe qap1Bh1n4GnC6ZyWkHVgnyWFDK3m9sp32pupgl0ogjr9O X-Gm-Gg: ASbGncu296zjutFvgBZPS6yPjeBxh0/06QMACGXn5gpKSqHbxOVuw1hRkI21ZVHYq1i 062dfzMFxpg8Eq9ztFsQ+n8ldJgFNR4+1atNmBvn/h2O+mt2ivmXbRf5brC2NCkVStPDjyjq6OV MRIeYuQURyRYGj4DikJcxFjJNIGzsQTbGwrQBFGbWo1MmjZ4H2UwZb2uRR7lfux5bBOf/SsBbPQ 5Sqj38/wDfA6EAlr2cEIWB2WLg1LmZj9kc2ej/I4hUUukamVtfysuiVjvT81PdwKUdPjl//JZWT OsujOuLUxYhbhHAcKXn0ZQ8g5j9ZmlgxUTgR9T94wWz9sM1jvAz2/mGn0w2kTLh6/Jtksg3emPt +XYaGosRUU+fMGqsKlN9AZZWVGXdBiNk= X-Google-Smtp-Source: AGHT+IEL3fC34kBVfxUiedBDuViCdFlbfg8IyvsM1wnb8e8OcfT2riXeRkfDf6UarYmp2MAlT42UFj/SIHGL X-Received: by 2002:a05:6122:168e:b0:552:3366:e822 with SMTP id 71dfb90a1353d-55985e79218mr885705e0c.1.1762328198940; Tue, 04 Nov 2025 23:36:38 -0800 (PST) Received: from postal.iol.unh.edu (postal.iol.unh.edu. [132.177.123.84]) by smtp-relay.gmail.com with ESMTPS id 71dfb90a1353d-55973ab7304sm436059e0c.0.2025.11.04.23.36.38 (version=TLS1_2 cipher=ECDHE-ECDSA-AES128-GCM-SHA256 bits=128/128); Tue, 04 Nov 2025 23:36:38 -0800 (PST) X-Relaying-Domain: iol.unh.edu Date: Tue, 04 Nov 2025 23:36:38 -0800 (PST) Message-ID: <690afe86.050a0220.21b642.7e9aSMTPIN_ADDED_MISSING@mx.google.com> Received: from [172.21.0.3] (unknown [172.18.0.240]) by postal.iol.unh.edu (Postfix) with ESMTP id 63CB86051830; Wed, 5 Nov 2025 02:36:38 -0500 (EST) Subject: |SUCCESS| pw158442-158443 [PATCH] [2/2] app/testpmd: fix the IPv6 ex From: dpdklab@iol.unh.edu To: Test Report Cc: dpdk-test-reports@iol.unh.edu, Stephen Hemminger In-Reply-To: <20251105024724.830304-3-mingjinx.ye@intel.com> References: <20251105024724.830304-3-mingjinx.ye@intel.com> Content-Type: text/plain X-BeenThere: test-report@dpdk.org X-Mailman-Version: 2.1.29 Precedence: list List-Id: automatic DPDK test reports List-Unsubscribe: , List-Archive: List-Post: List-Help: List-Subscribe: , Errors-To: test-report-bounces@dpdk.org Test-Label: iol-compile-arm64-testing Test-Status: SUCCESS http://dpdk.org/patch/158443 _Testing PASS_ Submitter: Mingjin Ye Date: Wednesday, November 05 2025 02:47:24 DPDK git baseline: Repo:dpdk-next-net Branch: master CommitID:538052bb364db22ba8cc08b5e23a9e6d25a864a9 158442-158443 --> testing pass Upstream job id: Generic-DPDK-Compile-Meson#440784 Test environment and result as below: +------------------------------+--------------------+ | Environment | dpdk_meson_compile | +==============================+====================+ | Ubuntu 20.04 | PASS | +------------------------------+--------------------+ | Fedora Linux 42 | PASS | +------------------------------+--------------------+ | Red Hat Enterprise Linux 9.5 | PASS | +------------------------------+--------------------+ | Ubuntu 24.04 | PASS | +------------------------------+--------------------+ | Debian GNU/Linux 12 | PASS | +------------------------------+--------------------+ | Ubuntu 22.04 | PASS | +------------------------------+--------------------+ | CentOS Stream 9 | PASS | +------------------------------+--------------------+ | CentOS Stream 10 | PASS | +------------------------------+--------------------+ Ubuntu 20.04 Kernel: 5.15 Compiler: gcc gcc (Ubuntu 9.4.0-1ubuntu1~20.04.2) 9.4.0 Fedora Linux 42 Kernel: 5.4 Compiler: gcc gcc (GCC) 15.2.1 20250808 (Red Hat 15.2.1-1) Red Hat Enterprise Linux 9.5 Kernel: 5.4 Compiler: gcc gcc (GCC) 11.5.0 20240719 (Red Hat 11.5.0-2) Ubuntu 24.04 Kernel: 5.4 Compiler: gcc gcc (Ubuntu 13.3.0-6ubuntu2~24.04) 13.3.0 Debian GNU/Linux 12 Kernel: 5.4 Compiler: gcc gcc (Debian 12.2.0-14+deb12u1) 12.2.0 Ubuntu 22.04 Kernel: 5.4 Compiler: gcc gcc (Ubuntu 11.4.0-1ubuntu1~22.04) 11.4.0 CentOS Stream 9 Kernel: 5.4 Compiler: gcc gcc (GCC) 11.5.0 20240719 (Red Hat 11.5.0-11) CentOS Stream 10 Kernel: 5.4 Compiler: gcc gcc (GCC) 14.2.1 20250110 (Red Hat 14.2.1-8) To view detailed results, visit: https://lab.dpdk.org/results/dashboard/patchsets/34464/ UNH-IOL DPDK Community Lab To manage your email subscriptions, visit: https://lab.dpdk.org/results/dashboard/preferences/subscriptions/