From mboxrd@z Thu Jan 1 00:00:00 1970 Return-Path: Received: from mails.dpdk.org (mails.dpdk.org [217.70.189.124]) by inbox.dpdk.org (Postfix) with ESMTP id 8865548A6C for ; Wed, 5 Nov 2025 09:05:26 +0100 (CET) Received: from mails.dpdk.org (localhost [127.0.0.1]) by mails.dpdk.org (Postfix) with ESMTP id 63938400D7; Wed, 5 Nov 2025 09:05:26 +0100 (CET) Received: from mail-pl1-f227.google.com (mail-pl1-f227.google.com [209.85.214.227]) by mails.dpdk.org (Postfix) with ESMTP id 5BAE2400D7 for ; Wed, 5 Nov 2025 09:05:25 +0100 (CET) Received: by mail-pl1-f227.google.com with SMTP id d9443c01a7336-29524abfba3so51573095ad.1 for ; Wed, 05 Nov 2025 00:05:25 -0800 (PST) DKIM-Signature: v=1; a=rsa-sha256; c=relaxed/relaxed; d=iol.unh.edu; s=unh-iol; t=1762329924; x=1762934724; darn=dpdk.org; h=cc:to:from:subject:message-id:date:from:to:cc:subject:date :message-id:reply-to; bh=skao3XIRcSLC9PoKVbZEKs55emlZv5T760M1CE6TWSs=; b=Ysf+sxowszwnKc/AwFQw8jOpBztDV5JMSI9PlZACxTmgIyC+3Gg6q4ogVASmvD8Ixr S6loy5AEp3lFFIefgqVie5vXLMAp24dgCarML4igwk8Xm66uGXgJeeO8z7LSergZVd5b DHOxiATLuThktrxHuo5DIR+gxICT567Glg9p0= X-Google-DKIM-Signature: v=1; a=rsa-sha256; c=relaxed/relaxed; d=1e100.net; s=20230601; t=1762329924; x=1762934724; h=cc:to:from:subject:message-id:date:x-gm-message-state:from:to:cc :subject:date:message-id:reply-to; bh=skao3XIRcSLC9PoKVbZEKs55emlZv5T760M1CE6TWSs=; b=m6sjGEpPRqi7jkjv4AgC4nAEDca1ZRX7PvIutAPYjz6hqO3Q9r3SSuDNv/Px+y9uWL sxFJPX5Pikx0yWJWj+BXbgGZReqqHQgts7r+cFO/65N8v7GZNCrkKIIdFlsR6OICFmAJ 5jwDcaujDTnm1rLqkcGg9mjUc7UNNH0lQqnH/KtMZ6PvHHG2bPvtjVOd01SzobfbpOdc IIYqvFhWKPzZ3/6RgusXaP0HSW2bWiF+CT8NDfCbQTPNS6DbHXYNnLZuheBRtXoVNegl Md0J690WXOczZHsYreVSe2YdaGtXCBVObfel/N6F6v/LUH4vPn3C5teaM5YqO0jAlMV2 Rj3A== X-Gm-Message-State: AOJu0Yyy4y2JBdkG7dsTFjug4taZ5ftR6P4S57Jul5dgzdpNApfle9AZ DFFDw0aTKCY9w9r9Zya3EOU3iayPorBV/3qbAKdohNdafRXnodJiBEs+GGnUZkhuunw+XKd9mLr 7j9gL/n0TIfysprzr3LBabU/Xsz4FKzyDlbx+nx+Qqjyopqcc9TNB X-Gm-Gg: ASbGncscOYrLKqYT1vGD9kGNkyBRnbVY2vlwbJkMv8hAiTxf/khz1Zm0ptdCcZeeYcH PrTc9TshO+kJrXWb5ZxewpobU0KO5Divdih2RNWLiWbLZPdvfab+MtA8aFf7lLLpGMzVDbIi/qy nLMrTJPMN/QOaQJu1HKzxaEpZPgWr6tTWH69QJWj18shHyJZv6syC8FKfs5GFOuU4vjM9qzLofU u0ibYSQQqAg+Jymh8fakU6YHh2uU5F09GmP2mchn3F/QNFVDJ9wwQktLHlwiMFst8FnEq431SgP CbRKig2SYjKWE/YgCD1RL+96O1DIKETHcypD9IvvYblfCY0OFXQyUgOv5VgL8KKJUDZfZW8m8OE 3GqC6WRCx X-Google-Smtp-Source: AGHT+IHgrvV+VsenrYBx6EeC/6/sLtpNA4TBdJjUT5VtO2XldKMt2CpdhQXgnXEX3p6oZzixdtmZIvOu2PHA X-Received: by 2002:a17:903:22c3:b0:295:7b8c:661c with SMTP id d9443c01a7336-2962ad3099bmr34702885ad.26.1762329924434; Wed, 05 Nov 2025 00:05:24 -0800 (PST) Received: from postal.iol.unh.edu (postal.iol.unh.edu. [2606:4100:3880:1234::84]) by smtp-relay.gmail.com with ESMTPS id d9443c01a7336-29601a6ab18sm4396095ad.64.2025.11.05.00.05.24 (version=TLS1_2 cipher=ECDHE-ECDSA-AES128-GCM-SHA256 bits=128/128); Wed, 05 Nov 2025 00:05:24 -0800 (PST) X-Relaying-Domain: iol.unh.edu Date: Wed, 05 Nov 2025 00:05:24 -0800 (PST) Message-ID: <690b0544.170a0220.17b5cd.7d8bSMTPIN_ADDED_MISSING@mx.google.com> Received: from [172.21.0.3] (unknown [172.18.0.240]) by postal.iol.unh.edu (Postfix) with ESMTP id C1FBD6051830; Wed, 5 Nov 2025 03:05:23 -0500 (EST) Subject: |WARNING| [GIT MASTER] 62f583c49bf67dd4d6733ece14e55fe6839e66d1 From: dpdklab@iol.unh.edu To: Test Report Cc: dpdk-test-reports@iol.unh.edu, Xueming Li , Christian Ehrhardt , Kevin Traynor , Luca Boccassi Content-Type: text/plain X-BeenThere: test-report@dpdk.org X-Mailman-Version: 2.1.29 Precedence: list List-Id: automatic DPDK test reports List-Unsubscribe: , List-Archive: List-Post: List-Help: List-Subscribe: , Errors-To: test-report-bounces@dpdk.org _Testing issues_ Branch: tags/v23.11 62f583c49bf67dd4d6733ece14e55fe6839e66d1 --> testing issues Upstream job id: Generic-Unit-Test-DPDK#388683 Test environment and result as below: +------------------------------+---------------------------+------------------------------+----------------+--------------+ | Environment | cryptodev_sw_zuc_autotest | cryptodev_sw_snow3g_autotest | dpdk_unit_test | lpm_autotest | +==============================+===========================+==============================+================+==============+ | Debian 12 (arm) | PASS | PASS | SKIPPED | SKIPPED | +------------------------------+---------------------------+------------------------------+----------------+--------------+ | CentOS Stream 9 | SKIPPED | SKIPPED | PASS | SKIPPED | +------------------------------+---------------------------+------------------------------+----------------+--------------+ | Debian GNU/Linux 12 | SKIPPED | SKIPPED | PASS | SKIPPED | +------------------------------+---------------------------+------------------------------+----------------+--------------+ | CentOS Stream 10 | SKIPPED | SKIPPED | PASS | SKIPPED | +------------------------------+---------------------------+------------------------------+----------------+--------------+ | Fedora Linux 40 | SKIPPED | SKIPPED | PASS | SKIPPED | +------------------------------+---------------------------+------------------------------+----------------+--------------+ | Fedora Linux 42 | SKIPPED | SKIPPED | PASS | SKIPPED | +------------------------------+---------------------------+------------------------------+----------------+--------------+ | Ubuntu 20.04 | SKIPPED | SKIPPED | PASS | PASS | +------------------------------+---------------------------+------------------------------+----------------+--------------+ | Ubuntu 22.04 | SKIPPED | SKIPPED | PASS | SKIPPED | +------------------------------+---------------------------+------------------------------+----------------+--------------+ | Fedora Linux 41 | SKIPPED | SKIPPED | PASS | SKIPPED | +------------------------------+---------------------------+------------------------------+----------------+--------------+ | Red Hat Enterprise Linux 9.5 | SKIPPED | SKIPPED | PASS | SKIPPED | +------------------------------+---------------------------+------------------------------+----------------+--------------+ | Ubuntu 24.04 | SKIPPED | SKIPPED | PASS | SKIPPED | +------------------------------+---------------------------+------------------------------+----------------+--------------+ Debian 12 (arm) Kernel: Depends on container host Compiler: gcc (Debian 12.2.0-14) 12.2.0 CentOS Stream 9 Kernel: 5.4 Compiler: gcc gcc (GCC) 11.5.0 20240719 (Red Hat 11.5.0-11) Debian GNU/Linux 12 Kernel: 5.4 Compiler: gcc gcc (Debian 12.2.0-14+deb12u1) 12.2.0 CentOS Stream 10 Kernel: 5.4 Compiler: gcc gcc (GCC) 14.2.1 20250110 (Red Hat 14.2.1-8) Fedora Linux 40 Kernel: 5.4 Compiler: clang gcc (GCC) 14.2.1 20240912 (Red Hat 14.2.1-3) Fedora Linux 42 Kernel: 5.4 Compiler: gcc gcc (GCC) 15.2.1 20250808 (Red Hat 15.2.1-1) Ubuntu 20.04 Kernel: 5.4 Compiler: gcc gcc (Ubuntu 9.4.0-1ubuntu1~20.04.2) 9.4.0 Ubuntu 22.04 Kernel: 5.4 Compiler: gcc gcc (Ubuntu 11.4.0-1ubuntu1~22.04) 11.4.0 Fedora Linux 41 Kernel: 5.4 Compiler: gcc gcc (GCC) 14.3.1 20250523 (Red Hat 14.3.1-1) Red Hat Enterprise Linux 9.5 Kernel: 5.4 Compiler: gcc gcc (GCC) 11.5.0 20240719 (Red Hat 11.5.0-2) Ubuntu 24.04 Kernel: 5.4 Compiler: gcc gcc (Ubuntu 13.3.0-6ubuntu2~24.04) 13.3.0 To view detailed results, visit: https://lab.dpdk.org/results/dashboard/tarballs/35458/ UNH-IOL DPDK Community Lab To manage your email subscriptions, visit: https://lab.dpdk.org/results/dashboard/preferences/subscriptions/