From mboxrd@z Thu Jan 1 00:00:00 1970 Return-Path: Received: from mails.dpdk.org (mails.dpdk.org [217.70.189.124]) by inbox.dpdk.org (Postfix) with ESMTP id DC25F489ED for ; Wed, 5 Nov 2025 09:49:12 +0100 (CET) Received: from mails.dpdk.org (localhost [127.0.0.1]) by mails.dpdk.org (Postfix) with ESMTP id D73F1400D7; Wed, 5 Nov 2025 09:49:12 +0100 (CET) Received: from mail-il1-f228.google.com (mail-il1-f228.google.com [209.85.166.228]) by mails.dpdk.org (Postfix) with ESMTP id 7B0BA400D7 for ; Wed, 5 Nov 2025 09:49:11 +0100 (CET) Received: by mail-il1-f228.google.com with SMTP id e9e14a558f8ab-43326c74e19so14648895ab.1 for ; Wed, 05 Nov 2025 00:49:11 -0800 (PST) DKIM-Signature: v=1; a=rsa-sha256; c=relaxed/relaxed; d=iol.unh.edu; s=unh-iol; t=1762332551; x=1762937351; darn=dpdk.org; h=references:in-reply-to:cc:to:from:subject:message-id:date:from:to :cc:subject:date:message-id:reply-to; bh=x2J4wgyXWZEvahlL5gyj6KmoaUEExr8Wpuz883i1+yQ=; b=UhDMBw2eIMA/EsQ8E533AwCAGlX82FvZz43OmHnlJkEjw+sFhnAJcBANbly17b04Ny pwUGW1ILpOGee+AUTKGXfK48gc6UisZ2WQRX+BPAzMbD/eMGz+BSf+0VmGLfpz5y6WiM KK2Lv9YPQQSTvGIRAolh2tkK+HuppcTYp0ezQ= X-Google-DKIM-Signature: v=1; a=rsa-sha256; c=relaxed/relaxed; d=1e100.net; s=20230601; t=1762332551; x=1762937351; h=references:in-reply-to:cc:to:from:subject:message-id:date :x-gm-message-state:from:to:cc:subject:date:message-id:reply-to; bh=x2J4wgyXWZEvahlL5gyj6KmoaUEExr8Wpuz883i1+yQ=; b=nTPsXCYUccmgNjmDFnhhp4BZy/P+5fZzOqMOVH2m6URpWqRch+QKO2GYEl5IZU9FVt apsp6HOLlINW59Dlt+a5RZYOs2Zau6rwjkVge/JQS4ulx/S0LGh8IH/xBifEsD4e15Ei RHKx9hv3OffuCA6kJxBQDfElgV7tAt/m/gLqJ7U1yKnHhIkfVAKC1TQvY2prTQG8TJ85 x5fJsMOP3DR+LdEE5WuYsF7yBWNxNv+u7+SPkyA01Tqt22sC8JApPO2bOLcNmCYziJa/ n63IHV4AV5AgLydVHvuBVS3nAeKWxEc4XP5Kubw5Z9zaLnxZ++sqjPwUs9oqguMcMU23 2pPA== X-Gm-Message-State: AOJu0YyN3ArkOsPkfWPfVgZmXramz0dU85bR1dJO3aVaNbQwZb0188hU vj0Ehmku/ynAsNsEVE1Nz0Y53aDukOw9odx/BHM8py+PDLLjo5l8zzWPMdjf7ynwS02Sj0evxhG TCyPiKZd5//kyW+ECFzMCnDx2KmBB7seL6GiK6iScJmFKmmJDQ5iWIIgzQOtE X-Gm-Gg: ASbGnctUY9t7WNPTC04cRNviTNaBZGhpekF4M9WfYCvg/3Csbff4vTxW90W6kYwUCBD gffWOIAiNB1HTKftHIizaJoXxJZAfLBuQBFXZrg4pq94qCAQk+qXnVJuiRhyZw66g3YaORhoOG4 NdSgsfZ+SXY5ANEooagUjl4aFtjidkyk+hwmZxW9Sxcsb+LpiZVR92eh16LyNOnkd04EL4eOUWS 5SCOHxwYi0Iw4GOuRPyZ76GORWMLBw9E7IaH1lAUsgv1dQJr2x1V84w5GG7Vs77CLc1cnUDzws/ X8DHc6GRq292jpQYSk4comuaTQpVA/rZM5FoOAdz+7RIJV8njI+Yribui4fYL11sFaPU7JZPm5l CaE2Yc4PI X-Google-Smtp-Source: AGHT+IE50pf/f5tn9zJ0IlwyhoDA9OBUCpDxDsbh2vNJN/vh6abDB6NWRFlTGKS+OqMeMwURQxuQVkTMprUn X-Received: by 2002:a05:6e02:3c81:b0:433:2920:a0fe with SMTP id e9e14a558f8ab-4334066f6d0mr31286625ab.0.1762332550841; Wed, 05 Nov 2025 00:49:10 -0800 (PST) Received: from postal.iol.unh.edu (postal.iol.unh.edu. [2606:4100:3880:1234::84]) by smtp-relay.gmail.com with ESMTPS id e9e14a558f8ab-43335aac3a5sm4669305ab.15.2025.11.05.00.49.10 (version=TLS1_2 cipher=ECDHE-ECDSA-AES128-GCM-SHA256 bits=128/128); Wed, 05 Nov 2025 00:49:10 -0800 (PST) X-Relaying-Domain: iol.unh.edu Date: Wed, 05 Nov 2025 00:49:10 -0800 (PST) Message-ID: <690b0f86.050a0220.1baa80.9b66SMTPIN_ADDED_MISSING@mx.google.com> Received: from [172.21.0.2] (unknown [172.18.0.240]) by postal.iol.unh.edu (Postfix) with ESMTP id 56B5A60003E7; Wed, 5 Nov 2025 03:49:10 -0500 (EST) Subject: |SUCCESS| pw158449 [PATCH] [v2] ci: switch testing to Fedora 43 in G From: dpdklab@iol.unh.edu To: Test Report Cc: dpdk-test-reports@iol.unh.edu In-Reply-To: <20251105074547.3760605-1-david.marchand@redhat.com> References: <20251105074547.3760605-1-david.marchand@redhat.com> Content-Type: text/plain X-BeenThere: test-report@dpdk.org X-Mailman-Version: 2.1.29 Precedence: list List-Id: automatic DPDK test reports List-Unsubscribe: , List-Archive: List-Post: List-Help: List-Subscribe: , Errors-To: test-report-bounces@dpdk.org Test-Label: iol-unit-amd64-testing Test-Status: SUCCESS http://dpdk.org/patch/158449 _Testing PASS_ Submitter: David Marchand Date: Wednesday, November 05 2025 07:45:47 DPDK git baseline: Repo:dpdk Branch: master CommitID:8887f57cd71e47fa487b8d37c421fba897f7c7ee 158449 --> testing pass Upstream job id: Generic-Unit-Test-DPDK#388732 Test environment and result as below: +-------------------------------+----------------+ | Environment | dpdk_unit_test | +===============================+================+ | Fedora Linux 40 | PASS | +-------------------------------+----------------+ | CentOS Stream 10 | PASS | +-------------------------------+----------------+ | Red Hat Enterprise Linux 8.10 | PASS | +-------------------------------+----------------+ | Fedora Linux 41 | PASS | +-------------------------------+----------------+ | Ubuntu 24.04 | PASS | +-------------------------------+----------------+ | Red Hat Enterprise Linux 9.5 | PASS | +-------------------------------+----------------+ | Debian GNU/Linux 12 | PASS | +-------------------------------+----------------+ | CentOS Stream 9 | PASS | +-------------------------------+----------------+ | Fedora Linux 42 | PASS | +-------------------------------+----------------+ | Ubuntu 22.04 | PASS | +-------------------------------+----------------+ | Ubuntu 20.04 | PASS | +-------------------------------+----------------+ Fedora Linux 40 Kernel: 5.15 Compiler: clang gcc (GCC) 14.2.1 20240912 (Red Hat 14.2.1-3) CentOS Stream 10 Kernel: 5.15 Compiler: gcc gcc (GCC) 14.2.1 20250110 (Red Hat 14.2.1-8) Red Hat Enterprise Linux 8.10 Kernel: 5.15 Compiler: gcc gcc (GCC) 8.5.0 20210514 (Red Hat 8.5.0-22) Fedora Linux 41 Kernel: 5.15 Compiler: gcc gcc (GCC) 14.3.1 20250523 (Red Hat 14.3.1-1) Ubuntu 24.04 Kernel: 5.15 Compiler: gcc gcc (Ubuntu 13.3.0-6ubuntu2~24.04) 13.3.0 Red Hat Enterprise Linux 9.5 Kernel: 5.15 Compiler: gcc gcc (GCC) 11.5.0 20240719 (Red Hat 11.5.0-2) Debian GNU/Linux 12 Kernel: 5.15 Compiler: gcc gcc (Debian 12.2.0-14+deb12u1) 12.2.0 CentOS Stream 9 Kernel: 5.15 Compiler: gcc gcc (GCC) 11.5.0 20240719 (Red Hat 11.5.0-11) Fedora Linux 42 Kernel: 5.15 Compiler: clang gcc (GCC) 15.2.1 20250808 (Red Hat 15.2.1-1) Ubuntu 22.04 Kernel: 5.15 Compiler: gcc gcc (Ubuntu 11.4.0-1ubuntu1~22.04) 11.4.0 Ubuntu 20.04 Kernel: 5.15 Compiler: gcc gcc (Ubuntu 9.4.0-1ubuntu1~20.04.2) 9.4.0 To view detailed results, visit: https://lab.dpdk.org/results/dashboard/patchsets/34466/ UNH-IOL DPDK Community Lab To manage your email subscriptions, visit: https://lab.dpdk.org/results/dashboard/preferences/subscriptions/