From mboxrd@z Thu Jan 1 00:00:00 1970 Return-Path: Received: from mails.dpdk.org (mails.dpdk.org [217.70.189.124]) by inbox.dpdk.org (Postfix) with ESMTP id 6DC4148A6F for ; Wed, 5 Nov 2025 10:11:21 +0100 (CET) Received: from mails.dpdk.org (localhost [127.0.0.1]) by mails.dpdk.org (Postfix) with ESMTP id 59A4D402D7; Wed, 5 Nov 2025 10:11:21 +0100 (CET) Received: from mail-pl1-f228.google.com (mail-pl1-f228.google.com [209.85.214.228]) by mails.dpdk.org (Postfix) with ESMTP id 91617400D7 for ; Wed, 5 Nov 2025 10:11:20 +0100 (CET) Received: by mail-pl1-f228.google.com with SMTP id d9443c01a7336-28a5b8b12a1so69440975ad.0 for ; Wed, 05 Nov 2025 01:11:20 -0800 (PST) DKIM-Signature: v=1; a=rsa-sha256; c=relaxed/relaxed; d=iol.unh.edu; s=unh-iol; t=1762333880; x=1762938680; darn=dpdk.org; h=cc:to:from:subject:message-id:date:from:to:cc:subject:date :message-id:reply-to; bh=g/bTaKUHvyTkobAQf002FQ/LdSe6s+J14u3A43pLEUg=; b=HvPUGgvMnZxrvAeGQMV30gUk5t9YrWT4wXBn7YmPx3CksvMP+Qp5C5zYv1hcjfTBQg Qc9AuRkWKQ8/FI5nBDRbuh9I5MnEcxezIlNd7Hf6ZfEg+ZXM+RV81CbT+NjUSgfxA4bm 9m890eWV4+1xeSn16ojRMTnKomm4g7mBDjimo= X-Google-DKIM-Signature: v=1; a=rsa-sha256; c=relaxed/relaxed; d=1e100.net; s=20230601; t=1762333880; x=1762938680; h=cc:to:from:subject:message-id:date:x-gm-message-state:from:to:cc :subject:date:message-id:reply-to; bh=g/bTaKUHvyTkobAQf002FQ/LdSe6s+J14u3A43pLEUg=; b=att4vdi82gIBqY3g2YQFUEbDW+bDpjX7YLjJbTXNvcny+Wig6W3YnsSltuGVqpyW72 NusKhVw0A/wWeJATL/vvDXEwiYXzUjmdCdDQniuGxzDqLiUJYKhMtxuD22i8PPDl4JDe surwYG2pEDPgnzEaPrzVKUJLeszIkgbxwA03VbJpXEDkowCtvETFovUdIj7AezygqeRo wIP1ASZIQWNUhyBt1x2fkFYUOBk7zPsh5mKGVOavAX/m1ZTgHFYukoL4WgHL0yBVAN4+ QjyFdiH2PpbpiIPGCKRBAkIz1rDobLiymi6F5rB8+6SbXLFNlxF+4XhbZiOVCW4lE1bB Bbww== X-Gm-Message-State: AOJu0Ywf1mPZfWeBaJlYW5KR0UysXYYkGUVbVi/dJrJXilbDiZVZXE4b ZZMYAnXLlYa6obAgEhtwfbbaRF8zBarXWChqAGLEdgILRP1fuF8RKMg0I3D64TioTXYMlraW4E2 7D0K4cqoaGO/Hj88zsSpVMPrkI/re6WCKmU/k X-Gm-Gg: ASbGnctiFqS2aFhonQwXKFke0JGkhSu8XTzmzScnCvL46dQ6pFWeSALHWo2jJ8w0FCN vDTKcTEs4bCik9NRNCkxfQOcVZzLpkptiVwwoWrzT/GDmp7gCcvrMBeFeqy/ThgY3LmSqC4hiqT hp9iT1NhnxpX/iIRQZepCnNL86Br9GM875awr5bFr61CRf9xmdmhA32JIH6QIDpMtZ4acExMgHa gmKV+kZxtj1M4ACxKArESlLUmqehVmEZQZFYH3To/OpABIiWTWz/4pE6B76rWLO9Lko/3rB9jtB zdR759iJCpAJzxvISRJR4+OW8ShgURjfsoiUOiB3BMMm3EQv9oAEZG5b7wCgp9V7fqQIVaWmrdr LY9L7Oj5opY3BAGDLjctUcTJaPpfFw6k= X-Google-Smtp-Source: AGHT+IFiC0sX/GNThsYL/tpIufybP6ZNro4N34vtMuWNbG4BloBjxCczJh41eYk6PioGWNgzyogEVooZg3MH X-Received: by 2002:a17:903:2b0e:b0:295:9cb5:ae07 with SMTP id d9443c01a7336-2962ada6b92mr32726265ad.38.1762333879727; Wed, 05 Nov 2025 01:11:19 -0800 (PST) Received: from postal.iol.unh.edu (postal.iol.unh.edu. [132.177.123.84]) by smtp-relay.gmail.com with ESMTPS id d9443c01a7336-29601a7328csm4573055ad.66.2025.11.05.01.11.19 (version=TLS1_2 cipher=ECDHE-ECDSA-AES128-GCM-SHA256 bits=128/128); Wed, 05 Nov 2025 01:11:19 -0800 (PST) X-Relaying-Domain: iol.unh.edu Date: Wed, 05 Nov 2025 01:11:19 -0800 (PST) Message-ID: <690b14b7.170a0220.36e2c4.8661SMTPIN_ADDED_MISSING@mx.google.com> Received: from [172.21.0.10] (unknown [172.18.0.240]) by postal.iol.unh.edu (Postfix) with ESMTP id 9E19D6051830; Wed, 5 Nov 2025 04:11:18 -0500 (EST) Subject: |SUCCESS| [GIT MASTER] 9784db2c5af1eecd02fc21132b59b5b266039b87 From: dpdklab@iol.unh.edu To: Test Report Cc: dpdk-test-reports@iol.unh.edu, Xueming Li , Christian Ehrhardt , Kevin Traynor , Luca Boccassi Content-Type: text/plain X-BeenThere: test-report@dpdk.org X-Mailman-Version: 2.1.29 Precedence: list List-Id: automatic DPDK test reports List-Unsubscribe: , List-Archive: List-Post: List-Help: List-Subscribe: , Errors-To: test-report-bounces@dpdk.org _Testing PASS_ Branch: tags/v22.11 9784db2c5af1eecd02fc21132b59b5b266039b87 --> testing pass Upstream job id: Generic-DPDK-Compile-Meson#440858 Test environment and result as below: +------------------------------+--------------------+ | Environment | dpdk_meson_compile | +==============================+====================+ | CentOS Stream 10 | PASS | +------------------------------+--------------------+ | Red Hat Enterprise Linux 9.5 | PASS | +------------------------------+--------------------+ | Ubuntu 20.04 | PASS | +------------------------------+--------------------+ | Debian GNU/Linux 12 | PASS | +------------------------------+--------------------+ | Fedora Linux 42 | PASS | +------------------------------+--------------------+ | Ubuntu 22.04 | PASS | +------------------------------+--------------------+ | CentOS Stream 9 | PASS | +------------------------------+--------------------+ | Ubuntu 24.04 | PASS | +------------------------------+--------------------+ CentOS Stream 10 Kernel: 5.4 Compiler: gcc gcc (GCC) 14.2.1 20250110 (Red Hat 14.2.1-8) Red Hat Enterprise Linux 9.5 Kernel: 5.4 Compiler: gcc gcc (GCC) 11.5.0 20240719 (Red Hat 11.5.0-2) Ubuntu 20.04 Kernel: 5.4 Compiler: gcc gcc (Ubuntu 9.4.0-1ubuntu1~20.04.2) 9.4.0 Debian GNU/Linux 12 Kernel: 5.4 Compiler: gcc gcc (Debian 12.2.0-14+deb12u1) 12.2.0 Fedora Linux 42 Kernel: 5.4 Compiler: clang gcc (GCC) 15.2.1 20250808 (Red Hat 15.2.1-1) Ubuntu 22.04 Kernel: 5.4 Compiler: gcc gcc (Ubuntu 11.4.0-1ubuntu1~22.04) 11.4.0 CentOS Stream 9 Kernel: 5.4 Compiler: gcc gcc (GCC) 11.5.0 20240719 (Red Hat 11.5.0-11) Ubuntu 24.04 Kernel: 5.4 Compiler: gcc gcc (Ubuntu 13.3.0-6ubuntu2~24.04) 13.3.0 To view detailed results, visit: https://lab.dpdk.org/results/dashboard/tarballs/35456/ UNH-IOL DPDK Community Lab To manage your email subscriptions, visit: https://lab.dpdk.org/results/dashboard/preferences/subscriptions/