From mboxrd@z Thu Jan 1 00:00:00 1970 Return-Path: Received: from mails.dpdk.org (mails.dpdk.org [217.70.189.124]) by inbox.dpdk.org (Postfix) with ESMTP id D1F9948A6F for ; Wed, 5 Nov 2025 10:43:54 +0100 (CET) Received: from mails.dpdk.org (localhost [127.0.0.1]) by mails.dpdk.org (Postfix) with ESMTP id AD837400D7; Wed, 5 Nov 2025 10:43:54 +0100 (CET) Received: from mail-il1-f225.google.com (mail-il1-f225.google.com [209.85.166.225]) by mails.dpdk.org (Postfix) with ESMTP id BCC1B400D7 for ; Wed, 5 Nov 2025 10:43:52 +0100 (CET) Received: by mail-il1-f225.google.com with SMTP id e9e14a558f8ab-43326c74e19so14795685ab.1 for ; Wed, 05 Nov 2025 01:43:52 -0800 (PST) DKIM-Signature: v=1; a=rsa-sha256; c=relaxed/relaxed; d=iol.unh.edu; s=unh-iol; t=1762335832; x=1762940632; darn=dpdk.org; h=references:in-reply-to:cc:to:from:subject:message-id:date:from:to :cc:subject:date:message-id:reply-to; bh=2etTGN9WLTBL51n4JQObGoR9ZbzXEpjAw3L6MavOLWo=; b=AGvWmpKzuAYB+xPhUMeONAAy9Q5lnha0xPMxZuigiD3+4qc0sSMgQ8ALD51q+b/Bfe 8EqzgcbiXoayHBupvHz1di2GDHLGTYfyuDe2dS1RGSXnVMAxXjfm602ah4XYXadxNQ/m u8tgayeMt7yND0Etk+NLSAosqLhklruYfQCHM= X-Google-DKIM-Signature: v=1; a=rsa-sha256; c=relaxed/relaxed; d=1e100.net; s=20230601; t=1762335832; x=1762940632; h=references:in-reply-to:cc:to:from:subject:message-id:date :x-gm-message-state:from:to:cc:subject:date:message-id:reply-to; bh=2etTGN9WLTBL51n4JQObGoR9ZbzXEpjAw3L6MavOLWo=; b=iFFIY5QlsZTbaLztCr8C+jVexNSNrUUFdQwbVh/pDohMrpcyrSCcTgrj3G9dJe6a7E iGX5jGGFRX8SL6/hzDKlXpqGr3tyL2EFYHLzfAw0qJPirizKDeWYTHPTL8fbLpCcsEZ0 TBFAKxHjf7dpYVTFeAAgLAYkxkaChDuIO9S6DeXJ2kmC82O99swrUzhepA1uIF3mKvUr jmwMVehm89qX8l7YdJfg11bm+RdxVkbP2Idx5wsZd7u41ID3B0o7WLZPuQkj6sq9DC4B vEvyu8cYOS0VqH9YG+aFUqlWOyB0di+SNB7psSAm9RFOMAD+U6Yy039yrnNRzJmtJU6E vtbg== X-Gm-Message-State: AOJu0Yym8kxJzJabvBswofNF30eBAv+rbSolOi0oJLTt95g9fdAeu09E N/wuATuQ88tI5VsKFghqkDLakF/beX4vJPZsSSBzEkBhLO/jRcj8FIP853RZvfy8l98M14HRWhP XRdvtgfApgVwxQxQKGk9RgRDoI1Yfd9azsKoJ7jhMjOWeU5eK5Lk0zWJqFsPM X-Gm-Gg: ASbGncttXq6MmeMMRSmAZaE8ie8dFs9cRSYVf+JRQKuhdLVhEEjwMpsCXLiFYLdLg84 q3EyBmR8/x5Wg4Cx8lgtbTtj3MkKYkrLvKcUlTNNLqjzHpMIV9HkYLyMopmAp/Qj8WaFZBx/6Jp jxzJS6gYngZlGjTeJQIPCE0hyoLd3QFs8Y+WfBHjlgTstjpogtE/Q+ceqOJ31pDnLLuG3B45gV7 PujQxR+cUVQE0AH6LayobXwFcVzFiyVOIiQNYZWminYGscCML8JUiVnKUTGEEJmMt5lr26yx1Xi 9x0ubd8QaECRpE/40S2wFp/EdsOOFordsFn8p1wnCsRM0CvZ9jl76lldm8YlNtWYQMZtj415AF3 nnO2f6ytm X-Google-Smtp-Source: AGHT+IFf7eindqFYdbQSkbkEd7PxJFAWpsClq02IxQFZ1mETZh+Ii5itANh7C1ME28DkOjGfz7uTYp2vZ1jC X-Received: by 2002:a05:6e02:1a8b:b0:433:2dd5:f571 with SMTP id e9e14a558f8ab-433407eb3bcmr36832335ab.25.1762335832007; Wed, 05 Nov 2025 01:43:52 -0800 (PST) Received: from postal.iol.unh.edu (postal.iol.unh.edu. [2606:4100:3880:1234::84]) by smtp-relay.gmail.com with ESMTPS id e9e14a558f8ab-43335b54d70sm4633405ab.32.2025.11.05.01.43.51 (version=TLS1_2 cipher=ECDHE-ECDSA-AES128-GCM-SHA256 bits=128/128); Wed, 05 Nov 2025 01:43:52 -0800 (PST) X-Relaying-Domain: iol.unh.edu Date: Wed, 05 Nov 2025 01:43:52 -0800 (PST) Message-ID: <690b1c57.050a0220.21bfb3.9227SMTPIN_ADDED_MISSING@mx.google.com> Received: from [172.21.0.3] (unknown [172.18.0.240]) by postal.iol.unh.edu (Postfix) with ESMTP id 97C1A6051830; Wed, 5 Nov 2025 04:43:51 -0500 (EST) Subject: |SUCCESS| pw158449 [PATCH] [v2] ci: switch testing to Fedora 43 in G From: dpdklab@iol.unh.edu To: Test Report Cc: dpdk-test-reports@iol.unh.edu In-Reply-To: <20251105074547.3760605-1-david.marchand@redhat.com> References: <20251105074547.3760605-1-david.marchand@redhat.com> Content-Type: text/plain X-BeenThere: test-report@dpdk.org X-Mailman-Version: 2.1.29 Precedence: list List-Id: automatic DPDK test reports List-Unsubscribe: , List-Archive: List-Post: List-Help: List-Subscribe: , Errors-To: test-report-bounces@dpdk.org Test-Label: iol-compile-amd64-testing Test-Status: SUCCESS http://dpdk.org/patch/158449 _Testing PASS_ Submitter: David Marchand Date: Wednesday, November 05 2025 07:45:47 DPDK git baseline: Repo:dpdk Branch: master CommitID:8887f57cd71e47fa487b8d37c421fba897f7c7ee 158449 --> testing pass Upstream job id: Windows-Compile-DPDK-Native#32127 Test environment and result as below: +-------------------------------+--------------------+------------------+-------------------+-------------------------+ | Environment | dpdk_meson_compile | dpdk_compile_ovs | dpdk_msvc_compile | dpdk_llvm_clang_compile | +===============================+====================+==================+===================+=========================+ | Debian GNU/Linux 12 | PASS | SKIPPED | SKIPPED | SKIPPED | +-------------------------------+--------------------+------------------+-------------------+-------------------------+ | CentOS Stream 10 | PASS | SKIPPED | SKIPPED | SKIPPED | +-------------------------------+--------------------+------------------+-------------------+-------------------------+ | Fedora Linux 42 | PASS | PASS | SKIPPED | SKIPPED | +-------------------------------+--------------------+------------------+-------------------+-------------------------+ | CentOS Stream 9 | PASS | SKIPPED | SKIPPED | SKIPPED | +-------------------------------+--------------------+------------------+-------------------+-------------------------+ | Red Hat Enterprise Linux 8.10 | PASS | SKIPPED | SKIPPED | SKIPPED | +-------------------------------+--------------------+------------------+-------------------+-------------------------+ | Ubuntu 20.04 | PASS | SKIPPED | SKIPPED | SKIPPED | +-------------------------------+--------------------+------------------+-------------------+-------------------------+ | Ubuntu 22.04 | PASS | SKIPPED | SKIPPED | SKIPPED | +-------------------------------+--------------------+------------------+-------------------+-------------------------+ | Red Hat Enterprise Linux 9.5 | PASS | SKIPPED | SKIPPED | SKIPPED | +-------------------------------+--------------------+------------------+-------------------+-------------------------+ | FreeBSD 14.2 | PASS | SKIPPED | SKIPPED | SKIPPED | +-------------------------------+--------------------+------------------+-------------------+-------------------------+ | Ubuntu 24.04 | PASS | PASS | SKIPPED | SKIPPED | +-------------------------------+--------------------+------------------+-------------------+-------------------------+ | openSUSE Leap 15.6 | PASS | SKIPPED | SKIPPED | SKIPPED | +-------------------------------+--------------------+------------------+-------------------+-------------------------+ | Alpine Linux 3.22.0 | PASS | SKIPPED | SKIPPED | SKIPPED | +-------------------------------+--------------------+------------------+-------------------+-------------------------+ | Windows Server 2022 | SKIPPED | SKIPPED | PASS | PASS | +-------------------------------+--------------------+------------------+-------------------+-------------------------+ Debian GNU/Linux 12 Kernel: 5.15 Compiler: gcc gcc (Debian 12.2.0-14+deb12u1) 12.2.0 CentOS Stream 10 Kernel: 5.15 Compiler: gcc gcc (GCC) 14.2.1 20250110 (Red Hat 14.2.1-8) Fedora Linux 42 Kernel: 5.15 Compiler: clang gcc (GCC) 15.2.1 20250808 (Red Hat 15.2.1-1) CentOS Stream 9 Kernel: 5.15 Compiler: gcc gcc (GCC) 11.5.0 20240719 (Red Hat 11.5.0-11) Red Hat Enterprise Linux 8.10 Kernel: 5.15 Compiler: gcc gcc (GCC) 8.5.0 20210514 (Red Hat 8.5.0-22) Ubuntu 20.04 Kernel: 5.15 Compiler: gcc gcc (Ubuntu 9.4.0-1ubuntu1~20.04.2) 9.4.0 Ubuntu 22.04 Kernel: 5.15 Compiler: gcc gcc (Ubuntu 11.4.0-1ubuntu1~22.04) 11.4.0 Red Hat Enterprise Linux 9.5 Kernel: 5.15 Compiler: gcc gcc (GCC) 11.5.0 20240719 (Red Hat 11.5.0-2) FreeBSD 14.2 Kernel: 14.2-RELEASE Compiler: clang 18.1.6 Ubuntu 24.04 Kernel: 5.15 Compiler: gcc gcc (Ubuntu 13.3.0-6ubuntu2~24.04) 13.3.0 openSUSE Leap 15.6 Kernel: 5.15 Compiler: gcc gcc (SUSE Linux) 7.5.0 Alpine Linux 3.22.0 Kernel: 5.15 Compiler: gcc gcc (Alpine 14.2.0) 14.2.0 Windows Server 2022 Kernel: 10.0.20348.2031 Compiler: clang 15.0.7, gcc 14.1.0 (MinGW), and MSVC VS 19.39.33521 To view detailed results, visit: https://lab.dpdk.org/results/dashboard/patchsets/34466/ UNH-IOL DPDK Community Lab To manage your email subscriptions, visit: https://lab.dpdk.org/results/dashboard/preferences/subscriptions/