From mboxrd@z Thu Jan 1 00:00:00 1970 Return-Path: Received: from mails.dpdk.org (mails.dpdk.org [217.70.189.124]) by inbox.dpdk.org (Postfix) with ESMTP id EC85148A6F for ; Wed, 5 Nov 2025 10:48:02 +0100 (CET) Received: from mails.dpdk.org (localhost [127.0.0.1]) by mails.dpdk.org (Postfix) with ESMTP id 6D3A340697; Wed, 5 Nov 2025 10:48:02 +0100 (CET) Received: from mail-il1-f227.google.com (mail-il1-f227.google.com [209.85.166.227]) by mails.dpdk.org (Postfix) with ESMTP id 093D74068A for ; Wed, 5 Nov 2025 10:48:01 +0100 (CET) Received: by mail-il1-f227.google.com with SMTP id e9e14a558f8ab-43326c74911so16511715ab.2 for ; Wed, 05 Nov 2025 01:48:00 -0800 (PST) DKIM-Signature: v=1; a=rsa-sha256; c=relaxed/relaxed; d=iol.unh.edu; s=unh-iol; t=1762336080; x=1762940880; darn=dpdk.org; h=cc:to:from:subject:message-id:date:from:to:cc:subject:date :message-id:reply-to; bh=ZqzPdo/6aFTRC4ImQgFONm+fnSgfJQSDaopONM3+8xw=; b=i9QCIG92vuH8DeyTacXlsfcieVLnaomvYOuM5ZexvkXSUJvVJA8PVk4ZEG3z9vXROK 3wFl06isXwK/I/wYSUdp/OWb23TvK1AQocyQt/j/W73J5BlNIetFefBNYsleUxDRyKSl /r/jL+DNb6UzIy0UMdTirNftHP7gdjq5ZA5MM= X-Google-DKIM-Signature: v=1; a=rsa-sha256; c=relaxed/relaxed; d=1e100.net; s=20230601; t=1762336080; x=1762940880; h=cc:to:from:subject:message-id:date:x-gm-message-state:from:to:cc :subject:date:message-id:reply-to; bh=ZqzPdo/6aFTRC4ImQgFONm+fnSgfJQSDaopONM3+8xw=; b=LVNbSOu5vxXmM8jDXaZow2DyY5lzyPjDpiQ8renx7iATZ9zygMa2Bl3+ZtCxi2wxWu 4n/zvA0M0JRV7yjbwhoIvIFv/QR63udKTY6Bvcbo6ggty1xbE6EXa4ybFNIye0VsKDXn xJBjof+ac9t7uMqIuGFc6D+7u9Wn0CnZ5SmW1N1n11Az8WcHJ0Pm6SRhxtLjiyBY1oOo 3GkvaU2Eo9UysP5C22nTR7dnsAdKkElyKY64qn+OV0A7iQXTv/ZQS1khnwS1oMAa4goH OhzFa9ycTZ9WJkxX8QIQCAzkhO3YW1phV5WBsYcESQo27cUicNxhnnafiTmNf/c0F8Vk v8jw== X-Gm-Message-State: AOJu0YxyRn0QWen9o2KGHdSz+zigLrSgDyTR9xLez+sP7nGIeWQ/9NCi D+CHL5Ar05V6p8iv7cw9CfwJD7Lkx8KR2n6YF+ASCnE4XvwmVAXnn0iz7MctSzj0PnYsVwoaZT2 E96g93WLk88zcepYq9pnRUf9Vz6I+hHfQTnqHTkHdZHfcKw+pdFFh X-Gm-Gg: ASbGncvyX5vM/x7SAnUCmqJnJ9sEQPekS9egLY/k3UF/8aRn/gEM6WycKamImLgQAZs MNdUPy1GWskKH/HNaKNt9aX1JE7jXHMvcCE60N8i4DPWbcwuJ51880QTL96DkyN9b1o/1YuUrJl QDMKSP7PBX8ApPuNT2wXvN7oXzMIJdQKRQ4NVLXo1qr5EhfM4N+KjAOcJjO++AMKymDGS4zlBtH hXFFbrN9VZPY8NMr/gALWRdxo6G0B5tqytPo0PMJcBid31LuL45UZUUS8YlgtCJmtT1kTaKskhy VY8tGRCJwVlJ1X1dYz8XZSiXKIEqrfMYF7LKbFRIq1YkW+ocLu6fWo/0wvGxRrZ4qOJE17gTaFj eauUMAykC X-Google-Smtp-Source: AGHT+IH/RW5xZzp1mOVfv6ARKpAOPXOW1re5uTN7lex4ou0WuEDEiRBR0jNglno3sMXHJeSdksk93lYTGF4Z X-Received: by 2002:a05:6e02:1606:b0:433:305c:17af with SMTP id e9e14a558f8ab-43340759956mr35138675ab.3.1762336080310; Wed, 05 Nov 2025 01:48:00 -0800 (PST) Received: from postal.iol.unh.edu (postal.iol.unh.edu. [2606:4100:3880:1234::84]) by smtp-relay.gmail.com with ESMTPS id e9e14a558f8ab-43335aac3a5sm4754555ab.15.2025.11.05.01.48.00 (version=TLS1_2 cipher=ECDHE-ECDSA-AES128-GCM-SHA256 bits=128/128); Wed, 05 Nov 2025 01:48:00 -0800 (PST) X-Relaying-Domain: iol.unh.edu Date: Wed, 05 Nov 2025 01:48:00 -0800 (PST) Message-ID: <690b1d50.050a0220.1baa80.a237SMTPIN_ADDED_MISSING@mx.google.com> Received: from [172.21.0.3] (unknown [172.18.0.240]) by postal.iol.unh.edu (Postfix) with ESMTP id BFAE460003E7; Wed, 5 Nov 2025 04:47:59 -0500 (EST) Subject: |SUCCESS| [GIT MASTER] b287e404643aeab5bb5db084c142789df187844e From: dpdklab@iol.unh.edu To: Test Report Cc: dpdk-test-reports@iol.unh.edu, Xueming Li , Christian Ehrhardt , Kevin Traynor , Luca Boccassi Content-Type: text/plain X-BeenThere: test-report@dpdk.org X-Mailman-Version: 2.1.29 Precedence: list List-Id: automatic DPDK test reports List-Unsubscribe: , List-Archive: List-Post: List-Help: List-Subscribe: , Errors-To: test-report-bounces@dpdk.org _Testing PASS_ Branch: tags/v24.11 b287e404643aeab5bb5db084c142789df187844e --> testing pass Upstream job id: Generic-DPDK-Compile-Meson#440822 Test environment and result as below: +------------------------------+--------------------+ | Environment | dpdk_meson_compile | +==============================+====================+ | Ubuntu 22.04 | PASS | +------------------------------+--------------------+ | Debian GNU/Linux 12 | PASS | +------------------------------+--------------------+ | Ubuntu 20.04 | PASS | +------------------------------+--------------------+ | Red Hat Enterprise Linux 9.5 | PASS | +------------------------------+--------------------+ | CentOS Stream 9 | PASS | +------------------------------+--------------------+ | Ubuntu 24.04 | PASS | +------------------------------+--------------------+ | CentOS Stream 10 | PASS | +------------------------------+--------------------+ | Fedora Linux 42 | PASS | +------------------------------+--------------------+ Ubuntu 22.04 Kernel: 5.4 Compiler: gcc gcc (Ubuntu 11.4.0-1ubuntu1~22.04) 11.4.0 Debian GNU/Linux 12 Kernel: 5.4 Compiler: gcc gcc (Debian 12.2.0-14+deb12u1) 12.2.0 Ubuntu 20.04 Kernel: 5.15 Compiler: aarch64-linux-gnu-gcc gcc (Ubuntu 9.4.0-1ubuntu1~20.04.2) 9.4.0 Red Hat Enterprise Linux 9.5 Kernel: 5.4 Compiler: gcc gcc (GCC) 11.5.0 20240719 (Red Hat 11.5.0-2) CentOS Stream 9 Kernel: 5.4 Compiler: gcc gcc (GCC) 11.5.0 20240719 (Red Hat 11.5.0-11) Ubuntu 24.04 Kernel: 5.4 Compiler: gcc gcc (Ubuntu 13.3.0-6ubuntu2~24.04) 13.3.0 CentOS Stream 10 Kernel: 5.4 Compiler: gcc gcc (GCC) 14.2.1 20250110 (Red Hat 14.2.1-8) Fedora Linux 42 Kernel: 5.4 Compiler: gcc gcc (GCC) 15.2.1 20250808 (Red Hat 15.2.1-1) To view detailed results, visit: https://lab.dpdk.org/results/dashboard/tarballs/35457/ UNH-IOL DPDK Community Lab To manage your email subscriptions, visit: https://lab.dpdk.org/results/dashboard/preferences/subscriptions/