From mboxrd@z Thu Jan 1 00:00:00 1970 Return-Path: Received: from mails.dpdk.org (mails.dpdk.org [217.70.189.124]) by inbox.dpdk.org (Postfix) with ESMTP id 66AB948A6F for ; Wed, 5 Nov 2025 10:54:26 +0100 (CET) Received: from mails.dpdk.org (localhost [127.0.0.1]) by mails.dpdk.org (Postfix) with ESMTP id 356AB4065E; Wed, 5 Nov 2025 10:54:26 +0100 (CET) Received: from mail-qv1-f100.google.com (mail-qv1-f100.google.com [209.85.219.100]) by mails.dpdk.org (Postfix) with ESMTP id 6E77D402C4 for ; Wed, 5 Nov 2025 10:54:25 +0100 (CET) Received: by mail-qv1-f100.google.com with SMTP id 6a1803df08f44-8804ca2a730so59430346d6.2 for ; Wed, 05 Nov 2025 01:54:25 -0800 (PST) DKIM-Signature: v=1; a=rsa-sha256; c=relaxed/relaxed; d=iol.unh.edu; s=unh-iol; t=1762336465; x=1762941265; darn=dpdk.org; h=references:in-reply-to:cc:to:from:subject:message-id:date:from:to :cc:subject:date:message-id:reply-to; bh=k6w/+8yl2pDd3gXVGRmBzQUkElNDgUcR84bMXcGE9iI=; b=MjBuP1VClo/4deAltdU8ToAFv/EsyXzztis0jWUN9beNnL7KcIxYDTaLpwNxzFULiY gPmuHvqiC9MM4GAvYjteg+YwKwTr6KIU7AOxNRo8yuJonp1rdfUegun2CpnD+eNdqVhs 63fLyb5l5X4iLpAtBr+uk2G8rjQjsxgQlk1EA= X-Google-DKIM-Signature: v=1; a=rsa-sha256; c=relaxed/relaxed; d=1e100.net; s=20230601; t=1762336465; x=1762941265; h=references:in-reply-to:cc:to:from:subject:message-id:date :x-gm-message-state:from:to:cc:subject:date:message-id:reply-to; bh=k6w/+8yl2pDd3gXVGRmBzQUkElNDgUcR84bMXcGE9iI=; b=Swbz8qYjroiTl3Nb9H/8bPW1gan1Qii4Sp/OuRYcOpzkYDpb3+V39Tv58ACa4fLQ4h bmeXPcq5wZclmTfGeK/i9bdje6pxWqxJY+tRqv+7mE9vl9cz4pNwfYnol4Nw/9IMiobK pbikXd6bTo2kV4pLre3Q5F1b0qpQhRggAZ53F/koW0cHOIHlwaZzuzUBi+dCmyNsKwVn 7sgaFe/8YaQQPRsDkFxDVGNfP+kHPelgcATF9bj4/USD+kTWWSlJD3tKQxAFu93N8jHy B+1ESJOAXObwURCwPkgupBYDTomrmX1iyi21yI0cfBGPQ+2bhxHgJtSPbGsL5bWaspR8 12Vw== X-Gm-Message-State: AOJu0Yx+MU1K45s/Sl2mdw4/Iku+aZ4eLUgq21n+xXNmmPZJIjVBiUfw WyKxinCUTFleLtur4PPwCEITL4dV+8130HqGjpBkge2q8ZgEmhMvj+mBqwzI/AL15Nb2IBOKMVc +KPKTYtdLwUWQBOfC+j3u0genCHVc87StAVsThTzFuDJl X-Gm-Gg: ASbGncvhGlnTt7Q1FIRr0y71P9qCmwVrYmIXcEjOId5zrL7Ai1BhG6pStronXt0PeoN EwUPVaCeRNu2JhJrhrjF6r/a5TprEvbUJ7tuadl6qFUPsI1R1/F0RDYdZ6n9lTysq0X1q7rp/XQ 2gg/QlW6nMJasQ1mK2igkdsZjO47O5HU91FY5Pc+3MPisYZcQ9ZYmcB7nJVP4am4Y4UYnEUM2bI xsV4PwO6CblOU+OQoCxX20PMCxDwQ5vnzbcVm5tZ/6QlT8WLV92XO579/g481V1JNdyeLUDQktd LIX4qbtYdfiegoInytGeiS4d/hOS9r1xgJmsM9nErRVgrFZJWRnxtkQhakYgAVpv2vP/Tj6Q5bI uu2rqvjaLxUwqztg2CuO9TU55h2i2znQ= X-Google-Smtp-Source: AGHT+IFSguwcXoAxOfirp+Vuw1fpCK57Mu3WekruLxNRNMzImSt2GF7fSztyamtQP9Jk2ByI/TErPCI6udDK X-Received: by 2002:a05:6214:248e:b0:880:4ab8:4ae9 with SMTP id 6a1803df08f44-88071197eddmr35661936d6.60.1762336464775; Wed, 05 Nov 2025 01:54:24 -0800 (PST) Received: from postal.iol.unh.edu (postal.iol.unh.edu. [132.177.123.84]) by smtp-relay.gmail.com with ESMTPS id 6a1803df08f44-88060e4a723sm5249366d6.20.2025.11.05.01.54.24 (version=TLS1_2 cipher=ECDHE-ECDSA-AES128-GCM-SHA256 bits=128/128); Wed, 05 Nov 2025 01:54:24 -0800 (PST) X-Relaying-Domain: iol.unh.edu Date: Wed, 05 Nov 2025 01:54:24 -0800 (PST) Message-ID: <690b1ed0.050a0220.44f80.c81cSMTPIN_ADDED_MISSING@mx.google.com> Received: from [172.21.0.5] (unknown [172.18.0.240]) by postal.iol.unh.edu (Postfix) with ESMTP id 80BB56051835; Wed, 5 Nov 2025 04:54:24 -0500 (EST) Subject: |SUCCESS| pw158449 [PATCH] [v2] ci: switch testing to Fedora 43 in G From: dpdklab@iol.unh.edu To: Test Report Cc: dpdk-test-reports@iol.unh.edu In-Reply-To: <20251105074547.3760605-1-david.marchand@redhat.com> References: <20251105074547.3760605-1-david.marchand@redhat.com> Content-Type: text/plain X-BeenThere: test-report@dpdk.org X-Mailman-Version: 2.1.29 Precedence: list List-Id: automatic DPDK test reports List-Unsubscribe: , List-Archive: List-Post: List-Help: List-Subscribe: , Errors-To: test-report-bounces@dpdk.org Test-Label: iol-unit-amd64-testing Test-Status: SUCCESS http://dpdk.org/patch/158449 _Testing PASS_ Submitter: David Marchand Date: Wednesday, November 05 2025 07:45:47 DPDK git baseline: Repo:dpdk Branch: master CommitID:8887f57cd71e47fa487b8d37c421fba897f7c7ee 158449 --> testing pass Upstream job id: Generic-VM-Unit-Test-DPDK#32301 Test environment and result as below: +-------------------------------+----------------+ | Environment | dpdk_unit_test | +===============================+================+ | Fedora Linux 40 | PASS | +-------------------------------+----------------+ | CentOS Stream 10 | PASS | +-------------------------------+----------------+ | Red Hat Enterprise Linux 8.10 | PASS | +-------------------------------+----------------+ | Fedora Linux 41 | PASS | +-------------------------------+----------------+ | Ubuntu 24.04 | PASS | +-------------------------------+----------------+ | Red Hat Enterprise Linux 9.5 | PASS | +-------------------------------+----------------+ | Debian GNU/Linux 12 | PASS | +-------------------------------+----------------+ | CentOS Stream 9 | PASS | +-------------------------------+----------------+ | Fedora Linux 42 | PASS | +-------------------------------+----------------+ | Ubuntu 22.04 | PASS | +-------------------------------+----------------+ | Ubuntu 20.04 | PASS | +-------------------------------+----------------+ | Windows Server 2022 | PASS | +-------------------------------+----------------+ Fedora Linux 40 Kernel: 5.15 Compiler: clang gcc (GCC) 14.2.1 20240912 (Red Hat 14.2.1-3) CentOS Stream 10 Kernel: 5.15 Compiler: gcc gcc (GCC) 14.2.1 20250110 (Red Hat 14.2.1-8) Red Hat Enterprise Linux 8.10 Kernel: 5.15 Compiler: gcc gcc (GCC) 8.5.0 20210514 (Red Hat 8.5.0-22) Fedora Linux 41 Kernel: 5.15 Compiler: gcc gcc (GCC) 14.3.1 20250523 (Red Hat 14.3.1-1) Ubuntu 24.04 Kernel: 5.15 Compiler: gcc gcc (Ubuntu 13.3.0-6ubuntu2~24.04) 13.3.0 Red Hat Enterprise Linux 9.5 Kernel: 5.15 Compiler: gcc gcc (GCC) 11.5.0 20240719 (Red Hat 11.5.0-2) Debian GNU/Linux 12 Kernel: 5.15 Compiler: gcc gcc (Debian 12.2.0-14+deb12u1) 12.2.0 CentOS Stream 9 Kernel: 5.15 Compiler: gcc gcc (GCC) 11.5.0 20240719 (Red Hat 11.5.0-11) Fedora Linux 42 Kernel: 5.15 Compiler: clang gcc (GCC) 15.2.1 20250808 (Red Hat 15.2.1-1) Ubuntu 22.04 Kernel: 5.15 Compiler: gcc gcc (Ubuntu 11.4.0-1ubuntu1~22.04) 11.4.0 Ubuntu 20.04 Kernel: 5.15 Compiler: gcc gcc (Ubuntu 9.4.0-1ubuntu1~20.04.2) 9.4.0 Windows Server 2022 Kernel: 10.0.20348.2031 Compiler: clang 15.0.7, gcc 14.1.0 (MinGW), and MSVC VS 19.39.33521 To view detailed results, visit: https://lab.dpdk.org/results/dashboard/patchsets/34466/ UNH-IOL DPDK Community Lab To manage your email subscriptions, visit: https://lab.dpdk.org/results/dashboard/preferences/subscriptions/