From mboxrd@z Thu Jan 1 00:00:00 1970 Return-Path: Received: from mails.dpdk.org (mails.dpdk.org [217.70.189.124]) by inbox.dpdk.org (Postfix) with ESMTP id 1952B48A6F for ; Wed, 5 Nov 2025 11:12:21 +0100 (CET) Received: from mails.dpdk.org (localhost [127.0.0.1]) by mails.dpdk.org (Postfix) with ESMTP id 12A07400D7; Wed, 5 Nov 2025 11:12:21 +0100 (CET) Received: from mail-yw1-f226.google.com (mail-yw1-f226.google.com [209.85.128.226]) by mails.dpdk.org (Postfix) with ESMTP id 00646400D7 for ; Wed, 5 Nov 2025 11:12:19 +0100 (CET) Received: by mail-yw1-f226.google.com with SMTP id 00721157ae682-780fe76f457so68641507b3.0 for ; Wed, 05 Nov 2025 02:12:19 -0800 (PST) DKIM-Signature: v=1; a=rsa-sha256; c=relaxed/relaxed; d=iol.unh.edu; s=unh-iol; t=1762337539; x=1762942339; darn=dpdk.org; h=references:in-reply-to:cc:to:from:subject:message-id:date:from:to :cc:subject:date:message-id:reply-to; bh=vC5M2T4r0F2SlLbiaPXnR479MBYOram0GDPQa7DRb88=; b=PxqxbgrwTlWTB6xer/uOnZy45voCVQc0SuUXOeeidX9ZSz1gZjkGuLvfLpChDySgAD elicIOIl10WKl5EbbyBasbLhMaPlirSWWAIvOfG/zLz2iKgVrfSwRwAjedt/UXkiRoE0 jpqZnX4YjEcxoMLn8WhTweBpz/c6MxkhrKJhw= X-Google-DKIM-Signature: v=1; a=rsa-sha256; c=relaxed/relaxed; d=1e100.net; s=20230601; t=1762337539; x=1762942339; h=references:in-reply-to:cc:to:from:subject:message-id:date :x-gm-message-state:from:to:cc:subject:date:message-id:reply-to; bh=vC5M2T4r0F2SlLbiaPXnR479MBYOram0GDPQa7DRb88=; b=OEcXxBCT2TiIhC5cQJREda/RzuapYCRU+x6w7viAULmPI5BuYO54mfDNgjhq6PO6QE zDbOlNB7JKn9MOGIfOjU7oDCcUNtCaieofrPIJntNsik5TJEen5v1XzxARBPl5bVrnZq wtYA90dtSSf5clHL2Q8P9r0m+QFEw+Doyi/ABQeivlEmoYfbkWdNC0+tzAP88zibTBYG Zs5G4Y/6YUaRaLh7+HIYyEimLGPiZnEG1ov/7SK6MQSNLpneXCiKCMK4/dhLLfekEp5x iiFHWahXFWptAUCZJbGCZJVOMJjo3YDh+v1RC9wuXRViGXt+I7bmHowmRecCQYyNCbsH heDA== X-Gm-Message-State: AOJu0YzdcBAYBfjwe8GERnBrjdRt9tpSyw85NQ7iPCEZs+Gi5TTqX2Ol Yp03MlE51c59QdftKS0pzMR2YU4VvTRShEnmNfM5JgYo0Nx20uv0hJCpk0MqT8nXelJGfknV6cd sqXuv8oTMWouLJhUxPQs+McHGI8sObHXJ28WIca+4fPpVIS3WW4SWqB1rplkR X-Gm-Gg: ASbGncvIpSTkKYrURHvHmM16JwT4tLWkpCmCZQGYAm0s3xmXObPr4q2mdRXinllTFhO usDPapUL/pXKX3oNSWWiUqhXxrtNYxqv+VxQG+t2SLyfsr0f+9u7NV2BUx5/jXWVaeNaFM7dF1g 818M589+EWEK6aINdeNoK9a4C4iu3aM+/u9+sXmkrE006bAs+L3FT4oLSaMrGv87sUQwrXBgZyw 7PuXx+iMbO4ghUDZcShxCyU538f3BeLivddD6+qywU6j4krpFEWpAyFC6Dzaufo59F+LBFzOUtj aPe+l0qiElYNRqjUg6LUB8HJEamSg3LTrjHVgfR4/0K/EQYGnCNoVOEOtN34poB/6cok8Nk0vHp NNncpWrWs X-Google-Smtp-Source: AGHT+IFCmRpm+8SA0rJVgdL4O77w9YHNgsZ0iCvEAqZZ73cV2B/ngQYR08EBmKHhePv5yU25zBO/1CqRaqnp X-Received: by 2002:a05:690c:350e:b0:786:8331:6a02 with SMTP id 00721157ae682-786a421b732mr39343057b3.69.1762337539328; Wed, 05 Nov 2025 02:12:19 -0800 (PST) Received: from postal.iol.unh.edu (postal.iol.unh.edu. [2606:4100:3880:1234::84]) by smtp-relay.gmail.com with ESMTPS id 956f58d0204a3-63fc9423e4bsm304738d50.3.2025.11.05.02.12.19 (version=TLS1_2 cipher=ECDHE-ECDSA-AES128-GCM-SHA256 bits=128/128); Wed, 05 Nov 2025 02:12:19 -0800 (PST) X-Relaying-Domain: iol.unh.edu Date: Wed, 05 Nov 2025 02:12:19 -0800 (PST) Message-ID: <690b2303.050a0220.1233a8.0df2SMTPIN_ADDED_MISSING@mx.google.com> Received: from [172.21.0.2] (unknown [172.18.0.240]) by postal.iol.unh.edu (Postfix) with ESMTP id 012966051830; Wed, 5 Nov 2025 05:12:19 -0500 (EST) Subject: |SUCCESS| pw158449 [PATCH] [v2] ci: switch testing to Fedora 43 in G From: dpdklab@iol.unh.edu To: Test Report Cc: dpdk-test-reports@iol.unh.edu In-Reply-To: <20251105074547.3760605-1-david.marchand@redhat.com> References: <20251105074547.3760605-1-david.marchand@redhat.com> Content-Type: text/plain X-BeenThere: test-report@dpdk.org X-Mailman-Version: 2.1.29 Precedence: list List-Id: automatic DPDK test reports List-Unsubscribe: , List-Archive: List-Post: List-Help: List-Subscribe: , Errors-To: test-report-bounces@dpdk.org Test-Label: iol-unit-amd64-testing Test-Status: SUCCESS http://dpdk.org/patch/158449 _Testing PASS_ Submitter: David Marchand Date: Wednesday, November 05 2025 07:45:47 DPDK git baseline: Repo:dpdk Branch: master CommitID:8887f57cd71e47fa487b8d37c421fba897f7c7ee 158449 --> testing pass Upstream job id: Generic-VM-Unit-Test-DPDK#32302 Test environment and result as below: +-------------------------------+----------------+ | Environment | dpdk_unit_test | +===============================+================+ | Fedora Linux 40 | PASS | +-------------------------------+----------------+ | CentOS Stream 10 | PASS | +-------------------------------+----------------+ | Red Hat Enterprise Linux 8.10 | PASS | +-------------------------------+----------------+ | Fedora Linux 41 | PASS | +-------------------------------+----------------+ | Ubuntu 24.04 | PASS | +-------------------------------+----------------+ | Red Hat Enterprise Linux 9.5 | PASS | +-------------------------------+----------------+ | Debian GNU/Linux 12 | PASS | +-------------------------------+----------------+ | CentOS Stream 9 | PASS | +-------------------------------+----------------+ | Fedora Linux 42 | PASS | +-------------------------------+----------------+ | Ubuntu 22.04 | PASS | +-------------------------------+----------------+ | Ubuntu 20.04 | PASS | +-------------------------------+----------------+ | Windows Server 2022 | PASS | +-------------------------------+----------------+ Fedora Linux 40 Kernel: 5.15 Compiler: clang gcc (GCC) 14.2.1 20240912 (Red Hat 14.2.1-3) CentOS Stream 10 Kernel: 5.15 Compiler: gcc gcc (GCC) 14.2.1 20250110 (Red Hat 14.2.1-8) Red Hat Enterprise Linux 8.10 Kernel: 5.15 Compiler: gcc gcc (GCC) 8.5.0 20210514 (Red Hat 8.5.0-22) Fedora Linux 41 Kernel: 5.15 Compiler: gcc gcc (GCC) 14.3.1 20250523 (Red Hat 14.3.1-1) Ubuntu 24.04 Kernel: 5.15 Compiler: gcc gcc (Ubuntu 13.3.0-6ubuntu2~24.04) 13.3.0 Red Hat Enterprise Linux 9.5 Kernel: 5.15 Compiler: gcc gcc (GCC) 11.5.0 20240719 (Red Hat 11.5.0-2) Debian GNU/Linux 12 Kernel: 5.15 Compiler: gcc gcc (Debian 12.2.0-14+deb12u1) 12.2.0 CentOS Stream 9 Kernel: 5.15 Compiler: gcc gcc (GCC) 11.5.0 20240719 (Red Hat 11.5.0-11) Fedora Linux 42 Kernel: 5.15 Compiler: clang gcc (GCC) 15.2.1 20250808 (Red Hat 15.2.1-1) Ubuntu 22.04 Kernel: 5.15 Compiler: gcc gcc (Ubuntu 11.4.0-1ubuntu1~22.04) 11.4.0 Ubuntu 20.04 Kernel: 5.15 Compiler: gcc gcc (Ubuntu 9.4.0-1ubuntu1~20.04.2) 9.4.0 Windows Server 2022 Kernel: 10.0.20348.2031 Compiler: clang 15.0.7, gcc 14.1.0 (MinGW), and MSVC VS 19.39.33521 To view detailed results, visit: https://lab.dpdk.org/results/dashboard/patchsets/34466/ UNH-IOL DPDK Community Lab To manage your email subscriptions, visit: https://lab.dpdk.org/results/dashboard/preferences/subscriptions/