From: dpdklab@iol.unh.edu
To: Test Report <test-report@dpdk.org>
Cc: dpdk-test-reports@iol.unh.edu
Subject: |SUCCESS| pw158449 [PATCH] [v2] ci: switch testing to Fedora 43 in G
Date: Wed, 05 Nov 2025 05:18:02 -0800 (PST) [thread overview]
Message-ID: <690b4e8a.0d0a0220.2fe30e.0d8cSMTPIN_ADDED_MISSING@mx.google.com> (raw)
In-Reply-To: <20251105074547.3760605-1-david.marchand@redhat.com>
Test-Label: iol-unit-arm64-testing
Test-Status: SUCCESS
http://dpdk.org/patch/158449
_Testing PASS_
Submitter: David Marchand <david.marchand@redhat.com>
Date: Wednesday, November 05 2025 07:45:47
DPDK git baseline: Repo:dpdk
Branch: master
CommitID:8887f57cd71e47fa487b8d37c421fba897f7c7ee
158449 --> testing pass
Upstream job id: Generic-Unit-Test-DPDK#388733
Test environment and result as below:
+------------------------------+----------------+------------------------------+--------------+---------------------------+
| Environment | dpdk_unit_test | cryptodev_sw_snow3g_autotest | lpm_autotest | cryptodev_sw_zuc_autotest |
+==============================+================+==============================+==============+===========================+
| Fedora Linux 42 | PASS | SKIPPED | SKIPPED | SKIPPED |
+------------------------------+----------------+------------------------------+--------------+---------------------------+
| Ubuntu 22.04 | PASS | SKIPPED | SKIPPED | SKIPPED |
+------------------------------+----------------+------------------------------+--------------+---------------------------+
| Fedora Linux 40 | PASS | SKIPPED | SKIPPED | SKIPPED |
+------------------------------+----------------+------------------------------+--------------+---------------------------+
| CentOS Stream 10 | PASS | SKIPPED | SKIPPED | SKIPPED |
+------------------------------+----------------+------------------------------+--------------+---------------------------+
| CentOS Stream 9 | PASS | SKIPPED | SKIPPED | SKIPPED |
+------------------------------+----------------+------------------------------+--------------+---------------------------+
| Red Hat Enterprise Linux 9.5 | PASS | SKIPPED | SKIPPED | SKIPPED |
+------------------------------+----------------+------------------------------+--------------+---------------------------+
| Ubuntu 20.04 | PASS | SKIPPED | PASS | SKIPPED |
+------------------------------+----------------+------------------------------+--------------+---------------------------+
| Fedora Linux 41 | PASS | SKIPPED | SKIPPED | SKIPPED |
+------------------------------+----------------+------------------------------+--------------+---------------------------+
| Debian GNU/Linux 12 | PASS | SKIPPED | SKIPPED | SKIPPED |
+------------------------------+----------------+------------------------------+--------------+---------------------------+
| Ubuntu 24.04 | PASS | SKIPPED | SKIPPED | SKIPPED |
+------------------------------+----------------+------------------------------+--------------+---------------------------+
| Debian 12 (arm) | SKIPPED | PASS | SKIPPED | PASS |
+------------------------------+----------------+------------------------------+--------------+---------------------------+
Fedora Linux 42
Kernel: 5.4
Compiler: gcc gcc (GCC) 15.2.1 20250808 (Red Hat 15.2.1-1)
Ubuntu 22.04
Kernel: 5.15
Compiler: gcc gcc (Ubuntu 11.4.0-1ubuntu1~22.04.2) 11.4.0
Fedora Linux 40
Kernel: 5.4
Compiler: gcc gcc (GCC) 14.2.1 20240912 (Red Hat 14.2.1-3)
CentOS Stream 10
Kernel: 5.4
Compiler: gcc gcc (GCC) 14.2.1 20250110 (Red Hat 14.2.1-8)
CentOS Stream 9
Kernel: 5.4
Compiler: gcc gcc (GCC) 11.5.0 20240719 (Red Hat 11.5.0-11)
Red Hat Enterprise Linux 9.5
Kernel: 5.4
Compiler: gcc gcc (GCC) 11.5.0 20240719 (Red Hat 11.5.0-2)
Ubuntu 20.04
Kernel: 5.4
Compiler: gcc gcc (Ubuntu 9.4.0-1ubuntu1~20.04.2) 9.4.0
Fedora Linux 41
Kernel: 5.4
Compiler: clang gcc (GCC) 14.3.1 20250523 (Red Hat 14.3.1-1)
Debian GNU/Linux 12
Kernel: 5.4
Compiler: gcc gcc (Debian 12.2.0-14+deb12u1) 12.2.0
Ubuntu 24.04
Kernel: 5.4
Compiler: gcc gcc (Ubuntu 13.3.0-6ubuntu2~24.04) 13.3.0
Debian 12 (arm)
Kernel: Depends on container host
Compiler: gcc (Debian 12.2.0-14) 12.2.0
To view detailed results, visit:
https://lab.dpdk.org/results/dashboard/patchsets/34466/
UNH-IOL DPDK Community Lab
To manage your email subscriptions, visit:
https://lab.dpdk.org/results/dashboard/preferences/subscriptions/
next prev parent reply other threads:[~2025-11-05 13:18 UTC|newest]
Thread overview: 22+ messages / expand[flat|nested] mbox.gz Atom feed top
[not found] <20251105074547.3760605-1-david.marchand@redhat.com>
2025-11-05 7:15 ` |SUCCESS| pw158449 [PATCH v2] ci: switch testing to Fedora 43 in GHA qemudev
2025-11-05 7:20 ` qemudev
2025-11-05 7:46 ` checkpatch
2025-11-05 8:14 ` |PENDING| pw158449 [PATCH] [v2] ci: switch testing to Fedora 43 in G dpdklab
2025-11-05 8:15 ` |SUCCESS| " dpdklab
2025-11-05 8:16 ` |PENDING| " dpdklab
2025-11-05 8:24 ` dpdklab
2025-11-05 8:25 ` |SUCCESS| " dpdklab
2025-11-05 8:36 ` dpdklab
2025-11-05 8:38 ` dpdklab
2025-11-05 8:47 ` |PENDING| " dpdklab
2025-11-05 8:49 ` |SUCCESS| " dpdklab
2025-11-05 9:20 ` dpdklab
2025-11-05 9:21 ` dpdklab
2025-11-05 9:43 ` dpdklab
2025-11-05 9:54 ` dpdklab
2025-11-05 10:08 ` dpdklab
2025-11-05 10:12 ` dpdklab
2025-11-05 13:18 ` dpdklab [this message]
2025-11-05 13:33 ` dpdklab
2025-11-05 16:15 ` dpdklab
2025-11-05 16:31 ` dpdklab
Reply instructions:
You may reply publicly to this message via plain-text email
using any one of the following methods:
* Save the following mbox file, import it into your mail client,
and reply-to-all from there: mbox
Avoid top-posting and favor interleaved quoting:
https://en.wikipedia.org/wiki/Posting_style#Interleaved_style
* Reply using the --to, --cc, and --in-reply-to
switches of git-send-email(1):
git send-email \
--in-reply-to=690b4e8a.0d0a0220.2fe30e.0d8cSMTPIN_ADDED_MISSING@mx.google.com \
--to=dpdklab@iol.unh.edu \
--cc=dpdk-test-reports@iol.unh.edu \
--cc=test-report@dpdk.org \
/path/to/YOUR_REPLY
https://kernel.org/pub/software/scm/git/docs/git-send-email.html
* If your mail client supports setting the In-Reply-To header
via mailto: links, try the mailto: link
Be sure your reply has a Subject: header at the top and a blank line
before the message body.
This is a public inbox, see mirroring instructions
for how to clone and mirror all data and code used for this inbox;
as well as URLs for NNTP newsgroup(s).