From mboxrd@z Thu Jan 1 00:00:00 1970 Return-Path: Received: from mails.dpdk.org (mails.dpdk.org [217.70.189.124]) by inbox.dpdk.org (Postfix) with ESMTP id 2FEE548A71 for ; Wed, 5 Nov 2025 14:18:03 +0100 (CET) Received: from mails.dpdk.org (localhost [127.0.0.1]) by mails.dpdk.org (Postfix) with ESMTP id 2AC8540696; Wed, 5 Nov 2025 14:18:03 +0100 (CET) Received: from mail-yw1-f228.google.com (mail-yw1-f228.google.com [209.85.128.228]) by mails.dpdk.org (Postfix) with ESMTP id A8B0040696 for ; Wed, 5 Nov 2025 14:18:02 +0100 (CET) Received: by mail-yw1-f228.google.com with SMTP id 00721157ae682-7866c61a9bbso35964557b3.1 for ; Wed, 05 Nov 2025 05:18:02 -0800 (PST) DKIM-Signature: v=1; a=rsa-sha256; c=relaxed/relaxed; d=iol.unh.edu; s=unh-iol; t=1762348682; x=1762953482; darn=dpdk.org; h=references:in-reply-to:cc:to:from:subject:message-id:date:from:to :cc:subject:date:message-id:reply-to; bh=96xQPJtHmYIdkYCligufXu1PeSyjtidU95rSFiunWn8=; b=QYjaRqHezJxcZuc3DIfBozIjBn/KPeG2Ds+JYg/D3XtFYYH1pdujY5J5HTOf0nUXr0 xG8lUC13SMrJ6/ZRvinrUdZCla8rPVjAoTqd7muIHjULNGubrixscH3X0mxPedf2poWJ RV/aQHzYXcHrJHqnyo1JWa7xwQi3d12RxBvls= X-Google-DKIM-Signature: v=1; a=rsa-sha256; c=relaxed/relaxed; d=1e100.net; s=20230601; t=1762348682; x=1762953482; h=references:in-reply-to:cc:to:from:subject:message-id:date :x-gm-message-state:from:to:cc:subject:date:message-id:reply-to; bh=96xQPJtHmYIdkYCligufXu1PeSyjtidU95rSFiunWn8=; b=XvGVpnf0SeW2ja1NcA2RJeG/Wl7BAJjY7TUbG4ttFVse5bzo9C0aHQGRnXLxeUEPCf PF1IFD2NvvaA57gTNIbm0i8neKYRDR23OApDtvUj6dX1veyGriXY/Ffea3GUGOnx1Vlr K/3+sYKsIQZIDiTTN1xLNVrtWr1yd0rGgABiw72s4dTkMxy5eQseVCrh7umLTxQzEmq6 td0unDuqqkvA9oCK7N4WleydzM2Dmql40fRbizgyia1nqoQ97ED8GZyBclk8aSAvUJ6H 60+0oNmjb4Ge1H01kY5DmJ0MgLrJmn3oLYTqja13LHDi58oUFtp5RgDw7sMmul2v93SV 5mOw== X-Gm-Message-State: AOJu0Yxb1EbiI68mNGaud5qTAIIkgb/cJ05zT7ieO2EZ8HK3s/H5KCpq p7Em2SoiP7MXCE7s9U2Vj5VWb7IVt/xy5pdsksjOWSK1OgAdCOkY1byEnvC+TWDfAm5n2TL23e4 jtFyuPck5xSG8ZMIY/fItBJLkjYfKn1qQR5tirb36d8iP X-Gm-Gg: ASbGncsJuTU1QF/2FlcfliaJ2uVoT8zYDfhLuekQPgR/0wPdUX4ZPWJO9e5MNbmdtIV i2YNAKJA/jHtrug3lWZ+u39wWjBCZwxLU8lJwP9jqoSPYom0Wpk71KaWtBnwonwHzJrLQ88y2Sv 9rjDlVKBzREYHmQU4nBMfjpKcnw6EqMopNwkhfaUmEUuTKBWYHfuRSa5YIIbHFFj03tAU3B7ipk qQSRgRzA2Pv3wnW//NS0wjHo/X3zXmWFdJHk3Fjx4OG19mjKHiimUgxgjpSJVmFaPATrWYvYDL1 Bga2RduJxo4EZ4RURzpfBNVpSTpeC+41eVMxRHgOrY9Mpzoa2VOjmKRjRzRgn1WeJpWXgHUvzdn cGlvV5SvSSXmHPLTYJG90OPjGV57buGE= X-Google-Smtp-Source: AGHT+IGAxD0dZbIC/ZoHqZvgeu8/fUFSNn5nVBA/GoYBVZUsbaPXawVFLGt+Vw8m6lLSv5XqlfIyuPQhjydd X-Received: by 2002:a05:690e:7c2:b0:63f:a0c6:5357 with SMTP id 956f58d0204a3-63fd34cb7famr1775433d50.19.1762348682085; Wed, 05 Nov 2025 05:18:02 -0800 (PST) Received: from postal.iol.unh.edu (postal.iol.unh.edu. [132.177.123.84]) by smtp-relay.gmail.com with ESMTPS id 00721157ae682-78691c87c47sm3078567b3.9.2025.11.05.05.18.02 (version=TLS1_2 cipher=ECDHE-ECDSA-AES128-GCM-SHA256 bits=128/128); Wed, 05 Nov 2025 05:18:02 -0800 (PST) X-Relaying-Domain: iol.unh.edu Date: Wed, 05 Nov 2025 05:18:02 -0800 (PST) Message-ID: <690b4e8a.0d0a0220.2fe30e.0d8cSMTPIN_ADDED_MISSING@mx.google.com> Received: from [172.21.0.3] (unknown [172.18.0.240]) by postal.iol.unh.edu (Postfix) with ESMTP id B299B6051830; Wed, 5 Nov 2025 08:18:01 -0500 (EST) Subject: |SUCCESS| pw158449 [PATCH] [v2] ci: switch testing to Fedora 43 in G From: dpdklab@iol.unh.edu To: Test Report Cc: dpdk-test-reports@iol.unh.edu In-Reply-To: <20251105074547.3760605-1-david.marchand@redhat.com> References: <20251105074547.3760605-1-david.marchand@redhat.com> Content-Type: text/plain X-BeenThere: test-report@dpdk.org X-Mailman-Version: 2.1.29 Precedence: list List-Id: automatic DPDK test reports List-Unsubscribe: , List-Archive: List-Post: List-Help: List-Subscribe: , Errors-To: test-report-bounces@dpdk.org Test-Label: iol-unit-arm64-testing Test-Status: SUCCESS http://dpdk.org/patch/158449 _Testing PASS_ Submitter: David Marchand Date: Wednesday, November 05 2025 07:45:47 DPDK git baseline: Repo:dpdk Branch: master CommitID:8887f57cd71e47fa487b8d37c421fba897f7c7ee 158449 --> testing pass Upstream job id: Generic-Unit-Test-DPDK#388733 Test environment and result as below: +------------------------------+----------------+------------------------------+--------------+---------------------------+ | Environment | dpdk_unit_test | cryptodev_sw_snow3g_autotest | lpm_autotest | cryptodev_sw_zuc_autotest | +==============================+================+==============================+==============+===========================+ | Fedora Linux 42 | PASS | SKIPPED | SKIPPED | SKIPPED | +------------------------------+----------------+------------------------------+--------------+---------------------------+ | Ubuntu 22.04 | PASS | SKIPPED | SKIPPED | SKIPPED | +------------------------------+----------------+------------------------------+--------------+---------------------------+ | Fedora Linux 40 | PASS | SKIPPED | SKIPPED | SKIPPED | +------------------------------+----------------+------------------------------+--------------+---------------------------+ | CentOS Stream 10 | PASS | SKIPPED | SKIPPED | SKIPPED | +------------------------------+----------------+------------------------------+--------------+---------------------------+ | CentOS Stream 9 | PASS | SKIPPED | SKIPPED | SKIPPED | +------------------------------+----------------+------------------------------+--------------+---------------------------+ | Red Hat Enterprise Linux 9.5 | PASS | SKIPPED | SKIPPED | SKIPPED | +------------------------------+----------------+------------------------------+--------------+---------------------------+ | Ubuntu 20.04 | PASS | SKIPPED | PASS | SKIPPED | +------------------------------+----------------+------------------------------+--------------+---------------------------+ | Fedora Linux 41 | PASS | SKIPPED | SKIPPED | SKIPPED | +------------------------------+----------------+------------------------------+--------------+---------------------------+ | Debian GNU/Linux 12 | PASS | SKIPPED | SKIPPED | SKIPPED | +------------------------------+----------------+------------------------------+--------------+---------------------------+ | Ubuntu 24.04 | PASS | SKIPPED | SKIPPED | SKIPPED | +------------------------------+----------------+------------------------------+--------------+---------------------------+ | Debian 12 (arm) | SKIPPED | PASS | SKIPPED | PASS | +------------------------------+----------------+------------------------------+--------------+---------------------------+ Fedora Linux 42 Kernel: 5.4 Compiler: gcc gcc (GCC) 15.2.1 20250808 (Red Hat 15.2.1-1) Ubuntu 22.04 Kernel: 5.15 Compiler: gcc gcc (Ubuntu 11.4.0-1ubuntu1~22.04.2) 11.4.0 Fedora Linux 40 Kernel: 5.4 Compiler: gcc gcc (GCC) 14.2.1 20240912 (Red Hat 14.2.1-3) CentOS Stream 10 Kernel: 5.4 Compiler: gcc gcc (GCC) 14.2.1 20250110 (Red Hat 14.2.1-8) CentOS Stream 9 Kernel: 5.4 Compiler: gcc gcc (GCC) 11.5.0 20240719 (Red Hat 11.5.0-11) Red Hat Enterprise Linux 9.5 Kernel: 5.4 Compiler: gcc gcc (GCC) 11.5.0 20240719 (Red Hat 11.5.0-2) Ubuntu 20.04 Kernel: 5.4 Compiler: gcc gcc (Ubuntu 9.4.0-1ubuntu1~20.04.2) 9.4.0 Fedora Linux 41 Kernel: 5.4 Compiler: clang gcc (GCC) 14.3.1 20250523 (Red Hat 14.3.1-1) Debian GNU/Linux 12 Kernel: 5.4 Compiler: gcc gcc (Debian 12.2.0-14+deb12u1) 12.2.0 Ubuntu 24.04 Kernel: 5.4 Compiler: gcc gcc (Ubuntu 13.3.0-6ubuntu2~24.04) 13.3.0 Debian 12 (arm) Kernel: Depends on container host Compiler: gcc (Debian 12.2.0-14) 12.2.0 To view detailed results, visit: https://lab.dpdk.org/results/dashboard/patchsets/34466/ UNH-IOL DPDK Community Lab To manage your email subscriptions, visit: https://lab.dpdk.org/results/dashboard/preferences/subscriptions/