From mboxrd@z Thu Jan 1 00:00:00 1970 Return-Path: Received: from mails.dpdk.org (mails.dpdk.org [217.70.189.124]) by inbox.dpdk.org (Postfix) with ESMTP id DEDF348A71 for ; Wed, 5 Nov 2025 14:33:52 +0100 (CET) Received: from mails.dpdk.org (localhost [127.0.0.1]) by mails.dpdk.org (Postfix) with ESMTP id B907A4021F; Wed, 5 Nov 2025 14:33:52 +0100 (CET) Received: from mail-pl1-f225.google.com (mail-pl1-f225.google.com [209.85.214.225]) by mails.dpdk.org (Postfix) with ESMTP id 3AAC64021F for ; Wed, 5 Nov 2025 14:33:51 +0100 (CET) Received: by mail-pl1-f225.google.com with SMTP id d9443c01a7336-2953b321f99so51041255ad.1 for ; Wed, 05 Nov 2025 05:33:51 -0800 (PST) DKIM-Signature: v=1; a=rsa-sha256; c=relaxed/relaxed; d=iol.unh.edu; s=unh-iol; t=1762349630; x=1762954430; darn=dpdk.org; h=references:in-reply-to:cc:to:from:subject:message-id:date:from:to :cc:subject:date:message-id:reply-to; bh=6pI+N1v0J/7ysFRnWyKT2qslcl6ZsHalrIdQqWjg4q8=; b=aQ7e2zjwUvdbkqLb3xIwH4eHa8sd6hde8JbCBMEQKhvIsN9nm0n+DYkDN6fAWasgH/ 54KD08zHJsGgUCXrGOCpGPxumrEPmLjNaLboEXSxciQNls+1lFIMnFVv+QwH+gRd1+Rt YYT7+KFq/OtzWsFejZv6iqHGUlAFLM4FPtcUA= X-Google-DKIM-Signature: v=1; a=rsa-sha256; c=relaxed/relaxed; d=1e100.net; s=20230601; t=1762349630; x=1762954430; h=references:in-reply-to:cc:to:from:subject:message-id:date :x-gm-message-state:from:to:cc:subject:date:message-id:reply-to; bh=6pI+N1v0J/7ysFRnWyKT2qslcl6ZsHalrIdQqWjg4q8=; b=bJZg5M2j38KLWpQMJ56hYTJfMPpJguzuTfZsXtyaLBXfqQJH72UvLxsdhhu7W1d3Gp 2r9FoO2uVm9Y9WBKAU2nQAT1nqYSRMsFkJjnatOyweDALMea0QONuTKo+K+eCRdzRqCC jNMnQ757Yudd/yhP213L5oXxgCsrWq8UjHg5vbO2raUldqMnFjTHz5YpGQJK2QcnpS2u oIdCYKOZOkSFZxjr3KqyPFDz7ZNYdph5/axsf7LRjOJYIejNzJONiGu6GPyQIN49RG3p Qvf38GmPGSm1Po90xRlS6u4Vl2sDwDWa0Re0LeCZhmBk0/zepU8O7/XWKA8ntdczeFB1 Mu+w== X-Gm-Message-State: AOJu0YzcJzrzt2FDcC/HA8VuKSw7e15vQ7d3WBWGRC2D3g9O4XQQy6LV ffOww+JRn2MOH54hcJkc5rTbXoE0VEbTbY6bofti1jknIGUuSbQmyVl32lbYJNXOsHQUv/Hm0G0 BOCW5Z/2iEsavRR4qS3iS3+xz2I/y80zvilkvu8VlSHoz0ck4Bzb+ksh7LP4W X-Gm-Gg: ASbGnctfQU1BGK92IRvEDAPYpi72zHZIkeF7gkOqEaR3aFFEd5MJpA4RKXsInL0k7NY yb2Bxx1zkQJsHUZfYuCWKg1+BLwsXwB3clI8hp1LBfJxDIcAbAf00wetSkyUqJhtnDyE8vlQBe3 V2qgGdjvjorZG+X5DMHH9vGyTqlz4GeeOuYqqNL3WUt7tstCb2JgB3xrKJbKsPp2jiE3Xoc+l3A euutj9F3CnedwXwG78oMEzSOxoWgsNYZCh7Wi0hfK6/NDMNj08BTwGqwUfxu3bGkqYi4J/fZbD5 +ZeaEVgq0Vf5pZURdH4OKgMY4XyNGUtBQhwHzpbv6zc82VwZcDSko4tL8e0cnVGjz21F+3+5zg7 BNXkqqj7W X-Google-Smtp-Source: AGHT+IFSJlYkO1ymMbJ3ElFfIyRPARAD7tXbaXmOUq4dvN6pISV7z7fLVqx0TJjNOpQ50S9mbLPRrNMeYq4K X-Received: by 2002:a17:902:ce81:b0:290:cd5f:a876 with SMTP id d9443c01a7336-2962ad1c7c8mr52858355ad.13.1762349630334; Wed, 05 Nov 2025 05:33:50 -0800 (PST) Received: from postal.iol.unh.edu (postal.iol.unh.edu. [2606:4100:3880:1234::84]) by smtp-relay.gmail.com with ESMTPS id d9443c01a7336-29601a1762asm5263505ad.33.2025.11.05.05.33.50 (version=TLS1_2 cipher=ECDHE-ECDSA-AES128-GCM-SHA256 bits=128/128); Wed, 05 Nov 2025 05:33:50 -0800 (PST) X-Relaying-Domain: iol.unh.edu Date: Wed, 05 Nov 2025 05:33:50 -0800 (PST) Message-ID: <690b523e.170a0220.1a1e49.c06aSMTPIN_ADDED_MISSING@mx.google.com> Received: from [172.21.0.16] (unknown [172.18.0.240]) by postal.iol.unh.edu (Postfix) with ESMTP id A0F916051830; Wed, 5 Nov 2025 08:33:49 -0500 (EST) Subject: |SUCCESS| pw158449 [PATCH] [v2] ci: switch testing to Fedora 43 in G From: dpdklab@iol.unh.edu To: Test Report Cc: dpdk-test-reports@iol.unh.edu In-Reply-To: <20251105074547.3760605-1-david.marchand@redhat.com> References: <20251105074547.3760605-1-david.marchand@redhat.com> Content-Type: text/plain X-BeenThere: test-report@dpdk.org X-Mailman-Version: 2.1.29 Precedence: list List-Id: automatic DPDK test reports List-Unsubscribe: , List-Archive: List-Post: List-Help: List-Subscribe: , Errors-To: test-report-bounces@dpdk.org Test-Label: iol-compile-arm64-testing Test-Status: SUCCESS http://dpdk.org/patch/158449 _Testing PASS_ Submitter: David Marchand Date: Wednesday, November 05 2025 07:45:47 DPDK git baseline: Repo:dpdk Branch: master CommitID:8887f57cd71e47fa487b8d37c421fba897f7c7ee 158449 --> testing pass Upstream job id: Generic-DPDK-Compile-Meson#440897 Test environment and result as below: +------------------------------+--------------------+ | Environment | dpdk_meson_compile | +==============================+====================+ | Fedora Linux 42 | PASS | +------------------------------+--------------------+ | Ubuntu 20.04 | PASS | +------------------------------+--------------------+ | Red Hat Enterprise Linux 9.5 | PASS | +------------------------------+--------------------+ | Ubuntu 22.04 | PASS | +------------------------------+--------------------+ | Ubuntu 24.04 | PASS | +------------------------------+--------------------+ | Debian GNU/Linux 12 | PASS | +------------------------------+--------------------+ | CentOS Stream 9 | PASS | +------------------------------+--------------------+ | CentOS Stream 10 | PASS | +------------------------------+--------------------+ Fedora Linux 42 Kernel: 5.4 Compiler: gcc gcc (GCC) 15.2.1 20250808 (Red Hat 15.2.1-1) Ubuntu 20.04 Kernel: 5.15 Compiler: aarch64-linux-gnu-gcc gcc (Ubuntu 9.4.0-1ubuntu1~20.04.2) 9.4.0 Red Hat Enterprise Linux 9.5 Kernel: 5.4 Compiler: gcc gcc (GCC) 11.5.0 20240719 (Red Hat 11.5.0-2) Ubuntu 22.04 Kernel: 5.4 Compiler: gcc gcc (Ubuntu 11.4.0-1ubuntu1~22.04) 11.4.0 Ubuntu 24.04 Kernel: 5.4 Compiler: gcc gcc (Ubuntu 13.3.0-6ubuntu2~24.04) 13.3.0 Debian GNU/Linux 12 Kernel: 5.4 Compiler: gcc gcc (Debian 12.2.0-14+deb12u1) 12.2.0 CentOS Stream 9 Kernel: 5.4 Compiler: gcc gcc (GCC) 11.5.0 20240719 (Red Hat 11.5.0-11) CentOS Stream 10 Kernel: 5.4 Compiler: gcc gcc (GCC) 14.2.1 20250110 (Red Hat 14.2.1-8) To view detailed results, visit: https://lab.dpdk.org/results/dashboard/patchsets/34466/ UNH-IOL DPDK Community Lab To manage your email subscriptions, visit: https://lab.dpdk.org/results/dashboard/preferences/subscriptions/