From mboxrd@z Thu Jan 1 00:00:00 1970 Return-Path: Received: from mails.dpdk.org (mails.dpdk.org [217.70.189.124]) by inbox.dpdk.org (Postfix) with ESMTP id 72DFF48A71 for ; Wed, 5 Nov 2025 15:23:26 +0100 (CET) Received: from mails.dpdk.org (localhost [127.0.0.1]) by mails.dpdk.org (Postfix) with ESMTP id 4541A4021F; Wed, 5 Nov 2025 15:23:26 +0100 (CET) Received: from mail-yx1-f100.google.com (mail-yx1-f100.google.com [74.125.224.100]) by mails.dpdk.org (Postfix) with ESMTP id EF7694021F for ; Wed, 5 Nov 2025 15:23:24 +0100 (CET) Received: by mail-yx1-f100.google.com with SMTP id 956f58d0204a3-63fbed0f71aso2730355d50.0 for ; Wed, 05 Nov 2025 06:23:24 -0800 (PST) DKIM-Signature: v=1; a=rsa-sha256; c=relaxed/relaxed; d=iol.unh.edu; s=unh-iol; t=1762352604; x=1762957404; darn=dpdk.org; h=references:in-reply-to:cc:to:from:subject:message-id:date:from:to :cc:subject:date:message-id:reply-to; bh=fd2CYqpCAvmFUzjmtsMC2bxLTsTFsJVE3wrv+rhlWio=; b=PjCARBk6ybqUSlyObzCs0gXPZnjHX/xziSNOyjhM9s7mvh7Dgj8iSXyy1/0nfYpg33 pdHjVRiqQttUc6mEX5/26yHcekGejdzSJRuWeyJrS3J2Poyv/lDcIkqpgC7ZW5PFF1En HxCEMYc0dx2s+FtI14Fszhu0/Hu9KrzbxF+kM= X-Google-DKIM-Signature: v=1; a=rsa-sha256; c=relaxed/relaxed; d=1e100.net; s=20230601; t=1762352604; x=1762957404; h=references:in-reply-to:cc:to:from:subject:message-id:date :x-gm-message-state:from:to:cc:subject:date:message-id:reply-to; bh=fd2CYqpCAvmFUzjmtsMC2bxLTsTFsJVE3wrv+rhlWio=; b=hXqm9jXDW4To3cV4Mu5fAwvdwC4RWJGe1wOJh9DuLWN5JYRo8EBwgdh/jzYW4hhyzg 7VH/i+2uIlQKx4DBwIijizqxSCD3EFq0VRU0na7acjKYeXUjkyEiIVgjoHc7Chnt0Gvv yD7QXjieB2nos99UCGaI932fHrL9ODOF/JogZAprXH46g/WVhTPzRKuxRzi/EGEZmlZG AJoIpWRgYyhObWwYtRmRDq/ILUSSVN0iLIOPwdaOk3gu1FoirQc2qme4OJ7prX0ODgUA XsRXePHdbxwWwowXFYEAqyDQCE4SWakPRh322QQd6+pYf17kE36A40NzRhlunS0Tzgzf bxgg== X-Gm-Message-State: AOJu0Yy1CowaT4SP2j05f4O721dKGe4YAdUwAJaoVcuzjTCGEXtaFRUg 6bQ3nNf2JUVXiK7Z1OY9bvqcEKoPDRDTrKDNII1jEuxzo5cOzdNNqGfLgLvyX5gctvth2Lgm14z rtHAR7m84MqfeJPWLQ5gd/20x4FrK0NfGDjqnE1Hku25J X-Gm-Gg: ASbGncvKD+y9dL6k6gADpEXCL6DDh96I2fVZyPlf73BxxDp7KYP/8OuHLhopezQ3dSS J7dfWYx4oqWodAIIQUeIhMLeXF1WfawovlZo9XD585t+8yPUje4/rvcKpVsbnPg4d3XfPAgkhE7 pkRasCnHVkSkVTfVntvio5xqrKqHklXczJun7fEMXzYj1Zpkf9luYrwx5XVQT7w+TFhrFb4RiEH W4L4axk54vj0aM3tz3E11ShHs7wl2QE4V3fsJDrLQF8i8mufVXiG8eIb6YaaHws6g5JvrVzLW3j cDkaAgd0rmSAsBK94+Q+EL7q8aDYCJtTkiCEx3lu9NfdCx9F1/zdV2hLzEU2jyGYRuyDxwTL2Fs ZDJ9wqD3QvXh+uaAhpEd7OJtfBeCU7pk= X-Google-Smtp-Source: AGHT+IFGB93KcLaQABG8fTzEK/SdwuivdFEhNiDf8XhsSBZRrNMMd1XClCC0T3s0etU/BrHD52GDFqPfTTBa X-Received: by 2002:a05:690e:150a:b0:63f:b366:98e6 with SMTP id 956f58d0204a3-63fd34b5dbdmr2591503d50.6.1762352604195; Wed, 05 Nov 2025 06:23:24 -0800 (PST) Received: from postal.iol.unh.edu (postal.iol.unh.edu. [132.177.123.84]) by smtp-relay.gmail.com with ESMTPS id 956f58d0204a3-63fc960813dsm364425d50.14.2025.11.05.06.23.24 (version=TLS1_2 cipher=ECDHE-ECDSA-AES128-GCM-SHA256 bits=128/128); Wed, 05 Nov 2025 06:23:24 -0800 (PST) X-Relaying-Domain: iol.unh.edu Date: Wed, 05 Nov 2025 06:23:24 -0800 (PST) Message-ID: <690b5ddc.530a0220.f636.368eSMTPIN_ADDED_MISSING@mx.google.com> Received: from [172.21.0.2] (unknown [172.18.0.240]) by postal.iol.unh.edu (Postfix) with ESMTP id CCCEB6050A61; Wed, 5 Nov 2025 09:23:23 -0500 (EST) Subject: |SUCCESS| pw158459 [PATCH] [v1] net/mlx5: fix invalid queue index ha From: dpdklab@iol.unh.edu To: Test Report Cc: dpdk-test-reports@iol.unh.edu In-Reply-To: <20251105125200.468312-1-rongweil@nvidia.com> References: <20251105125200.468312-1-rongweil@nvidia.com> Content-Type: text/plain X-BeenThere: test-report@dpdk.org X-Mailman-Version: 2.1.29 Precedence: list List-Id: automatic DPDK test reports List-Unsubscribe: , List-Archive: List-Post: List-Help: List-Subscribe: , Errors-To: test-report-bounces@dpdk.org Test-Label: iol-compile-amd64-testing Test-Status: SUCCESS http://dpdk.org/patch/158459 _Testing PASS_ Submitter: Rongwei Liu Date: Wednesday, November 05 2025 12:52:00 DPDK git baseline: Repo:dpdk-next-net-mlx Branch: master CommitID:f1c1f82f2421be9ac2f46b4ec2a616ca28da4ca7 158459 --> testing pass Upstream job id: Generic-VM-DPDK-Compile-Meson#39507 Test environment and result as below: +-------------------------------+--------------------+------------------+ | Environment | dpdk_meson_compile | dpdk_compile_ovs | +===============================+====================+==================+ | Debian GNU/Linux 12 | PASS | SKIPPED | +-------------------------------+--------------------+------------------+ | Ubuntu 24.04 | PASS | PASS | +-------------------------------+--------------------+------------------+ | CentOS Stream 9 | PASS | SKIPPED | +-------------------------------+--------------------+------------------+ | CentOS Stream 10 | PASS | SKIPPED | +-------------------------------+--------------------+------------------+ | Ubuntu 20.04 | PASS | SKIPPED | +-------------------------------+--------------------+------------------+ | Fedora Linux 42 | PASS | PASS | +-------------------------------+--------------------+------------------+ | Red Hat Enterprise Linux 9.5 | PASS | SKIPPED | +-------------------------------+--------------------+------------------+ | Ubuntu 22.04 | PASS | SKIPPED | +-------------------------------+--------------------+------------------+ | Red Hat Enterprise Linux 8.10 | PASS | SKIPPED | +-------------------------------+--------------------+------------------+ | Alpine Linux 3.22.0 | PASS | SKIPPED | +-------------------------------+--------------------+------------------+ | openSUSE Leap 15.6 | PASS | SKIPPED | +-------------------------------+--------------------+------------------+ | FreeBSD 14.2 | PASS | SKIPPED | +-------------------------------+--------------------+------------------+ Debian GNU/Linux 12 Kernel: 5.15 Compiler: gcc gcc (Debian 12.2.0-14+deb12u1) 12.2.0 Ubuntu 24.04 Kernel: 5.15 Compiler: gcc gcc (Ubuntu 13.3.0-6ubuntu2~24.04) 13.3.0 CentOS Stream 9 Kernel: 5.15 Compiler: gcc gcc (GCC) 11.5.0 20240719 (Red Hat 11.5.0-11) CentOS Stream 10 Kernel: 5.15 Compiler: gcc gcc (GCC) 14.2.1 20250110 (Red Hat 14.2.1-8) Ubuntu 20.04 Kernel: 4.19 Compiler: gcc gcc (Ubuntu 9.4.0-1ubuntu1~20.04.2) 9.4.0 Fedora Linux 42 Kernel: 5.15 Compiler: clang gcc (GCC) 15.2.1 20250808 (Red Hat 15.2.1-1) Red Hat Enterprise Linux 9.5 Kernel: 5.15 Compiler: gcc gcc (GCC) 11.5.0 20240719 (Red Hat 11.5.0-2) Ubuntu 22.04 Kernel: 5.15 Compiler: gcc gcc (Ubuntu 11.4.0-1ubuntu1~22.04) 11.4.0 Red Hat Enterprise Linux 8.10 Kernel: 5.15 Compiler: gcc gcc (GCC) 8.5.0 20210514 (Red Hat 8.5.0-22) Alpine Linux 3.22.0 Kernel: 5.15 Compiler: gcc gcc (Alpine 14.2.0) 14.2.0 openSUSE Leap 15.6 Kernel: 5.15 Compiler: gcc gcc (SUSE Linux) 7.5.0 FreeBSD 14.2 Kernel: 14.2-RELEASE Compiler: clang 18.1.6 To view detailed results, visit: https://lab.dpdk.org/results/dashboard/patchsets/34474/ UNH-IOL DPDK Community Lab To manage your email subscriptions, visit: https://lab.dpdk.org/results/dashboard/preferences/subscriptions/