From mboxrd@z Thu Jan 1 00:00:00 1970 Return-Path: Received: from mails.dpdk.org (mails.dpdk.org [217.70.189.124]) by inbox.dpdk.org (Postfix) with ESMTP id B537D48A71 for ; Wed, 5 Nov 2025 15:26:27 +0100 (CET) Received: from mails.dpdk.org (localhost [127.0.0.1]) by mails.dpdk.org (Postfix) with ESMTP id A12854021F; Wed, 5 Nov 2025 15:26:27 +0100 (CET) Received: from mail-yw1-f225.google.com (mail-yw1-f225.google.com [209.85.128.225]) by mails.dpdk.org (Postfix) with ESMTP id C9F8A4021F for ; Wed, 5 Nov 2025 15:26:26 +0100 (CET) Received: by mail-yw1-f225.google.com with SMTP id 00721157ae682-71d71bcab69so67873297b3.0 for ; Wed, 05 Nov 2025 06:26:26 -0800 (PST) DKIM-Signature: v=1; a=rsa-sha256; c=relaxed/relaxed; d=iol.unh.edu; s=unh-iol; t=1762352786; x=1762957586; darn=dpdk.org; h=references:in-reply-to:cc:to:from:subject:message-id:date:from:to :cc:subject:date:message-id:reply-to; bh=CI1oJqYrcNnEx7BNRD2Ze70HUWvi1aDWlqb434dlkFA=; b=SvxScZuC0P/vgxZhzlWRIJa639trAV//k+eVcYP4kCrzfxxH5YO+u9jjwHPtMrPNsH /z0veWGYwGpsYBa8gwn5QW6dXMvXj53GBuagyCS9fV7MD4rpNKM5nXkxqEN6Wa/Ztj/e 98B1MVmmHP/F0Iivs3pzeFwS9OYuwx1AvlCko= X-Google-DKIM-Signature: v=1; a=rsa-sha256; c=relaxed/relaxed; d=1e100.net; s=20230601; t=1762352786; x=1762957586; h=references:in-reply-to:cc:to:from:subject:message-id:date :x-gm-message-state:from:to:cc:subject:date:message-id:reply-to; bh=CI1oJqYrcNnEx7BNRD2Ze70HUWvi1aDWlqb434dlkFA=; b=LNi51NQxrQoSpThQLWVbe5QVy3BqMlLW5xMYRitfyGI69mFeG2DP5qPe++TaDt3GXQ K4DnQxxLNwQQNChk0Xv49zKqyTUZRZJsLte2/whqCunE7VXuIeBuczo8MzJT3YstiT6X WGkp434IhFQAh2nY+qoxwwsWpUYwu6oKQ3gd92cog+w7s8DkwgZDZF65DRyVFuqjLjeu OLHRjBeZH6rvvI1fxM7v2bkqRebyVOH6a8ALdycMVN/8cdX6nnH6693wY6v2u07QPNhy G3lseURUM+5GM2vE10eJEAumc7VJqXMbbkoBQAURVTALA/rZ/481sPoi+7gbg/imIf85 eF+Q== X-Gm-Message-State: AOJu0YzsNXs/vWvO1q8EFjZ6KQ/t7VEgTZ2Dr15YpFFQP7mcEHedDAmO wQ/h6ga7eMtWVYrumFs0EXyzrevphZDngcetfOlYkuk5z1zQROjdmDj1KbX1nGIWdodUKTTDWVf 3Qslh4U+nc7oYrN/rn+gz6TdGjifMfKmKL04CYi06F7fHcSIsPluwllgF1Mt5 X-Gm-Gg: ASbGncsXz4C6NvHMrOXQuOtpYb8UmZn4DMYbjf2mlWefJrkblX7y4sbcIaqrAxpbDo/ Iqc1ERvtELrJDCEj0w2Xir4s3Qqxg8EBm3zNZnX/VUcuXQ8RPf96Xf5NqBXQn7sA947MTP1VoLl xgd3C9zoqtKPPT3yd7A+jUGHDvPr4ZCO/yq83C5b26P8tFKmjIHOXlmj9DCjBTrZ4H+QKL8N9nc sUmmwASsicsJsvr89NPtLMCGdQclHgu89YX1iZthNQsSZJ23S9yJgD6EBac0h3KSq6F83t4LvAu 3O88b1ivuOo0Rd6FQA5dMsRoz4QDcdwQQ/T7OW2NzJOxOJ3QVKHg98MZof766kXstOi1JQOQl4/ 5FL4c61c4 X-Google-Smtp-Source: AGHT+IHb+idgAxG4Br/jM1T5TP7KY1Y7dneK9pQjvwxj5bC/A1xhJYeP1HqCa6UzhXLKeQnr9tehaqqRC4Uv X-Received: by 2002:a05:690c:a4c6:b0:786:87b1:9631 with SMTP id 00721157ae682-786a42063b9mr26151447b3.66.1762352786192; Wed, 05 Nov 2025 06:26:26 -0800 (PST) Received: from postal.iol.unh.edu (postal.iol.unh.edu. [2606:4100:3880:1234::84]) by smtp-relay.gmail.com with ESMTPS id 00721157ae682-78691eed29fsm3308117b3.25.2025.11.05.06.26.26 (version=TLS1_2 cipher=ECDHE-ECDSA-AES128-GCM-SHA256 bits=128/128); Wed, 05 Nov 2025 06:26:26 -0800 (PST) X-Relaying-Domain: iol.unh.edu Date: Wed, 05 Nov 2025 06:26:26 -0800 (PST) Message-ID: <690b5e92.050a0220.34a78f.3001SMTPIN_ADDED_MISSING@mx.google.com> Received: from [172.21.0.2] (unknown [172.18.0.240]) by postal.iol.unh.edu (Postfix) with ESMTP id D31D06050A61; Wed, 5 Nov 2025 09:26:25 -0500 (EST) Subject: |SUCCESS| pw158459 [PATCH] [v1] net/mlx5: fix invalid queue index ha From: dpdklab@iol.unh.edu To: Test Report Cc: dpdk-test-reports@iol.unh.edu In-Reply-To: <20251105125200.468312-1-rongweil@nvidia.com> References: <20251105125200.468312-1-rongweil@nvidia.com> Content-Type: text/plain X-BeenThere: test-report@dpdk.org X-Mailman-Version: 2.1.29 Precedence: list List-Id: automatic DPDK test reports List-Unsubscribe: , List-Archive: List-Post: List-Help: List-Subscribe: , Errors-To: test-report-bounces@dpdk.org Test-Label: iol-unit-amd64-testing Test-Status: SUCCESS http://dpdk.org/patch/158459 _Testing PASS_ Submitter: Rongwei Liu Date: Wednesday, November 05 2025 12:52:00 DPDK git baseline: Repo:dpdk-next-net-mlx Branch: master CommitID:f1c1f82f2421be9ac2f46b4ec2a616ca28da4ca7 158459 --> testing pass Upstream job id: Generic-Unit-Test-DPDK#388941 Test environment and result as below: +-------------------------------+----------------+ | Environment | dpdk_unit_test | +===============================+================+ | Red Hat Enterprise Linux 9.5 | PASS | +-------------------------------+----------------+ | Red Hat Enterprise Linux 8.10 | PASS | +-------------------------------+----------------+ | CentOS Stream 10 | PASS | +-------------------------------+----------------+ | Ubuntu 20.04 | PASS | +-------------------------------+----------------+ | Fedora Linux 42 | PASS | +-------------------------------+----------------+ | Fedora Linux 41 | PASS | +-------------------------------+----------------+ | CentOS Stream 9 | PASS | +-------------------------------+----------------+ | Ubuntu 24.04 | PASS | +-------------------------------+----------------+ | Debian GNU/Linux 12 | PASS | +-------------------------------+----------------+ | Ubuntu 22.04 | PASS | +-------------------------------+----------------+ | Fedora Linux 40 | PASS | +-------------------------------+----------------+ Red Hat Enterprise Linux 9.5 Kernel: 5.15 Compiler: gcc gcc (GCC) 11.5.0 20240719 (Red Hat 11.5.0-2) Red Hat Enterprise Linux 8.10 Kernel: 5.15 Compiler: gcc gcc (GCC) 8.5.0 20210514 (Red Hat 8.5.0-22) CentOS Stream 10 Kernel: 5.15 Compiler: gcc gcc (GCC) 14.2.1 20250110 (Red Hat 14.2.1-8) Ubuntu 20.04 Kernel: 5.15 Compiler: gcc gcc (Ubuntu 9.4.0-1ubuntu1~20.04.2) 9.4.0 Fedora Linux 42 Kernel: 5.15 Compiler: gcc gcc (GCC) 15.2.1 20250808 (Red Hat 15.2.1-1) Fedora Linux 41 Kernel: 5.15 Compiler: clang gcc (GCC) 14.3.1 20250523 (Red Hat 14.3.1-1) CentOS Stream 9 Kernel: 5.15 Compiler: gcc gcc (GCC) 11.5.0 20240719 (Red Hat 11.5.0-11) Ubuntu 24.04 Kernel: 5.15 Compiler: gcc gcc (Ubuntu 13.3.0-6ubuntu2~24.04) 13.3.0 Debian GNU/Linux 12 Kernel: 5.15 Compiler: gcc gcc (Debian 12.2.0-14+deb12u1) 12.2.0 Ubuntu 22.04 Kernel: 5.15 Compiler: gcc gcc (Ubuntu 11.4.0-1ubuntu1~22.04) 11.4.0 Fedora Linux 40 Kernel: 5.15 Compiler: clang gcc (GCC) 14.2.1 20240912 (Red Hat 14.2.1-3) To view detailed results, visit: https://lab.dpdk.org/results/dashboard/patchsets/34474/ UNH-IOL DPDK Community Lab To manage your email subscriptions, visit: https://lab.dpdk.org/results/dashboard/preferences/subscriptions/