From mboxrd@z Thu Jan 1 00:00:00 1970 Return-Path: Received: from mails.dpdk.org (mails.dpdk.org [217.70.189.124]) by inbox.dpdk.org (Postfix) with ESMTP id 0ADCB48A71 for ; Wed, 5 Nov 2025 15:28:20 +0100 (CET) Received: from mails.dpdk.org (localhost [127.0.0.1]) by mails.dpdk.org (Postfix) with ESMTP id 059FA4021F; Wed, 5 Nov 2025 15:28:20 +0100 (CET) Received: from mail-ua1-f98.google.com (mail-ua1-f98.google.com [209.85.222.98]) by mails.dpdk.org (Postfix) with ESMTP id 359C14021F for ; Wed, 5 Nov 2025 15:28:19 +0100 (CET) Received: by mail-ua1-f98.google.com with SMTP id a1e0cc1a2514c-89018e9f902so5462094241.0 for ; Wed, 05 Nov 2025 06:28:19 -0800 (PST) DKIM-Signature: v=1; a=rsa-sha256; c=relaxed/relaxed; d=iol.unh.edu; s=unh-iol; t=1762352898; x=1762957698; darn=dpdk.org; h=references:in-reply-to:cc:to:from:subject:message-id:date:from:to :cc:subject:date:message-id:reply-to; bh=bwy/MLVqGPt99qLN2h1YNC+Uxzw6bZss+vz+zX3Z5wU=; b=D+c/RZr6Yugd+LOFnZMmH++qRYWYvw2nj8Sll3f+qxVO9FFXfiD1KIZOEqX00UYqll 6PAkdHnKlMUgt/wDpfjmeXwPnXxXXZS9ElsLK1k5o9nB+0boUP0rC0tHQOaLGhP3NjAt y6sIAWBMl3srp+wez4MS1xKBe+UfM1BjceDxk= X-Google-DKIM-Signature: v=1; a=rsa-sha256; c=relaxed/relaxed; d=1e100.net; s=20230601; t=1762352898; x=1762957698; h=references:in-reply-to:cc:to:from:subject:message-id:date :x-gm-message-state:from:to:cc:subject:date:message-id:reply-to; bh=bwy/MLVqGPt99qLN2h1YNC+Uxzw6bZss+vz+zX3Z5wU=; b=jbREGB9TF6kki9Le5x7szB4fQVMkj5elUX9SE3A/uvFzUWgP5Wvs1AVRYL9+QbysAC tZfLBwDRsv3hj2StFmAZoXWj5Yw63meWG7tWPhoGjQha9TYGqGZx3DthNQicrxjx6g7h V2BHR6+03CwCy4Boh9ADGvUZb5/YDMeh9brwbI5Kyl5lvGMYBjh1pHM3+mCMBHXQzaFZ vnMh2YWjRJ1jBSTP6qlkmjUChNoWHOGXCyRy9RIJN+krHzfs09ZyKmbtPYg3iaGfzoFz gcZ/mhqg8XwSWBaAbwFUOg2VLrdgs2tzmojHsSsvqaW7Mna7wiEm+jlcre6jq2wAzpRZ v1Bw== X-Gm-Message-State: AOJu0YwMwS+aEKDUWwDOgVCJE6UW20etyyOuYJNYNBfScT8DI4dMe+Xs P6MBXtSj9UOKyR2Bzo5tygm5aqiBSoVLy1OVF5fjp1renUR1e3299ax0mjun92UQKtb8aFtF5Xe 1ChJz3oUPSkXvt7nSAMYqAZ/qeiuje1DpRPoIw1832K4s X-Gm-Gg: ASbGncsQhE/28HzJi4bRAzeJiBN+h8yzIbCEnO+QDh10VDRolprVh30v6bzsj+mk+A6 klT+MKMZfq61nGM3xuZ2dWjRLhqM/zmOIPTofvFOrHB92GoIsVkEuWbi7o2lIWXWzCCC5yL5fKg b8Sm0EAMh0Cs4ZQkgLL3T2Hu6i4BTc28xJyEl4tEqHpGBoUsA7QIaKN1aENefG+AavZMSngO+MO JQDoaQ2BM7d0voJNxsPe/czK5bDGolNE+KV5UbFUqK7V4nQYP7278LASYrT+GzdcO0MnEfwm1Ox WiTTO4Z9a115V43xGk+uLwXnlzcI+dt0c6YOVuJ9bGGBfchniaKTV3795wU4DNNvdY9G9FhejYK s1PkykqgBtgU40v6HTTs4zdMrAxwboPQ= X-Google-Smtp-Source: AGHT+IEzHwiAa8fz7pi7c3/46FWUp765RwSPVrRjuHo4kn1GEo3FE+rUgInxBFVB1dsJc0X4FPWJ0a8IfKMp X-Received: by 2002:a05:6102:cd1:b0:5db:36e5:7b41 with SMTP id ada2fe7eead31-5dd891aaef3mr1261811137.11.1762352898549; Wed, 05 Nov 2025 06:28:18 -0800 (PST) Received: from postal.iol.unh.edu (postal.iol.unh.edu. [132.177.123.84]) by smtp-relay.gmail.com with ESMTPS id ada2fe7eead31-5dbf334da55sm512650137.4.2025.11.05.06.28.18 (version=TLS1_2 cipher=ECDHE-ECDSA-AES128-GCM-SHA256 bits=128/128); Wed, 05 Nov 2025 06:28:18 -0800 (PST) X-Relaying-Domain: iol.unh.edu Date: Wed, 05 Nov 2025 06:28:18 -0800 (PST) Message-ID: <690b5f02.050a0220.21c2f9.c35aSMTPIN_ADDED_MISSING@mx.google.com> Received: from [172.21.0.2] (unknown [172.18.0.240]) by postal.iol.unh.edu (Postfix) with ESMTP id 3414D6050A61; Wed, 5 Nov 2025 09:28:18 -0500 (EST) Subject: |SUCCESS| pw158460 [PATCH] [v1] net/mlx5: fix indirect meter index l From: dpdklab@iol.unh.edu To: Test Report Cc: dpdk-test-reports@iol.unh.edu In-Reply-To: <20251105125433.468878-1-rongweil@nvidia.com> References: <20251105125433.468878-1-rongweil@nvidia.com> Content-Type: text/plain X-BeenThere: test-report@dpdk.org X-Mailman-Version: 2.1.29 Precedence: list List-Id: automatic DPDK test reports List-Unsubscribe: , List-Archive: List-Post: List-Help: List-Subscribe: , Errors-To: test-report-bounces@dpdk.org Test-Label: iol-unit-amd64-testing Test-Status: SUCCESS http://dpdk.org/patch/158460 _Testing PASS_ Submitter: Rongwei Liu Date: Wednesday, November 05 2025 12:54:33 DPDK git baseline: Repo:dpdk-next-net-mlx Branch: master CommitID:f1c1f82f2421be9ac2f46b4ec2a616ca28da4ca7 158460 --> testing pass Upstream job id: Generic-Unit-Test-DPDK#388912 Test environment and result as below: +-------------------------------+----------------+ | Environment | dpdk_unit_test | +===============================+================+ | Debian GNU/Linux 12 | PASS | +-------------------------------+----------------+ | CentOS Stream 10 | PASS | +-------------------------------+----------------+ | CentOS Stream 9 | PASS | +-------------------------------+----------------+ | Fedora Linux 41 | PASS | +-------------------------------+----------------+ | Ubuntu 22.04 | PASS | +-------------------------------+----------------+ | Fedora Linux 42 | PASS | +-------------------------------+----------------+ | Red Hat Enterprise Linux 8.10 | PASS | +-------------------------------+----------------+ | Fedora Linux 40 | PASS | +-------------------------------+----------------+ | Ubuntu 20.04 | PASS | +-------------------------------+----------------+ | Ubuntu 24.04 | PASS | +-------------------------------+----------------+ | Red Hat Enterprise Linux 9.5 | PASS | +-------------------------------+----------------+ Debian GNU/Linux 12 Kernel: 5.15 Compiler: gcc gcc (Debian 12.2.0-14+deb12u1) 12.2.0 CentOS Stream 10 Kernel: 5.15 Compiler: gcc gcc (GCC) 14.2.1 20250110 (Red Hat 14.2.1-8) CentOS Stream 9 Kernel: 5.15 Compiler: gcc gcc (GCC) 11.5.0 20240719 (Red Hat 11.5.0-11) Fedora Linux 41 Kernel: 5.15 Compiler: clang gcc (GCC) 14.3.1 20250523 (Red Hat 14.3.1-1) Ubuntu 22.04 Kernel: 5.15 Compiler: gcc gcc (Ubuntu 11.4.0-1ubuntu1~22.04) 11.4.0 Fedora Linux 42 Kernel: 5.15 Compiler: clang gcc (GCC) 15.2.1 20250808 (Red Hat 15.2.1-1) Red Hat Enterprise Linux 8.10 Kernel: 5.15 Compiler: gcc gcc (GCC) 8.5.0 20210514 (Red Hat 8.5.0-22) Fedora Linux 40 Kernel: 5.15 Compiler: gcc gcc (GCC) 14.2.1 20240912 (Red Hat 14.2.1-3) Ubuntu 20.04 Kernel: 5.15 Compiler: gcc gcc (Ubuntu 9.4.0-1ubuntu1~20.04.2) 9.4.0 Ubuntu 24.04 Kernel: 5.15 Compiler: gcc gcc (Ubuntu 13.3.0-6ubuntu2~24.04) 13.3.0 Red Hat Enterprise Linux 9.5 Kernel: 5.15 Compiler: gcc gcc (GCC) 11.5.0 20240719 (Red Hat 11.5.0-2) To view detailed results, visit: https://lab.dpdk.org/results/dashboard/patchsets/34473/ UNH-IOL DPDK Community Lab To manage your email subscriptions, visit: https://lab.dpdk.org/results/dashboard/preferences/subscriptions/