From mboxrd@z Thu Jan 1 00:00:00 1970 Return-Path: Received: from mails.dpdk.org (mails.dpdk.org [217.70.189.124]) by inbox.dpdk.org (Postfix) with ESMTP id BE66C48A73 for ; Wed, 5 Nov 2025 16:05:52 +0100 (CET) Received: from mails.dpdk.org (localhost [127.0.0.1]) by mails.dpdk.org (Postfix) with ESMTP id 9F2354021F; Wed, 5 Nov 2025 16:05:52 +0100 (CET) Received: from mail-ot1-f99.google.com (mail-ot1-f99.google.com [209.85.210.99]) by mails.dpdk.org (Postfix) with ESMTP id A20B04021F for ; Wed, 5 Nov 2025 16:05:51 +0100 (CET) Received: by mail-ot1-f99.google.com with SMTP id 46e09a7af769-7c2948b774cso4574870a34.0 for ; Wed, 05 Nov 2025 07:05:51 -0800 (PST) DKIM-Signature: v=1; a=rsa-sha256; c=relaxed/relaxed; d=iol.unh.edu; s=unh-iol; t=1762355151; x=1762959951; darn=dpdk.org; h=references:in-reply-to:cc:to:from:subject:message-id:date:from:to :cc:subject:date:message-id:reply-to; bh=FjhCFUBE2UeNv3wEwF8GXN9EicXXs7C7JTMY4QaIOV0=; b=dNZoYEfQWPDSm5MaWCS2H669N04SejskUZYKx+6wyARTw63LIr3oSBLHbSIsAw05Vq SngBwZP5EliMK6sTLu5SQ49O6YDGmgEBRIgFQ/scGW537EP6gWtuMlB9jUarXRrVTKZc TwZr3ux4CZqWO20y83FWjzNTuJAmiQMoaC6kQ= X-Google-DKIM-Signature: v=1; a=rsa-sha256; c=relaxed/relaxed; d=1e100.net; s=20230601; t=1762355151; x=1762959951; h=references:in-reply-to:cc:to:from:subject:message-id:date :x-gm-message-state:from:to:cc:subject:date:message-id:reply-to; bh=FjhCFUBE2UeNv3wEwF8GXN9EicXXs7C7JTMY4QaIOV0=; b=ApStXU7whv91lPN1eO3ey3dMqhnZNwyfRRii70huDjCxyqlSCgvkoQOUndopp8kB11 WZMjQfTUi3zI+9ScrNA0PMk/CTDPdarZ8x5fdFfF0bKo91LP8pTCaCRn5T9GTZfQ3ua4 WezWMyhzUtq7eaPc4LTfmmccImUb++Mt08QUk5Z16ve/Qae9wdN0nI7nrG9Xqq71wOG4 hkExFYVkTb/p0ggjFVzlGmOBz2IQc6gaeeBHR+c0mCCtUHQqR8/Zw6QYujUjKk9E41PS aEM1iqkao9hDRywDiUjjeqfH6Rf0uLFT4aH+d3IBo0kSTMAuroBr4OMjYPbBtMZEmwhu bqVQ== X-Gm-Message-State: AOJu0YzecJitRaLAZraQc4hDti5qvbaelyodCnAOC8GsFQPCQvz0O09X 9k1ITFRe761sbBD/svkrIAPkCNc2gr27RS1wQ9wXM3NHGPVVkrCAOkdByZUT5rqrlxJEKewtWQ7 b2tadarVUH1bQKFFkksLcYP/XWaw/hlbgfgRMYaR8/dPY7XXMrA7nZoFbnrvM X-Gm-Gg: ASbGncuDyA/QWb1VJMFyBiDucF/b249b7ePNbHZ5UxNrzzbn+v/FFf9MZAPdc4fTXQ+ p8Mt4ZjZD8CYam1fPj9dY/904UCdmvs1rYK9KMmpGlR8fPPEwXQg7Macp1g4kvx4LPtkJhch6gC bOFolQ/kGVNQcZK+UAhZy4AZbX5UPBm6MOJ+Tq3h8feSGztLxX8k3pwduvSE5RKl+AGh0npetox xv15G7Hs8xI0PPL2Ll8huF7lE6WF1UqnqQNQ/MpDZLgxO4Ia+b9NuftAnk+vZ2Qe7JJc+YWuXsO xbwG0jgV0DBqOOqMjmh8ZGeyV9s35vUuyh2tShNadXQjCSgqusSRjNW2myLwORZ0PAXDOZp0AEd yqq6dFsYt X-Google-Smtp-Source: AGHT+IGewNAJ8J8OuJ6c5DLh6n9Kk0h9ZV/0Yn/Wv1ob8MFADrpWnF2vGXzAC+7db66k9kCVHfcOhmM8UhWY X-Received: by 2002:a05:6830:6e8d:b0:7c6:c9d8:e5ce with SMTP id 46e09a7af769-7c6d148c486mr1528691a34.19.1762355150781; Wed, 05 Nov 2025 07:05:50 -0800 (PST) Received: from postal.iol.unh.edu (postal.iol.unh.edu. [2606:4100:3880:1234::84]) by smtp-relay.gmail.com with ESMTPS id 46e09a7af769-7c6c24d7148sm469482a34.4.2025.11.05.07.05.50 (version=TLS1_2 cipher=ECDHE-ECDSA-AES128-GCM-SHA256 bits=128/128); Wed, 05 Nov 2025 07:05:50 -0800 (PST) X-Relaying-Domain: iol.unh.edu Date: Wed, 05 Nov 2025 07:05:50 -0800 (PST) Message-ID: <690b67ce.050a0220.953ba.a44cSMTPIN_ADDED_MISSING@mx.google.com> Received: from [172.21.0.2] (unknown [172.18.0.240]) by postal.iol.unh.edu (Postfix) with ESMTP id 4E4EF6051830; Wed, 5 Nov 2025 10:05:50 -0500 (EST) Subject: |SUCCESS| pw158460 [PATCH] [v1] net/mlx5: fix indirect meter index l From: dpdklab@iol.unh.edu To: Test Report Cc: dpdk-test-reports@iol.unh.edu In-Reply-To: <20251105125433.468878-1-rongweil@nvidia.com> References: <20251105125433.468878-1-rongweil@nvidia.com> Content-Type: text/plain X-BeenThere: test-report@dpdk.org X-Mailman-Version: 2.1.29 Precedence: list List-Id: automatic DPDK test reports List-Unsubscribe: , List-Archive: List-Post: List-Help: List-Subscribe: , Errors-To: test-report-bounces@dpdk.org Test-Label: iol-compile-amd64-testing Test-Status: SUCCESS http://dpdk.org/patch/158460 _Testing PASS_ Submitter: Rongwei Liu Date: Wednesday, November 05 2025 12:54:33 DPDK git baseline: Repo:dpdk-next-net-mlx Branch: master CommitID:f1c1f82f2421be9ac2f46b4ec2a616ca28da4ca7 158460 --> testing pass Upstream job id: Windows-Compile-DPDK-VS#7432 Test environment and result as below: +-------------------------------+--------------------+------------------+-------------------+ | Environment | dpdk_meson_compile | dpdk_compile_ovs | dpdk_msvc_compile | +===============================+====================+==================+===================+ | FreeBSD 14.2 | PASS | SKIPPED | SKIPPED | +-------------------------------+--------------------+------------------+-------------------+ | Debian GNU/Linux 12 | PASS | SKIPPED | SKIPPED | +-------------------------------+--------------------+------------------+-------------------+ | CentOS Stream 10 | PASS | SKIPPED | SKIPPED | +-------------------------------+--------------------+------------------+-------------------+ | CentOS Stream 9 | PASS | SKIPPED | SKIPPED | +-------------------------------+--------------------+------------------+-------------------+ | Fedora Linux 42 | PASS | PASS | SKIPPED | +-------------------------------+--------------------+------------------+-------------------+ | Red Hat Enterprise Linux 8.10 | PASS | SKIPPED | SKIPPED | +-------------------------------+--------------------+------------------+-------------------+ | openSUSE Leap 15.6 | PASS | SKIPPED | SKIPPED | +-------------------------------+--------------------+------------------+-------------------+ | Ubuntu 20.04 | PASS | SKIPPED | SKIPPED | +-------------------------------+--------------------+------------------+-------------------+ | Ubuntu 24.04 | PASS | PASS | SKIPPED | +-------------------------------+--------------------+------------------+-------------------+ | Ubuntu 22.04 | PASS | SKIPPED | SKIPPED | +-------------------------------+--------------------+------------------+-------------------+ | Alpine Linux 3.22.0 | PASS | SKIPPED | SKIPPED | +-------------------------------+--------------------+------------------+-------------------+ | Red Hat Enterprise Linux 9.5 | PASS | SKIPPED | SKIPPED | +-------------------------------+--------------------+------------------+-------------------+ | Windows Server 2022 | SKIPPED | SKIPPED | PASS | +-------------------------------+--------------------+------------------+-------------------+ FreeBSD 14.2 Kernel: 14.2-RELEASE Compiler: clang 18.1.6 Debian GNU/Linux 12 Kernel: 5.15 Compiler: gcc gcc (Debian 12.2.0-14+deb12u1) 12.2.0 CentOS Stream 10 Kernel: 5.15 Compiler: gcc gcc (GCC) 14.2.1 20250110 (Red Hat 14.2.1-8) CentOS Stream 9 Kernel: 5.15 Compiler: gcc gcc (GCC) 11.5.0 20240719 (Red Hat 11.5.0-11) Fedora Linux 42 Kernel: 5.15 Compiler: clang gcc (GCC) 15.2.1 20250808 (Red Hat 15.2.1-1) Red Hat Enterprise Linux 8.10 Kernel: 5.15 Compiler: gcc gcc (GCC) 8.5.0 20210514 (Red Hat 8.5.0-22) openSUSE Leap 15.6 Kernel: 5.15 Compiler: gcc gcc (SUSE Linux) 7.5.0 Ubuntu 20.04 Kernel: 5.15 Compiler: gcc gcc (Ubuntu 9.4.0-1ubuntu1~20.04.2) 9.4.0 Ubuntu 24.04 Kernel: 5.15 Compiler: gcc gcc (Ubuntu 13.3.0-6ubuntu2~24.04) 13.3.0 Ubuntu 22.04 Kernel: 5.15 Compiler: gcc gcc (Ubuntu 11.4.0-1ubuntu1~22.04) 11.4.0 Alpine Linux 3.22.0 Kernel: 5.15 Compiler: gcc gcc (Alpine 14.2.0) 14.2.0 Red Hat Enterprise Linux 9.5 Kernel: 5.15 Compiler: gcc gcc (GCC) 11.5.0 20240719 (Red Hat 11.5.0-2) Windows Server 2022 Kernel: 10.0.20348.2031 Compiler: clang 15.0.7, gcc 14.1.0 (MinGW), and MSVC VS 19.39.33521 To view detailed results, visit: https://lab.dpdk.org/results/dashboard/patchsets/34473/ UNH-IOL DPDK Community Lab To manage your email subscriptions, visit: https://lab.dpdk.org/results/dashboard/preferences/subscriptions/