From mboxrd@z Thu Jan 1 00:00:00 1970 Return-Path: Received: from mails.dpdk.org (mails.dpdk.org [217.70.189.124]) by inbox.dpdk.org (Postfix) with ESMTP id 1685048A73 for ; Wed, 5 Nov 2025 16:14:34 +0100 (CET) Received: from mails.dpdk.org (localhost [127.0.0.1]) by mails.dpdk.org (Postfix) with ESMTP id 11BC34021F; Wed, 5 Nov 2025 16:14:34 +0100 (CET) Received: from mail-il1-f225.google.com (mail-il1-f225.google.com [209.85.166.225]) by mails.dpdk.org (Postfix) with ESMTP id F26014021F for ; Wed, 5 Nov 2025 16:14:32 +0100 (CET) Received: by mail-il1-f225.google.com with SMTP id e9e14a558f8ab-43320651e53so38040815ab.3 for ; Wed, 05 Nov 2025 07:14:32 -0800 (PST) DKIM-Signature: v=1; a=rsa-sha256; c=relaxed/relaxed; d=iol.unh.edu; s=unh-iol; t=1762355672; x=1762960472; darn=dpdk.org; h=references:in-reply-to:cc:to:from:subject:message-id:date:from:to :cc:subject:date:message-id:reply-to; bh=epxAiM/AuKADsqbZHRDMNA/Qtou4J6BlcL2aJVFHMzI=; b=b7oS+Lsp9TAiCHaWQFaTJSTMBXBF1LJMDCJaRMexLfXThc7PLQdMQq3ych/r1eD3cY RUzsY/uig53Uf0GnO5hahzL0Bppb1yAY2mAF6yiTspRS6G8qr5898nHLczQpuvdIFqsB DqFiShXTbAAUTHWJtb3ZLNSiCVXKlGppiBfaQ= X-Google-DKIM-Signature: v=1; a=rsa-sha256; c=relaxed/relaxed; d=1e100.net; s=20230601; t=1762355672; x=1762960472; h=references:in-reply-to:cc:to:from:subject:message-id:date :x-gm-message-state:from:to:cc:subject:date:message-id:reply-to; bh=epxAiM/AuKADsqbZHRDMNA/Qtou4J6BlcL2aJVFHMzI=; b=VQQW0a78gk+xrP8mt4/idmhyXXupYg3Ltm/G63Bu8DnJOu0AudXc2U3fuDUfO0LpBf vq+af7z3aun/DXHkdaScOpuRgb4neEg/e+za4/Ew9k5PTopoLJet1ZV9aYaLFOu9VtHS fTT2EObSo3ZgldhEkt9FKlnMXowMKEUCobTEQPCUkwHDRRwUk9nypHR2Ns4tnhKOUPCL ooiNgoMfCuGqpYokoVySaRTU7GvEUYX4kOr9NKX/ZcJFeUvCR3O8fT/xXX+Fsw+ThtOb nzeMktBzKyBWKdHXtf+7arECMcE/kNU09lrBt4dMl22NW1QtVxGNc6xw+lt0R0kI06hC i3gQ== X-Gm-Message-State: AOJu0YwchPhNE4ePUY4OW7b+//+jl2Kc1PS0ljU66ab0BTB9JcPSyWvZ tm0BYJ5NwuNB7rtd776viVDT+oXM3o/hTY2b062j5k0tSiGMVGDl+uzs4haTSFQg2YnvKCDyaXl Cw5QTDBi5Adz8NF+hp41E1X3QMLN83j6fANb41KOBiEuc X-Gm-Gg: ASbGnctjxdqZ0vq08wjIVIOOCsSE7DRolBgksE+YT5R5jiOP0DTB6XBRidcWdX1mNug cEF/MpxRi7buhF1WNqgvm/qQ05yYdz0W8goX083Vntm+FoLf1a+soIIRW7o1U6Y8WeU43VCr610 6tyDqKL0RWHRqcXwgRM13/HkcrPCIUHEC4DGMMgXyUiXJUKhmSTk4RwYSLtc9938n8FIxkPmlYh wXR30cwc7xyynhcuTk6aTLH6KwrJOpmaVheQPKZSS7gsqBikr6I8CHp0GoV/rm4m7JIKjZRLviq j9eM9sFRg3m/NlMBg83NbzTxMYD1EmnCMIMhbi4gzlrlLvrtLUnTSMnt4hOL3ufxjkZ4av67z9a ZbczxAKrVkrfi/GoV4cJGK2iMRdz3Sqc= X-Google-Smtp-Source: AGHT+IE162lU03rRwHWUwOCErGjZK6a58v6tT33CJ+i3c4Ziu8iwoD91Xx9aZvVE9AD4LWbAuQqzs0VIkKLZ X-Received: by 2002:a05:6e02:4416:20b0:433:4e9d:de8f with SMTP id e9e14a558f8ab-4334e9ddfb5mr499435ab.19.1762355672376; Wed, 05 Nov 2025 07:14:32 -0800 (PST) Received: from postal.iol.unh.edu (postal.iol.unh.edu. [132.177.123.84]) by smtp-relay.gmail.com with ESMTPS id e9e14a558f8ab-43335a9aed7sm5275685ab.11.2025.11.05.07.14.32 (version=TLS1_2 cipher=ECDHE-ECDSA-AES128-GCM-SHA256 bits=128/128); Wed, 05 Nov 2025 07:14:32 -0800 (PST) X-Relaying-Domain: iol.unh.edu Date: Wed, 05 Nov 2025 07:14:32 -0800 (PST) Message-ID: <690b69d8.050a0220.1c9ce.c7fdSMTPIN_ADDED_MISSING@mx.google.com> Received: from [172.21.0.2] (unknown [172.18.0.240]) by postal.iol.unh.edu (Postfix) with ESMTP id 0D6CF6051830; Wed, 5 Nov 2025 10:14:32 -0500 (EST) Subject: |SUCCESS| pw158460 [PATCH] [v1] net/mlx5: fix indirect meter index l From: dpdklab@iol.unh.edu To: Test Report Cc: dpdk-test-reports@iol.unh.edu In-Reply-To: <20251105125433.468878-1-rongweil@nvidia.com> References: <20251105125433.468878-1-rongweil@nvidia.com> Content-Type: text/plain X-BeenThere: test-report@dpdk.org X-Mailman-Version: 2.1.29 Precedence: list List-Id: automatic DPDK test reports List-Unsubscribe: , List-Archive: List-Post: List-Help: List-Subscribe: , Errors-To: test-report-bounces@dpdk.org Test-Label: iol-unit-amd64-testing Test-Status: SUCCESS http://dpdk.org/patch/158460 _Testing PASS_ Submitter: Rongwei Liu Date: Wednesday, November 05 2025 12:54:33 DPDK git baseline: Repo:dpdk-next-net-mlx Branch: master CommitID:f1c1f82f2421be9ac2f46b4ec2a616ca28da4ca7 158460 --> testing pass Upstream job id: Generic-VM-Unit-Test-DPDK#32313 Test environment and result as below: +-------------------------------+----------------+ | Environment | dpdk_unit_test | +===============================+================+ | Debian GNU/Linux 12 | PASS | +-------------------------------+----------------+ | CentOS Stream 10 | PASS | +-------------------------------+----------------+ | CentOS Stream 9 | PASS | +-------------------------------+----------------+ | Fedora Linux 41 | PASS | +-------------------------------+----------------+ | Ubuntu 22.04 | PASS | +-------------------------------+----------------+ | Fedora Linux 42 | PASS | +-------------------------------+----------------+ | Red Hat Enterprise Linux 8.10 | PASS | +-------------------------------+----------------+ | Fedora Linux 40 | PASS | +-------------------------------+----------------+ | Ubuntu 20.04 | PASS | +-------------------------------+----------------+ | Ubuntu 24.04 | PASS | +-------------------------------+----------------+ | Red Hat Enterprise Linux 9.5 | PASS | +-------------------------------+----------------+ | Windows Server 2022 | PASS | +-------------------------------+----------------+ Debian GNU/Linux 12 Kernel: 5.15 Compiler: gcc gcc (Debian 12.2.0-14+deb12u1) 12.2.0 CentOS Stream 10 Kernel: 5.15 Compiler: gcc gcc (GCC) 14.2.1 20250110 (Red Hat 14.2.1-8) CentOS Stream 9 Kernel: 5.15 Compiler: gcc gcc (GCC) 11.5.0 20240719 (Red Hat 11.5.0-11) Fedora Linux 41 Kernel: 5.15 Compiler: clang gcc (GCC) 14.3.1 20250523 (Red Hat 14.3.1-1) Ubuntu 22.04 Kernel: 5.15 Compiler: gcc gcc (Ubuntu 11.4.0-1ubuntu1~22.04) 11.4.0 Fedora Linux 42 Kernel: 5.15 Compiler: clang gcc (GCC) 15.2.1 20250808 (Red Hat 15.2.1-1) Red Hat Enterprise Linux 8.10 Kernel: 5.15 Compiler: gcc gcc (GCC) 8.5.0 20210514 (Red Hat 8.5.0-22) Fedora Linux 40 Kernel: 5.15 Compiler: gcc gcc (GCC) 14.2.1 20240912 (Red Hat 14.2.1-3) Ubuntu 20.04 Kernel: 5.15 Compiler: gcc gcc (Ubuntu 9.4.0-1ubuntu1~20.04.2) 9.4.0 Ubuntu 24.04 Kernel: 5.15 Compiler: gcc gcc (Ubuntu 13.3.0-6ubuntu2~24.04) 13.3.0 Red Hat Enterprise Linux 9.5 Kernel: 5.15 Compiler: gcc gcc (GCC) 11.5.0 20240719 (Red Hat 11.5.0-2) Windows Server 2022 Kernel: 10.0.20348.2031 Compiler: clang 15.0.7, gcc 14.1.0 (MinGW), and MSVC VS 19.39.33521 To view detailed results, visit: https://lab.dpdk.org/results/dashboard/patchsets/34473/ UNH-IOL DPDK Community Lab To manage your email subscriptions, visit: https://lab.dpdk.org/results/dashboard/preferences/subscriptions/