From mboxrd@z Thu Jan 1 00:00:00 1970 Return-Path: Received: from mails.dpdk.org (mails.dpdk.org [217.70.189.124]) by inbox.dpdk.org (Postfix) with ESMTP id BCC7C48A73 for ; Wed, 5 Nov 2025 16:20:30 +0100 (CET) Received: from mails.dpdk.org (localhost [127.0.0.1]) by mails.dpdk.org (Postfix) with ESMTP id B4DAB4021F; Wed, 5 Nov 2025 16:20:30 +0100 (CET) Received: from mail-pl1-f225.google.com (mail-pl1-f225.google.com [209.85.214.225]) by mails.dpdk.org (Postfix) with ESMTP id B3D054021F for ; Wed, 5 Nov 2025 16:20:29 +0100 (CET) Received: by mail-pl1-f225.google.com with SMTP id d9443c01a7336-2957850c63bso11138165ad.0 for ; Wed, 05 Nov 2025 07:20:29 -0800 (PST) DKIM-Signature: v=1; a=rsa-sha256; c=relaxed/relaxed; d=iol.unh.edu; s=unh-iol; t=1762356029; x=1762960829; darn=dpdk.org; h=references:in-reply-to:cc:to:from:subject:message-id:date:from:to :cc:subject:date:message-id:reply-to; bh=Vhxjhz24mbUXgz44AsC7G0tqdksHlUfRmYG6LDsiU+g=; b=GAfpgJR8Go8t+nzZ2J79VHND/mrYkdS3qBBRUT4TkRTu0bcE3f0NVWZLDQXlsp+W0u gYphq/YmxV1seXdI4ZIL4+qQX4i4uKMqPeMzPZaeC4s5zkQviy5ynCrWgubg+wlqaLZs I5gYC035eYH96Z6mJMJrS2K8+migJMp5SdJi4= X-Google-DKIM-Signature: v=1; a=rsa-sha256; c=relaxed/relaxed; d=1e100.net; s=20230601; t=1762356029; x=1762960829; h=references:in-reply-to:cc:to:from:subject:message-id:date :x-gm-message-state:from:to:cc:subject:date:message-id:reply-to; bh=Vhxjhz24mbUXgz44AsC7G0tqdksHlUfRmYG6LDsiU+g=; b=X+HyXtqC+W0SZpgMGhdnbYkH/iwnz+hf3vFp8MgnQrIARZ/q2HdPBLXvaEtzfB/CRq lR362oqEk0DfyrWpxeCq6NUayuun64himTt+oiMVvw/2D8OFc03x3l0Kx/o+39PJhIln BRKF28x99DA2rBcI+a8mpQtu22aYRR4qvboAO87BWcpZ/C70MMCyfEdPZMP977+/wjTV YcO4Z9Sm9ypjKXMSh9GSJqToP7heQjIAIkQpNpuwYODP6UpdvhtHMTk+C2JuG+pJIhCA ENYYQZQQBYp+pzIiuP7Nc8k6eZ8xdLVI/Bzg0UGtO4jnhhF1DXhlFFYBLgVxNlci7b+c aLOA== X-Gm-Message-State: AOJu0YzNirYYioIZnBwOzK7UvOUGrFnC/7E7e20WzDudofdlC7f8r/jV NsbkV/v32DtWn+o2K3ttibaqGtjJMLwfLfrZfMTJNkjuZQMC/P13TV21t/W/9kbfcURUFBAA3Us WxNk1/hV9S9IT/3nflRnz4ai/xp0E5DefoAFDLyKtveL8 X-Gm-Gg: ASbGncuUJC8Zcn9ltrv0t3brTTagb/krSHMZaUQ+0P3fB9WbQHLtrwTms487NOkQsdT 37fqEJMtf+R47m+7po3EoZcAQdHTi82wmJEj8eFcDMZk+eCqpGKw0c7sJyKWIVB4WrKfb/NJIwj 21mgFwUlqFtpZTd7+KsC/aH0QRL5YTxl9CuMrSBrQWvKO6gSW3YhtbtCVuVLzkVqQxzQq7sYwjc 8MKWB7xUW0ukrnh5UyCHZ0APhsD35A6C0FmHVlwjbq2btwPmldx3jb88+wHqkLOAycDc2+DIpjz OqrjNYtpMX3Pvbl3RNwjZ9Ilx9T+OwpLF2iiMmyQVm4VqIpcS5W9f0Lth2dmC2CJ2XqszFNR0pL iFwkeNE/TynKzRBxTVup2HYrDeA5ZE80= X-Google-Smtp-Source: AGHT+IFRuRmobOMKFMK4DzO/bTB2pChAos3YhuVmaykw7CLaDdXram5pKhg08YXXFJnPcbfhiBOlPg2+QVAI X-Received: by 2002:a17:902:f70d:b0:25b:e5a2:fb29 with SMTP id d9443c01a7336-2962ad2b68cmr46352815ad.12.1762356028628; Wed, 05 Nov 2025 07:20:28 -0800 (PST) Received: from postal.iol.unh.edu (postal.iol.unh.edu. [132.177.123.84]) by smtp-relay.gmail.com with ESMTPS id d9443c01a7336-29601999523sm5451385ad.28.2025.11.05.07.20.28 (version=TLS1_2 cipher=ECDHE-ECDSA-AES128-GCM-SHA256 bits=128/128); Wed, 05 Nov 2025 07:20:28 -0800 (PST) X-Relaying-Domain: iol.unh.edu Date: Wed, 05 Nov 2025 07:20:28 -0800 (PST) Message-ID: <690b6b3c.170a0220.2196ff.db4bSMTPIN_ADDED_MISSING@mx.google.com> Received: from [172.21.0.2] (unknown [172.18.0.240]) by postal.iol.unh.edu (Postfix) with ESMTP id D48CF6051830; Wed, 5 Nov 2025 10:20:27 -0500 (EST) Subject: |SUCCESS| pw158451-158452 [PATCH] [2/2] ci: add dependency in GHA fo From: dpdklab@iol.unh.edu To: Test Report Cc: dpdk-test-reports@iol.unh.edu In-Reply-To: <20251105084309.3851898-2-david.marchand@redhat.com> References: <20251105084309.3851898-2-david.marchand@redhat.com> Content-Type: text/plain X-BeenThere: test-report@dpdk.org X-Mailman-Version: 2.1.29 Precedence: list List-Id: automatic DPDK test reports List-Unsubscribe: , List-Archive: List-Post: List-Help: List-Subscribe: , Errors-To: test-report-bounces@dpdk.org Test-Label: iol-unit-arm64-testing Test-Status: SUCCESS http://dpdk.org/patch/158452 _Testing PASS_ Submitter: David Marchand Date: Wednesday, November 05 2025 08:43:09 DPDK git baseline: Repo:dpdk Branch: master CommitID:91bac7546b34fbcbc96ec7b3afa4bb2daa8accb9 158451-158452 --> testing pass Upstream job id: Generic-Unit-Test-DPDK#388789 Test environment and result as below: +------------------------------+----------------+--------------+---------------------------+------------------------------+ | Environment | dpdk_unit_test | lpm_autotest | cryptodev_sw_zuc_autotest | cryptodev_sw_snow3g_autotest | +==============================+================+==============+===========================+==============================+ | Fedora Linux 41 | PASS | SKIPPED | SKIPPED | SKIPPED | +------------------------------+----------------+--------------+---------------------------+------------------------------+ | Fedora Linux 42 | PASS | SKIPPED | SKIPPED | SKIPPED | +------------------------------+----------------+--------------+---------------------------+------------------------------+ | Fedora Linux 40 | PASS | SKIPPED | SKIPPED | SKIPPED | +------------------------------+----------------+--------------+---------------------------+------------------------------+ | CentOS Stream 9 | PASS | SKIPPED | SKIPPED | SKIPPED | +------------------------------+----------------+--------------+---------------------------+------------------------------+ | Ubuntu 24.04 | PASS | SKIPPED | SKIPPED | SKIPPED | +------------------------------+----------------+--------------+---------------------------+------------------------------+ | Red Hat Enterprise Linux 9.5 | PASS | SKIPPED | SKIPPED | SKIPPED | +------------------------------+----------------+--------------+---------------------------+------------------------------+ | Ubuntu 20.04 | PASS | PASS | SKIPPED | SKIPPED | +------------------------------+----------------+--------------+---------------------------+------------------------------+ | Debian GNU/Linux 12 | PASS | SKIPPED | SKIPPED | SKIPPED | +------------------------------+----------------+--------------+---------------------------+------------------------------+ | CentOS Stream 10 | PASS | SKIPPED | SKIPPED | SKIPPED | +------------------------------+----------------+--------------+---------------------------+------------------------------+ | Ubuntu 22.04 | PASS | SKIPPED | SKIPPED | SKIPPED | +------------------------------+----------------+--------------+---------------------------+------------------------------+ | Debian 12 (arm) | SKIPPED | SKIPPED | PASS | PASS | +------------------------------+----------------+--------------+---------------------------+------------------------------+ Fedora Linux 41 Kernel: 5.4 Compiler: clang gcc (GCC) 14.3.1 20250523 (Red Hat 14.3.1-1) Fedora Linux 42 Kernel: 5.4 Compiler: clang gcc (GCC) 15.2.1 20250808 (Red Hat 15.2.1-1) Fedora Linux 40 Kernel: 5.4 Compiler: gcc gcc (GCC) 14.2.1 20240912 (Red Hat 14.2.1-3) CentOS Stream 9 Kernel: 5.4 Compiler: gcc gcc (GCC) 11.5.0 20240719 (Red Hat 11.5.0-11) Ubuntu 24.04 Kernel: 5.4 Compiler: gcc gcc (Ubuntu 13.3.0-6ubuntu2~24.04) 13.3.0 Red Hat Enterprise Linux 9.5 Kernel: 5.4 Compiler: gcc gcc (GCC) 11.5.0 20240719 (Red Hat 11.5.0-2) Ubuntu 20.04 Kernel: 5.4 Compiler: gcc gcc (Ubuntu 9.4.0-1ubuntu1~20.04.2) 9.4.0 Debian GNU/Linux 12 Kernel: 5.4 Compiler: gcc gcc (Debian 12.2.0-14+deb12u1) 12.2.0 CentOS Stream 10 Kernel: 5.4 Compiler: gcc gcc (GCC) 14.2.1 20250110 (Red Hat 14.2.1-8) Ubuntu 22.04 Kernel: 5.4 Compiler: gcc gcc (Ubuntu 11.4.0-1ubuntu1~22.04) 11.4.0 Debian 12 (arm) Kernel: Depends on container host Compiler: gcc (Debian 12.2.0-14) 12.2.0 To view detailed results, visit: https://lab.dpdk.org/results/dashboard/patchsets/34468/ UNH-IOL DPDK Community Lab To manage your email subscriptions, visit: https://lab.dpdk.org/results/dashboard/preferences/subscriptions/