From mboxrd@z Thu Jan 1 00:00:00 1970 Return-Path: Received: from mails.dpdk.org (mails.dpdk.org [217.70.189.124]) by inbox.dpdk.org (Postfix) with ESMTP id 391EA48A73 for ; Wed, 5 Nov 2025 16:28:45 +0100 (CET) Received: from mails.dpdk.org (localhost [127.0.0.1]) by mails.dpdk.org (Postfix) with ESMTP id 33D9F40A79; Wed, 5 Nov 2025 16:28:45 +0100 (CET) Received: from mail-ot1-f99.google.com (mail-ot1-f99.google.com [209.85.210.99]) by mails.dpdk.org (Postfix) with ESMTP id 8DA7940A79 for ; Wed, 5 Nov 2025 16:28:42 +0100 (CET) Received: by mail-ot1-f99.google.com with SMTP id 46e09a7af769-7c6d3676455so286664a34.2 for ; Wed, 05 Nov 2025 07:28:42 -0800 (PST) DKIM-Signature: v=1; a=rsa-sha256; c=relaxed/relaxed; d=iol.unh.edu; s=unh-iol; t=1762356522; x=1762961322; darn=dpdk.org; h=references:in-reply-to:cc:to:from:subject:message-id:date:from:to :cc:subject:date:message-id:reply-to; bh=KvJmv867xElUFT8YeZqtyzPjtqapDsTAfXyRL40jBPU=; b=DdGoLElRX6yIkbLtIqIz63oio9meth6fqL8M6e9hedIOfwad2T863Rn2maiKtrar6F gZFi2Bz/jmV1MuiLz3wdcNRoC9by+pyXNz2wwLIyehcNl9KbAG3SAVqlKlWlE8uFq6o3 BaFBkJNjvQ9eUjvHkuWI/b9xhg2sVOk1O7nlE= X-Google-DKIM-Signature: v=1; a=rsa-sha256; c=relaxed/relaxed; d=1e100.net; s=20230601; t=1762356522; x=1762961322; h=references:in-reply-to:cc:to:from:subject:message-id:date :x-gm-message-state:from:to:cc:subject:date:message-id:reply-to; bh=KvJmv867xElUFT8YeZqtyzPjtqapDsTAfXyRL40jBPU=; b=b7MzsZ0D7q+vLDY7Ky6RmvdHtIsQAhAQCd/znRDw0iy/n+Vlm4sDPhazEnBz7hClwO W2VyGPLu8agXaKTs+JzyKZ+bC1r7kElt/pXFHH+GUWBwqKnCjdo/q67WvQ5InBMIoEBz Sc8/OMh3fkswd2s5T7IUEfOYkudf6+2C6+1aHh6bJHScFoMYOEJPSZ9q55S0fYBnJ1mk ZH7Nzda1AdLETkTzjfnexFtkI47eLTila53rgR8xzcNl2UB5zDnaKCZFZY16eF5h6/4F q3GhAj13KPrzoDjkXVJMkotZmv7Yn4uH/8AmKInC7ZFekESp1P//xdaoco4nbhNebiV7 tsoQ== X-Gm-Message-State: AOJu0Yyb3DpEEMwHPyTGDYokw/fnyIrdLEnBOcyvDho2VnXblRo6/vlC mYQ1+i8ykvvOf/O4RQNTwNnyx0OoVVhKN3X7bTd2dvriZCSu6cv11U2CrPj85d5U5Eexs/WaRRu puGphtJ47dqM0BzZf8CZbdTBs3TSEwzYotoXRPoh4wx5o X-Gm-Gg: ASbGnctQ401mFaJDkhkaT352rClTOLijIMcnya4NBNB2xRHw1MUPxrASQ12FNRoCK0k pbThkn+FnbTN29EM9RP332EDu+GYKP7PNzrvjF0ApqlvFA3ouNh7Zyarz0MmKFK3WjaEZwAEvSf +r8QU/7xKLPjUW9NF9DX/+uaF4udnv30bFktFCApQyNlm0G8MVF9Os9AtTmcqvJfn7nNZ6aWHuG mAOHKOllM+4v3Vvm4gWnP5v1Fr5zSoyCvoTrz/vjm+rPZu6SFPHoX2V7MMvj3Fajbo4raWo7Ui0 6oFEBLP5dctTJp9lHE7zGyg3RDe8UQS8q22I2/KZIz0zNJ8jSXaLAzSemmochKtC31xv7AWA3cl QH4myIbdMyNjDSdZl8lGT3uVH7q9cE5I= X-Google-Smtp-Source: AGHT+IH2SdLNO2uCfAy73okAiKFbOPUztTgWneMBgpAT2ecV2/MDhz/UuS9hc+2iUdsd9Lc4egcVsw4ze3cB X-Received: by 2002:a05:6830:34a4:b0:78a:e6ee:a5e8 with SMTP id 46e09a7af769-7c6d13ec9b2mr2504030a34.8.1762356520167; Wed, 05 Nov 2025 07:28:40 -0800 (PST) Received: from postal.iol.unh.edu (postal.iol.unh.edu. [132.177.123.84]) by smtp-relay.gmail.com with ESMTPS id 46e09a7af769-7c6d04f86d6sm254772a34.5.2025.11.05.07.28.40 (version=TLS1_2 cipher=ECDHE-ECDSA-AES128-GCM-SHA256 bits=128/128); Wed, 05 Nov 2025 07:28:40 -0800 (PST) X-Relaying-Domain: iol.unh.edu Date: Wed, 05 Nov 2025 07:28:40 -0800 (PST) Message-ID: <690b6d28.050a0220.1e796e.d8eeSMTPIN_ADDED_MISSING@mx.google.com> Received: from [172.21.0.2] (unknown [172.18.0.240]) by postal.iol.unh.edu (Postfix) with ESMTP id AC55A6050A61; Wed, 5 Nov 2025 10:28:39 -0500 (EST) Subject: |SUCCESS| pw158451-158452 [PATCH] [2/2] ci: add dependency in GHA fo From: dpdklab@iol.unh.edu To: Test Report Cc: dpdk-test-reports@iol.unh.edu In-Reply-To: <20251105084309.3851898-2-david.marchand@redhat.com> References: <20251105084309.3851898-2-david.marchand@redhat.com> Content-Type: text/plain X-BeenThere: test-report@dpdk.org X-Mailman-Version: 2.1.29 Precedence: list List-Id: automatic DPDK test reports List-Unsubscribe: , List-Archive: List-Post: List-Help: List-Subscribe: , Errors-To: test-report-bounces@dpdk.org Test-Label: iol-compile-arm64-testing Test-Status: SUCCESS http://dpdk.org/patch/158452 _Testing PASS_ Submitter: David Marchand Date: Wednesday, November 05 2025 08:43:09 DPDK git baseline: Repo:dpdk Branch: master CommitID:91bac7546b34fbcbc96ec7b3afa4bb2daa8accb9 158451-158452 --> testing pass Upstream job id: Generic-DPDK-Compile-Meson#440964 Test environment and result as below: +------------------------------+--------------------+ | Environment | dpdk_meson_compile | +==============================+====================+ | Ubuntu 20.04 | PASS | +------------------------------+--------------------+ | Debian GNU/Linux 12 | PASS | +------------------------------+--------------------+ | Red Hat Enterprise Linux 9.5 | PASS | +------------------------------+--------------------+ | Ubuntu 24.04 | PASS | +------------------------------+--------------------+ | Fedora Linux 42 | PASS | +------------------------------+--------------------+ | Ubuntu 22.04 | PASS | +------------------------------+--------------------+ | CentOS Stream 9 | PASS | +------------------------------+--------------------+ | CentOS Stream 10 | PASS | +------------------------------+--------------------+ Ubuntu 20.04 Kernel: 5.15 Compiler: aarch64-linux-gnu-gcc gcc (Ubuntu 9.4.0-1ubuntu1~20.04.2) 9.4.0 Debian GNU/Linux 12 Kernel: 5.4 Compiler: gcc gcc (Debian 12.2.0-14+deb12u1) 12.2.0 Red Hat Enterprise Linux 9.5 Kernel: 5.4 Compiler: gcc gcc (GCC) 11.5.0 20240719 (Red Hat 11.5.0-2) Ubuntu 24.04 Kernel: 5.4 Compiler: gcc gcc (Ubuntu 13.3.0-6ubuntu2~24.04) 13.3.0 Fedora Linux 42 Kernel: 5.4 Compiler: clang gcc (GCC) 15.2.1 20250808 (Red Hat 15.2.1-1) Ubuntu 22.04 Kernel: 5.4 Compiler: gcc gcc (Ubuntu 11.4.0-1ubuntu1~22.04) 11.4.0 CentOS Stream 9 Kernel: 5.4 Compiler: gcc gcc (GCC) 11.5.0 20240719 (Red Hat 11.5.0-11) CentOS Stream 10 Kernel: 5.4 Compiler: gcc gcc (GCC) 14.2.1 20250110 (Red Hat 14.2.1-8) To view detailed results, visit: https://lab.dpdk.org/results/dashboard/patchsets/34468/ UNH-IOL DPDK Community Lab To manage your email subscriptions, visit: https://lab.dpdk.org/results/dashboard/preferences/subscriptions/